Workbook

Sheet Satokasvi
B2: Satokasvi
B4: Katetuottolaskelma | G4: Satotason vaihteluun liittyvät valinnat
C5: Määrä | D5: Hinta | E5: Summa | G5: Satotason satunnaisvaihtelu
B6: Tuotot | G6: Keskimääräinen sato | H6: 2500
B7: Ennustettu myyntituotto | C7: =H6 -> 2500 | D7: =H11/1000 -> 0.2 | E7: =C7*D7 -> 500 | G7: Keskimääräinen vaihtelu | H7: 250
B8: Tuet | E8: 400 | G8: Normaalijakauman parametrit (μ, σ) | H8: =H6 -> 2500 | I8: =H7 -> 250
G10: Hintojen satunnaisvaihtelu
G11: Keskimääräinen hinta | H11: 200
B12: Yhteensä | E12: =SUM(E7:E11) -> 900 | G12: Keskimääräinen vaihtelu | H12: 50
G13: Normaalijakauman parametrit (μ, σ) | H13: =H11 -> 200 | I13: =H12 -> 50
B14: Kustannukset
B15: Siemen | E15: 115 | G15: Sadon epäonnistumisen todennäköisyys | H15: 0.25
B16: Lannoitus | E16: 284
B17: Kasvinsojelu | E17: 37
B18: Muut | E18: 169
B19: Konekustannus | E19: 255
B20: Työ | C20: 10 | D20: 16.5 | E20: =C20*D20 -> 165
B21: Kiinteät ja työ | E21: 641
B26: Yhteensä | E26: =500+E20 -> 665
B28: Katetuotto | E28: =E12-E26 -> 235

Sheet Toimenpiteet
B2: Maan kasvukunnon parantamiseen tähtäävät toimenpiteet
B5: Kevennetty muokkaus tai suorakylvö
B6: Vaikutus satoon
B7: Välitön vaikutus satoon | C7: -0.03
B8: Pitkäaikainen vaikutus keskisatoon | C8: 0
B9: Vaikutus epäonnistumisen todennäköisyyteen | C9: 0
B10: Pitkä aikaväli | C10: 5
C12: Määrä tai muutosprosentti | D12: Hinta | E12: Summa
B13: Tuotot
B18: Yhteensä | E18: =SUM(E5:E17) -> 0
B20: Kustannukset
B21: Työmenekin muutos | C21: -0.5 | D21: 16.5 | E21: =C21*D21 -> -8.25
B22: Polttoainekustannuksen muutos | C22: -17.5 | D22: 1.5 | E22: =C22*D22 -> -26.25
B27: Yhteensä | E27: =SUM(E21:E23) -> -34.5
B29: Kustannusvaikutus | E29: =E18-E27 -> 34.5
B32: Alus- ja kerääjäkasvit
B33: Vaikutus satoon
B34: Välitön vaikutus satoon | C34: -0.1
B35: Pitkäaikainen vaikutus keskisatoon | C35: 0.005
B36: Vaikutus epäonnistumisen todennäköisyyteen | C36: 0
B37: Pitkä aikaväli | C37: 5
C39: Määrä tai muutosprosentti | D39: Hinta | E39: Summa
B40: Tuotot
B41: Tuet | E41: 130
B45: Yhteensä | E45: =SUM(E32:E44) -> 130
B47: Kustannukset
B48: Siemenkustannus | E48: 50
B49: Lannoituskustannuksen muutos | C49: -0.3 | E49: =Satokasvi!E16*C49 -> -85.2
B58: Yhteensä | E58: =SUM(E48:E57) -> -35.2
B60: Kustannusvaikutus | E60: =E45-E58 -> 165.2
B63: Lannanlevitys / Orgaaninen lannoite / Maanparannusaine
B64: Vaikutus satoon
B65: Pitkäaikainen vaikutus satotasoon | C65: 0.02
B66: Vaikutus epäonnistumisen todennäköisyyteen | C66: 0
B67: Pitkä aikaväli | C67: 10
C69: Määrä tai muutosprosentti | D69: Hinta | E69: Summa
B70: Tuotot
B71: Lannoituskustannuksen muutos | C71: 0.25 | E71: =C71*Satokasvi!E16 -> 71
B72: Tuet | E72: 35
B76: Yhteensä | E76: =SUM(E62:E75) -> 106
B78: Kustannukset
B79: Hinta levitettynä | E79: 350
B86: Yhteensä | E86: =SUM(E79:E85) -> 350
B88: Kustannusvaikutus | E88: =E76-E86 -> -244
B91: Viherlannoitus / Maanparannus- ja saneerauskasvit
B92: Vaikutus satoon
B93: Pitkäaikainen vaikutus keskisatoon | C93: 0
B94: Vaikutus epäonnistumisen todennäköisyyteen | C94: 0
B95: Pitkä aikaväli | C95: 5
C97: Määrä tai muutosprosentti | D97: Hinta | E97: Summa
B98: Tuotot
B99: Tuet | E99: 480
B104: Yhteensä | E104: =SUM(E91:E103) -> 480
B106: Kustannukset
C107: 0.25 | D107: =Satokasvi!E26 -> 665 | E107: =C107*D107 -> 166.25
B113: Yhteensä | E113: =SUM(E107:E112) -> 166.25
B115: Kustannusvaikutus | E115: =E104-E113 -> 313.75

Sheet Simulointi
B2: Katetuottojen simulointi
AC3: Kumulatiiviset sadot (1000 kg) ja katetuotot (€) vuosittain | BD3: Simuloidut katetuotot | BH3: Vaikutuskertoimien vaikutus katetuottoon
B4: Toimenpiteiden ja korkokannan valinta | AD4: Vuosi | BD4: Katetuotto | BE4: Katetuotto yhteensä (ei toimenpiteitä) | BF4: Katetuotto yhteensä (toimenpiteitä tehty) | BH4: Vertailtavat lyhyen aikavälin kertoimet
C5: Vuosi | AD5: 1 | AE5: 2 | AF5: 3 | AG5: 4 | AH5: 5 | AI5: 6 | AJ5: 7 | AK5: 8 | AL5: 9 | AM5: 10 | AN5: 11 | AO5: 12 | AP5: 13 | AQ5: 14 | AR5: 15 | AS5: 16 | AT5: 17 | AU5: 18 | AV5: 19 | AW5: 20 | AX5: 21 | AY5: 22 | AZ5: 23 | BA5: 24 | BB5: 25 | BD5: =BD6-(MAX($HB$62:$HC$161)-MIN($HB$62:$HC$161))/9 -> -983.80154 | BE5: =IF((COUNTIF($HB$62:$HB$161,">="&BD5)-COUNTIF($HB$62:$HB$161,">="&BD6))/100>0,(COUNTIF($HB$62:$HB$161,">="&BD5)-COUNTIF($HB$62:$HB$161,">="&BD6))/100,0) -> 0 | BF5: =IF((COUNTIF($HC$62:$HC$161,">="&BD5)-COUNTIF($HC$62:$HC$161,">="&BD6))/100>0,(COUNTIF($HC$62:$HC$161,">="&BD5)-COUNTIF($HC$62:$HC$161,">="&BD6))/100,0) -> 0 | BH5: Pienin avo | BI5: -0.5
C6: 1 | D6: 2 | E6: 3 | F6: 4 | G6: 5 | H6: 6 | I6: 7 | J6: 8 | K6: 9 | L6: 10 | M6: 11 | N6: 12 | O6: 13 | P6: 14 | Q6: 15 | R6: 16 | S6: 17 | T6: 18 | U6: 19 | V6: 20 | W6: 21 | X6: 22 | Y6: 23 | Z6: 24 | AA6: 25 | AC6: Sato (ei toimenpiteitä) | AD6: =AVERAGE(AB62:AB161)/1000 -> 1.8650756 | AE6: =AVERAGE(AC62:AC161)/1000+AD6 -> 3.8653306 | AF6: =AVERAGE(AD62:AD161)/1000+AE6 -> 5.6356144 | AG6: =AVERAGE(AE62:AE161)/1000+AF6 -> 7.7102505 | AH6: =AVERAGE(AF62:AF161)/1000+AG6 -> 9.6618006 | AI6: =AVERAGE(AG62:AG161)/1000+AH6 -> 11.628229 | AJ6: =AVERAGE(AH62:AH161)/1000+AI6 -> 13.568508 | AK6: =AVERAGE(AI62:AI161)/1000+AJ6 -> 15.488621 | AL6: =AVERAGE(AJ62:AJ161)/1000+AK6 -> 17.230286 | ... BB6: =AVERAGE(AZ62:AZ161)/1000+BA6 -> 48.55142 | BD6: =MIN($HB$62:$HC$161) -> -734.05834 | BE6: =IF((COUNTIF($HB$62:$HB$161,">="&BD6)-COUNTIF($HB$62:$HB$161,">="&BD7))/100>0,(COUNTIF($HB$62:$HB$161,">="&BD6)-COUNTIF($HB$62:$HB$161,">="&BD7))/100,0) -> 0.02 | BF6: =IF((COUNTIF($HC$62:$HC$161,">="&BD6)-COUNTIF($HC$62:$HC$161,">="&BD7))/100>0,(COUNTIF($HC$62:$HC$161,">="&BD6)-COUNTIF($HC$62:$HC$161,">="&BD7))/100,0) -> 0.02 | BH6: Suurin arvo | BI6: 0.5
B7: Toimenpiteet | AC7: Sato (toimenpiteitä tehty) | AD7: =AVERAGE(BB62:BB161)/1000 -> 1.8650756 | AE7: =AVERAGE(BC62:BC161)/1000+AD7 -> 3.8653306 | AF7: =AVERAGE(BD62:BD161)/1000+AE7 -> 5.6356144 | AG7: =AVERAGE(BE62:BE161)/1000+AF7 -> 7.7102505 | AH7: =AVERAGE(BF62:BF161)/1000+AG7 -> 9.6618006 | AI7: =AVERAGE(BG62:BG161)/1000+AH7 -> 11.628229 | AJ7: =AVERAGE(BH62:BH161)/1000+AI7 -> 13.568508 | AK7: =AVERAGE(BI62:BI161)/1000+AJ7 -> 15.488621 | AL7: =AVERAGE(BJ62:BJ161)/1000+AK7 -> 17.230286 | ... BB7: =AVERAGE(BZ62:BZ161)/1000+BA7 -> 48.55142 | BD7: =BD6+(MAX($HB$62:$HC$161)-MIN($HB$62:$HC$161))/9 -> -484.31513 | BE7: =IF((COUNTIF($HB$62:$HB$161,">="&BD7)-COUNTIF($HB$62:$HB$161,">="&BD8))/100>0,(COUNTIF($HB$62:$HB$161,">="&BD7)-COUNTIF($HB$62:$HB$161,">="&BD8))/100,0) -> 0.05 | BF7: =IF((COUNTIF($HC$62:$HC$161,">="&BD7)-COUNTIF($HC$62:$HC$161,">="&BD8))/100>0,(COUNTIF($HC$62:$HC$161,">="&BD7)-COUNTIF($HC$62:$HC$161,">="&BD8))/100,0) -> 0.05
B8: Kevennetty muokkaus tai suorakylvö | AC8: Katetuotto (ei toimenpiteitä) | AD8: =AVERAGE(DB62:DB161) -> 108.52776 | AE8: =AVERAGE(DC62:DC161)+AD8 -> 248.83662 | AF8: =AVERAGE(DD62:DD161)+AE8 -> 314.79291 | AG8: =AVERAGE(DE62:DE161)+AF8 -> 434.02282 | AH8: =AVERAGE(DF62:DF161)+AG8 -> 549.47104 | AI8: =AVERAGE(DG62:DG161)+AH8 -> 661.81713 | AJ8: =AVERAGE(DH62:DH161)+AI8 -> 748.63871 | AK8: =AVERAGE(DI62:DI161)+AJ8 -> 828.65455 | AL8: =AVERAGE(DJ62:DJ161)+AK8 -> 892.92161 | ... BB8: =AVERAGE(DZ62:DZ161)+BA8 -> 2110.7713 | BD8: =BD7+(MAX($HB$62:$HC$161)-MIN($HB$62:$HC$161))/9 -> -234.57193 | BE8: =IF((COUNTIF($HB$62:$HB$161,">="&BD8)-COUNTIF($HB$62:$HB$161,">="&BD9))/100>0,(COUNTIF($HB$62:$HB$161,">="&BD8)-COUNTIF($HB$62:$HB$161,">="&BD9))/100,0) -> 0.06 | BF8: =IF((COUNTIF($HC$62:$HC$161,">="&BD8)-COUNTIF($HC$62:$HC$161,">="&BD9))/100>0,(COUNTIF($HC$62:$HC$161,">="&BD8)-COUNTIF($HC$62:$HC$161,">="&BD9))/100,0) -> 0.06 | BH8: Vertailtavat pitkän aikavälin kertoimet
B9: Alus- ja kerääjäkasvit | AC9: Katetuotto (toimenpiteitä tehty) | AD9: =AVERAGE(EB62:EB161) -> 108.52776 | AE9: =AVERAGE(EC62:EC161)+AD9 -> 248.83662 | AF9: =AVERAGE(ED62:ED161)+AE9 -> 314.79291 | AG9: =AVERAGE(EE62:EE161)+AF9 -> 434.02282 | AH9: =AVERAGE(EF62:EF161)+AG9 -> 549.47104 | AI9: =AVERAGE(EG62:EG161)+AH9 -> 661.81713 | AJ9: =AVERAGE(EH62:EH161)+AI9 -> 748.63871 | AK9: =AVERAGE(EI62:EI161)+AJ9 -> 828.65455 | AL9: =AVERAGE(EJ62:EJ161)+AK9 -> 892.92161 | ... BB9: =AVERAGE(EZ62:EZ161)+BA9 -> 2110.7713 | BD9: =BD8+(MAX($HB$62:$HC$161)-MIN($HB$62:$HC$161))/9 -> 15.171278 | BE9: =IF((COUNTIF($HB$62:$HB$161,">="&BD9)-COUNTIF($HB$62:$HB$161,">="&BD10))/100>0,(COUNTIF($HB$62:$HB$161,">="&BD9)-COUNTIF($HB$62:$HB$161,">="&BD10))/100,0) -> 0.16 | BF9: =IF((COUNTIF($HC$62:$HC$161,">="&BD9)-COUNTIF($HC$62:$HC$161,">="&BD10))/100>0,(COUNTIF($HC$62:$HC$161,">="&BD9)-COUNTIF($HC$62:$HC$161,">="&BD10))/100,0) -> 0.16 | BH9: Pitkä aikaväli | BI9: 10
B10: Lannanlevitys / Orgaaninen lannoite / Maanparannuskuitu | BD10: =BD9+(MAX($HB$62:$HC$161)-MIN($HB$62:$HC$161))/9 -> 264.91448 | BE10: =IF((COUNTIF($HB$62:$HB$161,">="&BD10)-COUNTIF($HB$62:$HB$161,">="&BD11))/100>0,(COUNTIF($HB$62:$HB$161,">="&BD10)-COUNTIF($HB$62:$HB$161,">="&BD11))/100,0) -> 0.14 | BF10: =IF((COUNTIF($HC$62:$HC$161,">="&BD10)-COUNTIF($HC$62:$HC$161,">="&BD11))/100>0,(COUNTIF($HC$62:$HC$161,">="&BD10)-COUNTIF($HC$62:$HC$161,">="&BD11))/100,0) -> 0.14 | BH10: Pienin avo | BI10: -0.1
B11: Viherlannoitus / Maanparannus- ja saneerauskasvit | BD11: =BD10+(MAX($HB$62:$HC$161)-MIN($HB$62:$HC$161))/9 -> 514.65769 | BE11: =IF((COUNTIF($HB$62:$HB$161,">="&BD11)-COUNTIF($HB$62:$HB$161,">="&BD12))/100>0,(COUNTIF($HB$62:$HB$161,">="&BD11)-COUNTIF($HB$62:$HB$161,">="&BD12))/100,0) -> 0.22 | BF11: =IF((COUNTIF($HC$62:$HC$161,">="&BD11)-COUNTIF($HC$62:$HC$161,">="&BD12))/100>0,(COUNTIF($HC$62:$HC$161,">="&BD11)-COUNTIF($HC$62:$HC$161,">="&BD12))/100,0) -> 0.22 | BH11: Suurin arvo | BI11: 0.1
BD12: =BD11+(MAX($HB$62:$HC$161)-MIN($HB$62:$HC$161))/9 -> 764.40089 | BE12: =IF((COUNTIF($HB$62:$HB$161,">="&BD12)-COUNTIF($HB$62:$HB$161,">="&BD13))/100>0,(COUNTIF($HB$62:$HB$161,">="&BD12)-COUNTIF($HB$62:$HB$161,">="&BD13))/100,0) -> 0.17 | BF12: =IF((COUNTIF($HC$62:$HC$161,">="&BD12)-COUNTIF($HC$62:$HC$161,">="&BD13))/100>0,(COUNTIF($HC$62:$HC$161,">="&BD12)-COUNTIF($HC$62:$HC$161,">="&BD13))/100,0) -> 0.17
B13: Laskentakorko | C13: 0.03 | BD13: =BD12+(MAX($HB$62:$HC$161)-MIN($HB$62:$HC$161))/9 -> 1014.1441 | BE13: =IF((COUNTIF($HB$62:$HB$161,">="&BD13)-COUNTIF($HB$62:$HB$161,">="&BD14))/100>0,(COUNTIF($HB$62:$HB$161,">="&BD13)-COUNTIF($HB$62:$HB$161,">="&BD14))/100,0) -> 0.1 | BF13: =IF((COUNTIF($HC$62:$HC$161,">="&BD13)-COUNTIF($HC$62:$HC$161,">="&BD14))/100>0,(COUNTIF($HC$62:$HC$161,">="&BD13)-COUNTIF($HC$62:$HC$161,">="&BD14))/100,0) -> 0.1 | BH13: Tarkastelujakso (vuotta): | BI13: 10
BD14: =BD13+(MAX($HB$62:$HC$161)-MIN($HB$62:$HC$161))/9 -> 1263.8873 | BE14: =IF((COUNTIF($HB$62:$HB$161,">="&BD14)-COUNTIF($HB$62:$HB$161,">="&BD15))/100>0,(COUNTIF($HB$62:$HB$161,">="&BD14)-COUNTIF($HB$62:$HB$161,">="&BD15))/100,0) -> 0.07 | BF14: =IF((COUNTIF($HC$62:$HC$161,">="&BD14)-COUNTIF($HC$62:$HC$161,">="&BD15))/100>0,(COUNTIF($HC$62:$HC$161,">="&BD14)-COUNTIF($HC$62:$HC$161,">="&BD15))/100,0) -> 0.07
BD15: =MAX($HB$62:$HC$161) -> 1513.6305 | BE15: =IF((COUNTIF($HB$62:$HB$161,">="&BD15)-COUNTIF($HB$62:$HB$161,">="&BD16))/100>0,(COUNTIF($HB$62:$HB$161,">="&BD15)-COUNTIF($HB$62:$HB$161,">="&BD16))/100,0) -> 0.01 | BF15: =IF((COUNTIF($HC$62:$HC$161,">="&BD15)-COUNTIF($HC$62:$HC$161,">="&BD16))/100>0,(COUNTIF($HC$62:$HC$161,">="&BD15)-COUNTIF($HC$62:$HC$161,">="&BD16))/100,0) -> 0.01 | BH15: Odotettu katetuotto yhteensä (ei toimenpiteitä) | BI15: =_xlfn.XLOOKUP($BI$13,$IH$61:$JF$61,IH62:JF62) -> 2004.5977
BD16: =BD15+(MAX($HB$62:$HC$161)-MIN($HB$62:$HC$161))/9 -> 1763.3737 | BE16: =COUNTIF($HB$62:$HB$161,">"&BD16) -> 0 | BF16: =COUNTIF($HC$62:$HC$161,">"&BD16) -> 0
B17: Pitkän aikavälin vaikutukset | BH17: Odotettu katetuotto yhteensä (toimenpiteitä tehty)
C18: Vuosi | BD18: Tarkastelujakso (vuotta): | BE18: 5 | BJ18: Välitön vaikutus satotasoon
C19: 1 | D19: 2 | E19: 3 | F19: 4 | G19: 5 | H19: 6 | I19: 7 | J19: 8 | K19: 9 | L19: 10 | M19: 11 | N19: 12 | O19: 13 | P19: 14 | Q19: 15 | R19: 16 | S19: 17 | T19: 18 | U19: 19 | V19: 20 | W19: 21 | X19: 22 | Y19: 23 | Z19: 24 | AA19: 25 | BD19: Kannattavuuden todennäköisyys: | BE19: =COUNTIF($HD$62:$HD$161,1)/COUNT($HD$62:$HD$161) -> 0 | BJ19: =HF80 -> -0.5 | BK19: =HF90 -> -0.38888889 | BL19: =HF100 -> -0.27777778 | BM19: =HF110 -> -0.16666667 | BN19: =HF120 -> -0.055555556 | BO19: =HF130 -> 0.055555556 | BP19: =HF140 -> 0.16666667 | BQ19: =HF150 -> 0.27777778 | BR19: =HF160 -> 0.38888889 | BS19: =HF170 -> 0.5
BH20: Pitkäaikainen vaikutus satotasoon | BI20: =HG67 -> -0.1 | BJ20: =_xlfn.XLOOKUP($BI$13,$IH$61:$JF$61,IH183:JF183) -> -240.05052 | BK20: =_xlfn.XLOOKUP($BI$13,$IH$61:$JF$61,IH193:JF193) -> 208.93908 | BL20: =_xlfn.XLOOKUP($BI$13,$IH$61:$JF$61,IH203:JF203) -> 657.92869 | BM20: =_xlfn.XLOOKUP($BI$13,$IH$61:$JF$61,IH213:JF213) -> 1106.9183 | BN20: =_xlfn.XLOOKUP($BI$13,$IH$61:$JF$61,IH223:JF223) -> 1555.9079 | BO20: =_xlfn.XLOOKUP($BI$13,$IH$61:$JF$61,IH233:JF233) -> 2004.8975 | BP20: =_xlfn.XLOOKUP($BI$13,$IH$61:$JF$61,IH243:JF243) -> 2453.8871 | BQ20: =_xlfn.XLOOKUP($BI$13,$IH$61:$JF$61,IH253:JF253) -> 2902.8767 | BR20: =_xlfn.XLOOKUP($BI$13,$IH$61:$JF$61,IH263:JF263) -> 3351.8663 | BS20: =_xlfn.XLOOKUP($BI$13,$IH$61:$JF$61,IH273:JF273) -> 3800.8559
B21: Vaikutus satoon | BI21: =HG68 -> -0.077777778 | BJ21: =_xlfn.XLOOKUP($BI$13,$IH$61:$JF$61,IH184:JF184) -> -215.13997 | BK21: =_xlfn.XLOOKUP($BI$13,$IH$61:$JF$61,IH194:JF194) -> 239.38531 | BL21: =_xlfn.XLOOKUP($BI$13,$IH$61:$JF$61,IH204:JF204) -> 693.9106 | BM21: =_xlfn.XLOOKUP($BI$13,$IH$61:$JF$61,IH214:JF214) -> 1148.4359 | BN21: =_xlfn.XLOOKUP($BI$13,$IH$61:$JF$61,IH224:JF224) -> 1602.9612 | BO21: =_xlfn.XLOOKUP($BI$13,$IH$61:$JF$61,IH234:JF234) -> 2057.4864 | BP21: =_xlfn.XLOOKUP($BI$13,$IH$61:$JF$61,IH244:JF244) -> 2512.0117 | BQ21: =_xlfn.XLOOKUP($BI$13,$IH$61:$JF$61,IH254:JF254) -> 2966.537 | BR21: =_xlfn.XLOOKUP($BI$13,$IH$61:$JF$61,IH264:JF264) -> 3421.0623 | BS21: =_xlfn.XLOOKUP($BI$13,$IH$61:$JF$61,IH274:JF274) -> 3875.5876
B22: Kevennetty muokkaus tai suorakylvö | C22: =IF(C$19<Toimenpiteet!$C$10,Toimenpiteet!$C$8*100/Toimenpiteet!$C$10*C$19,Toimenpiteet!$C$8*100/Toimenpiteet!$C$10*Toimenpiteet!$C$10) -> 0 | D22: =IF(D$19<Toimenpiteet!$C$10,Toimenpiteet!$C$8*100/Toimenpiteet!$C$10*D$19,Toimenpiteet!$C$8*100/Toimenpiteet!$C$10*Toimenpiteet!$C$10) -> 0 | E22: =IF(E$19<Toimenpiteet!$C$10,Toimenpiteet!$C$8*100/Toimenpiteet!$C$10*E$19,Toimenpiteet!$C$8*100/Toimenpiteet!$C$10*Toimenpiteet!$C$10) -> 0 | F22: =IF(F$19<Toimenpiteet!$C$10,Toimenpiteet!$C$8*100/Toimenpiteet!$C$10*F$19,Toimenpiteet!$C$8*100/Toimenpiteet!$C$10*Toimenpiteet!$C$10) -> 0 | G22: =IF(G$19<Toimenpiteet!$C$10,Toimenpiteet!$C$8*100/Toimenpiteet!$C$10*G$19,Toimenpiteet!$C$8*100/Toimenpiteet!$C$10*Toimenpiteet!$C$10) -> 0 | H22: =IF(H$19<Toimenpiteet!$C$10,Toimenpiteet!$C$8*100/Toimenpiteet!$C$10*H$19,Toimenpiteet!$C$8*100/Toimenpiteet!$C$10*Toimenpiteet!$C$10) -> 0 | I22: =IF(I$19<Toimenpiteet!$C$10,Toimenpiteet!$C$8*100/Toimenpiteet!$C$10*I$19,Toimenpiteet!$C$8*100/Toimenpiteet!$C$10*Toimenpiteet!$C$10) -> 0 | J22: =IF(J$19<Toimenpiteet!$C$10,Toimenpiteet!$C$8*100/Toimenpiteet!$C$10*J$19,Toimenpiteet!$C$8*100/Toimenpiteet!$C$10*Toimenpiteet!$C$10) -> 0 | ... AA22: =IF(AA$19<Toimenpiteet!$C$10,Toimenpiteet!$C$8*100/Toimenpiteet!$C$10*AA$19,Toimenpiteet!$C$8*100/Toimenpiteet!$C$10*Toimenpiteet!$C$10) -> 0 | BI22: =HG69 -> -0.055555556 | BJ22: =_xlfn.XLOOKUP($BI$13,$IH$61:$JF$61,IH185:JF185) -> -190.22942 | BK22: =_xlfn.XLOOKUP($BI$13,$IH$61:$JF$61,IH195:JF195) -> 269.83154 | BL22: =_xlfn.XLOOKUP($BI$13,$IH$61:$JF$61,IH205:JF205) -> 729.8925 | BM22: =_xlfn.XLOOKUP($BI$13,$IH$61:$JF$61,IH215:JF215) -> 1189.9535 | BN22: =_xlfn.XLOOKUP($BI$13,$IH$61:$JF$61,IH225:JF225) -> 1650.0144 | BO22: =_xlfn.XLOOKUP($BI$13,$IH$61:$JF$61,IH235:JF235) -> 2110.0754 | BP22: =_xlfn.XLOOKUP($BI$13,$IH$61:$JF$61,IH245:JF245) -> 2570.1364 | BQ22: =_xlfn.XLOOKUP($BI$13,$IH$61:$JF$61,IH255:JF255) -> 3030.1973 | BR22: =_xlfn.XLOOKUP($BI$13,$IH$61:$JF$61,IH265:JF265) -> 3490.2583 | BS22: =_xlfn.XLOOKUP($BI$13,$IH$61:$JF$61,IH275:JF275) -> 3950.3192
C23: =IF(COUNTIF($C$8:C8,"x")=0,0,_xlfn.XLOOKUP(COUNTIF($C$8:C8,"x"),$C$19:$AA$19,$C$22:$AA$22)) -> 0 | D23: =IF(COUNTIF($C$8:D8,"x")=0,0,_xlfn.XLOOKUP(COUNTIF($C$8:D8,"x"),$C$19:$AA$19,$C$22:$AA$22)) -> 0 | E23: =IF(COUNTIF($C$8:E8,"x")=0,0,_xlfn.XLOOKUP(COUNTIF($C$8:E8,"x"),$C$19:$AA$19,$C$22:$AA$22)) -> 0 | F23: =IF(COUNTIF($C$8:F8,"x")=0,0,_xlfn.XLOOKUP(COUNTIF($C$8:F8,"x"),$C$19:$AA$19,$C$22:$AA$22)) -> 0 | G23: =IF(COUNTIF($C$8:G8,"x")=0,0,_xlfn.XLOOKUP(COUNTIF($C$8:G8,"x"),$C$19:$AA$19,$C$22:$AA$22)) -> 0 | H23: =IF(COUNTIF($C$8:H8,"x")=0,0,_xlfn.XLOOKUP(COUNTIF($C$8:H8,"x"),$C$19:$AA$19,$C$22:$AA$22)) -> 0 | I23: =IF(COUNTIF($C$8:I8,"x")=0,0,_xlfn.XLOOKUP(COUNTIF($C$8:I8,"x"),$C$19:$AA$19,$C$22:$AA$22)) -> 0 | J23: =IF(COUNTIF($C$8:J8,"x")=0,0,_xlfn.XLOOKUP(COUNTIF($C$8:J8,"x"),$C$19:$AA$19,$C$22:$AA$22)) -> 0 | ... AA23: =IF(COUNTIF($C$8:AA8,"x")=0,0,_xlfn.XLOOKUP(COUNTIF($C$8:AA8,"x"),$C$19:$AA$19,$C$22:$AA$22)) -> 0 | BI23: =HG70 -> -0.033333333 | BJ23: =_xlfn.XLOOKUP($BI$13,$IH$61:$JF$61,IH186:JF186) -> -165.31887 | BK23: =_xlfn.XLOOKUP($BI$13,$IH$61:$JF$61,IH196:JF196) -> 300.27777 | BL23: =_xlfn.XLOOKUP($BI$13,$IH$61:$JF$61,IH206:JF206) -> 765.87441 | BM23: =_xlfn.XLOOKUP($BI$13,$IH$61:$JF$61,IH216:JF216) -> 1231.4711 | BN23: =_xlfn.XLOOKUP($BI$13,$IH$61:$JF$61,IH226:JF226) -> 1697.0677 | BO23: =_xlfn.XLOOKUP($BI$13,$IH$61:$JF$61,IH236:JF236) -> 2162.6643 | BP23: =_xlfn.XLOOKUP($BI$13,$IH$61:$JF$61,IH246:JF246) -> 2628.261 | BQ23: =_xlfn.XLOOKUP($BI$13,$IH$61:$JF$61,IH256:JF256) -> 3093.8576 | BR23: =_xlfn.XLOOKUP($BI$13,$IH$61:$JF$61,IH266:JF266) -> 3559.4543 | BS23: =_xlfn.XLOOKUP($BI$13,$IH$61:$JF$61,IH276:JF276) -> 4025.0509
B24: Alus- ja kerääjäkasvit | C24: =IF(C$19<Toimenpiteet!$C$37,Toimenpiteet!$C$35*100/Toimenpiteet!$C$37*C$19,Toimenpiteet!$C$35*100/Toimenpiteet!$C$37*Toimenpiteet!$C$37) -> 0.1 | D24: =IF(D$19<Toimenpiteet!$C$37,Toimenpiteet!$C$35*100/Toimenpiteet!$C$37*D$19,Toimenpiteet!$C$35*100/Toimenpiteet!$C$37*Toimenpiteet!$C$37) -> 0.2 | E24: =IF(E$19<Toimenpiteet!$C$37,Toimenpiteet!$C$35*100/Toimenpiteet!$C$37*E$19,Toimenpiteet!$C$35*100/Toimenpiteet!$C$37*Toimenpiteet!$C$37) -> 0.3 | F24: =IF(F$19<Toimenpiteet!$C$37,Toimenpiteet!$C$35*100/Toimenpiteet!$C$37*F$19,Toimenpiteet!$C$35*100/Toimenpiteet!$C$37*Toimenpiteet!$C$37) -> 0.4 | G24: =IF(G$19<Toimenpiteet!$C$37,Toimenpiteet!$C$35*100/Toimenpiteet!$C$37*G$19,Toimenpiteet!$C$35*100/Toimenpiteet!$C$37*Toimenpiteet!$C$37) -> 0.5 | H24: =IF(H$19<Toimenpiteet!$C$37,Toimenpiteet!$C$35*100/Toimenpiteet!$C$37*H$19,Toimenpiteet!$C$35*100/Toimenpiteet!$C$37*Toimenpiteet!$C$37) -> 0.5 | I24: =IF(I$19<Toimenpiteet!$C$37,Toimenpiteet!$C$35*100/Toimenpiteet!$C$37*I$19,Toimenpiteet!$C$35*100/Toimenpiteet!$C$37*Toimenpiteet!$C$37) -> 0.5 | J24: =IF(J$19<Toimenpiteet!$C$37,Toimenpiteet!$C$35*100/Toimenpiteet!$C$37*J$19,Toimenpiteet!$C$35*100/Toimenpiteet!$C$37*Toimenpiteet!$C$37) -> 0.5 | ... AA24: =IF(AA$19<Toimenpiteet!$C$37,Toimenpiteet!$C$35*100/Toimenpiteet!$C$37*AA$19,Toimenpiteet!$C$35*100/Toimenpiteet!$C$37*Toimenpiteet!$C$37) -> 0.5 | BI24: =HG71 -> -0.011111111 | BJ24: =_xlfn.XLOOKUP($BI$13,$IH$61:$JF$61,IH187:JF187) -> -140.40832 | BK24: =_xlfn.XLOOKUP($BI$13,$IH$61:$JF$61,IH197:JF197) -> 330.724 | BL24: =_xlfn.XLOOKUP($BI$13,$IH$61:$JF$61,IH207:JF207) -> 801.85632 | BM24: =_xlfn.XLOOKUP($BI$13,$IH$61:$JF$61,IH217:JF217) -> 1272.9886 | BN24: =_xlfn.XLOOKUP($BI$13,$IH$61:$JF$61,IH227:JF227) -> 1744.121 | BO24: =_xlfn.XLOOKUP($BI$13,$IH$61:$JF$61,IH237:JF237) -> 2215.2533 | BP24: =_xlfn.XLOOKUP($BI$13,$IH$61:$JF$61,IH247:JF247) -> 2686.3856 | BQ24: =_xlfn.XLOOKUP($BI$13,$IH$61:$JF$61,IH257:JF257) -> 3157.5179 | BR24: =_xlfn.XLOOKUP($BI$13,$IH$61:$JF$61,IH267:JF267) -> 3628.6502 | BS24: =_xlfn.XLOOKUP($BI$13,$IH$61:$JF$61,IH277:JF277) -> 4099.7825
C25: =IF(COUNTIF($C$9:C9,"x")=0,0,_xlfn.XLOOKUP(COUNTIF($C$9:C9,"x"),$C$19:$AA$19,$C$24:$AA$24)) -> 0 | D25: =IF(COUNTIF($C$9:D9,"x")=0,0,_xlfn.XLOOKUP(COUNTIF($C$9:D9,"x"),$C$19:$AA$19,$C$24:$AA$24)) -> 0 | E25: =IF(COUNTIF($C$9:E9,"x")=0,0,_xlfn.XLOOKUP(COUNTIF($C$9:E9,"x"),$C$19:$AA$19,$C$24:$AA$24)) -> 0 | F25: =IF(COUNTIF($C$9:F9,"x")=0,0,_xlfn.XLOOKUP(COUNTIF($C$9:F9,"x"),$C$19:$AA$19,$C$24:$AA$24)) -> 0 | G25: =IF(COUNTIF($C$9:G9,"x")=0,0,_xlfn.XLOOKUP(COUNTIF($C$9:G9,"x"),$C$19:$AA$19,$C$24:$AA$24)) -> 0 | H25: =IF(COUNTIF($C$9:H9,"x")=0,0,_xlfn.XLOOKUP(COUNTIF($C$9:H9,"x"),$C$19:$AA$19,$C$24:$AA$24)) -> 0 | I25: =IF(COUNTIF($C$9:I9,"x")=0,0,_xlfn.XLOOKUP(COUNTIF($C$9:I9,"x"),$C$19:$AA$19,$C$24:$AA$24)) -> 0 | J25: =IF(COUNTIF($C$9:J9,"x")=0,0,_xlfn.XLOOKUP(COUNTIF($C$9:J9,"x"),$C$19:$AA$19,$C$24:$AA$24)) -> 0 | ... AA25: =IF(COUNTIF($C$9:AA9,"x")=0,0,_xlfn.XLOOKUP(COUNTIF($C$9:AA9,"x"),$C$19:$AA$19,$C$24:$AA$24)) -> 0 | BI25: =HG72 -> 0.011111111 | BJ25: =_xlfn.XLOOKUP($BI$13,$IH$61:$JF$61,IH188:JF188) -> -115.49777 | BK25: =_xlfn.XLOOKUP($BI$13,$IH$61:$JF$61,IH198:JF198) -> 361.17023 | BL25: =_xlfn.XLOOKUP($BI$13,$IH$61:$JF$61,IH208:JF208) -> 837.83823 | BM25: =_xlfn.XLOOKUP($BI$13,$IH$61:$JF$61,IH218:JF218) -> 1314.5062 | BN25: =_xlfn.XLOOKUP($BI$13,$IH$61:$JF$61,IH228:JF228) -> 1791.1742 | BO25: =_xlfn.XLOOKUP($BI$13,$IH$61:$JF$61,IH238:JF238) -> 2267.8422 | BP25: =_xlfn.XLOOKUP($BI$13,$IH$61:$JF$61,IH248:JF248) -> 2744.5102 | BQ25: =_xlfn.XLOOKUP($BI$13,$IH$61:$JF$61,IH258:JF258) -> 3221.1782 | BR25: =_xlfn.XLOOKUP($BI$13,$IH$61:$JF$61,IH268:JF268) -> 3697.8462 | BS25: =_xlfn.XLOOKUP($BI$13,$IH$61:$JF$61,IH278:JF278) -> 4174.5142
B26: Lannanlevitys / Orgaaninen lannoite / Maanparannuskuitu | C26: =IF(C$19<Toimenpiteet!$C$67,Toimenpiteet!$C$65*100/Toimenpiteet!$C$67*C$19,Toimenpiteet!$C$65*100/Toimenpiteet!$C$67*Toimenpiteet!$C$67) -> 0.2 | D26: =IF(D$19<Toimenpiteet!$C$67,Toimenpiteet!$C$65*100/Toimenpiteet!$C$67*D$19,Toimenpiteet!$C$65*100/Toimenpiteet!$C$67*Toimenpiteet!$C$67) -> 0.4 | E26: =IF(E$19<Toimenpiteet!$C$67,Toimenpiteet!$C$65*100/Toimenpiteet!$C$67*E$19,Toimenpiteet!$C$65*100/Toimenpiteet!$C$67*Toimenpiteet!$C$67) -> 0.6 | F26: =IF(F$19<Toimenpiteet!$C$67,Toimenpiteet!$C$65*100/Toimenpiteet!$C$67*F$19,Toimenpiteet!$C$65*100/Toimenpiteet!$C$67*Toimenpiteet!$C$67) -> 0.8 | G26: =IF(G$19<Toimenpiteet!$C$67,Toimenpiteet!$C$65*100/Toimenpiteet!$C$67*G$19,Toimenpiteet!$C$65*100/Toimenpiteet!$C$67*Toimenpiteet!$C$67) -> 1 | H26: =IF(H$19<Toimenpiteet!$C$67,Toimenpiteet!$C$65*100/Toimenpiteet!$C$67*H$19,Toimenpiteet!$C$65*100/Toimenpiteet!$C$67*Toimenpiteet!$C$67) -> 1.2 | I26: =IF(I$19<Toimenpiteet!$C$67,Toimenpiteet!$C$65*100/Toimenpiteet!$C$67*I$19,Toimenpiteet!$C$65*100/Toimenpiteet!$C$67*Toimenpiteet!$C$67) -> 1.4 | J26: =IF(J$19<Toimenpiteet!$C$67,Toimenpiteet!$C$65*100/Toimenpiteet!$C$67*J$19,Toimenpiteet!$C$65*100/Toimenpiteet!$C$67*Toimenpiteet!$C$67) -> 1.6 | ... AA26: =IF(AA$19<Toimenpiteet!$C$67,Toimenpiteet!$C$65*100/Toimenpiteet!$C$67*AA$19,Toimenpiteet!$C$65*100/Toimenpiteet!$C$67*Toimenpiteet!$C$67) -> 2 | BI26: =HG73 -> 0.033333333 | BJ26: =_xlfn.XLOOKUP($BI$13,$IH$61:$JF$61,IH189:JF189) -> -90.587216 | BK26: =_xlfn.XLOOKUP($BI$13,$IH$61:$JF$61,IH199:JF199) -> 391.61646 | BL26: =_xlfn.XLOOKUP($BI$13,$IH$61:$JF$61,IH209:JF209) -> 873.82013 | BM26: =_xlfn.XLOOKUP($BI$13,$IH$61:$JF$61,IH219:JF219) -> 1356.0238 | BN26: =_xlfn.XLOOKUP($BI$13,$IH$61:$JF$61,IH229:JF229) -> 1838.2275 | BO26: =_xlfn.XLOOKUP($BI$13,$IH$61:$JF$61,IH239:JF239) -> 2320.4312 | BP26: =_xlfn.XLOOKUP($BI$13,$IH$61:$JF$61,IH249:JF249) -> 2802.6348 | BQ26: =_xlfn.XLOOKUP($BI$13,$IH$61:$JF$61,IH259:JF259) -> 3284.8385 | BR26: =_xlfn.XLOOKUP($BI$13,$IH$61:$JF$61,IH269:JF269) -> 3767.0422 | BS26: =_xlfn.XLOOKUP($BI$13,$IH$61:$JF$61,IH279:JF279) -> 4249.2459
C27: =IF(COUNTIF($C$10:C10,"x")=0,0,_xlfn.XLOOKUP(COUNTIF($C$10:C10,"x"),$C$19:$AA$19,$C$26:$AA$26)) -> 0 | D27: =IF(COUNTIF($C$10:D10,"x")=0,0,_xlfn.XLOOKUP(COUNTIF($C$10:D10,"x"),$C$19:$AA$19,$C$26:$AA$26)) -> 0 | E27: =IF(COUNTIF($C$10:E10,"x")=0,0,_xlfn.XLOOKUP(COUNTIF($C$10:E10,"x"),$C$19:$AA$19,$C$26:$AA$26)) -> 0 | F27: =IF(COUNTIF($C$10:F10,"x")=0,0,_xlfn.XLOOKUP(COUNTIF($C$10:F10,"x"),$C$19:$AA$19,$C$26:$AA$26)) -> 0 | G27: =IF(COUNTIF($C$10:G10,"x")=0,0,_xlfn.XLOOKUP(COUNTIF($C$10:G10,"x"),$C$19:$AA$19,$C$26:$AA$26)) -> 0 | H27: =IF(COUNTIF($C$10:H10,"x")=0,0,_xlfn.XLOOKUP(COUNTIF($C$10:H10,"x"),$C$19:$AA$19,$C$26:$AA$26)) -> 0 | I27: =IF(COUNTIF($C$10:I10,"x")=0,0,_xlfn.XLOOKUP(COUNTIF($C$10:I10,"x"),$C$19:$AA$19,$C$26:$AA$26)) -> 0 | J27: =IF(COUNTIF($C$10:J10,"x")=0,0,_xlfn.XLOOKUP(COUNTIF($C$10:J10,"x"),$C$19:$AA$19,$C$26:$AA$26)) -> 0 | ... AA27: =IF(COUNTIF($C$10:AA10,"x")=0,0,_xlfn.XLOOKUP(COUNTIF($C$10:AA10,"x"),$C$19:$AA$19,$C$26:$AA$26)) -> 0 | BI27: =HG74 -> 0.055555556 | BJ27: =_xlfn.XLOOKUP($BI$13,$IH$61:$JF$61,IH190:JF190) -> -65.676664 | BK27: =_xlfn.XLOOKUP($BI$13,$IH$61:$JF$61,IH200:JF200) -> 422.06269 | BL27: =_xlfn.XLOOKUP($BI$13,$IH$61:$JF$61,IH210:JF210) -> 909.80204 | BM27: =_xlfn.XLOOKUP($BI$13,$IH$61:$JF$61,IH220:JF220) -> 1397.5414 | BN27: =_xlfn.XLOOKUP($BI$13,$IH$61:$JF$61,IH230:JF230) -> 1885.2807 | BO27: =_xlfn.XLOOKUP($BI$13,$IH$61:$JF$61,IH240:JF240) -> 2373.0201 | BP27: =_xlfn.XLOOKUP($BI$13,$IH$61:$JF$61,IH250:JF250) -> 2860.7595 | BQ27: =_xlfn.XLOOKUP($BI$13,$IH$61:$JF$61,IH260:JF260) -> 3348.4988 | BR27: =_xlfn.XLOOKUP($BI$13,$IH$61:$JF$61,IH270:JF270) -> 3836.2382 | BS27: =_xlfn.XLOOKUP($BI$13,$IH$61:$JF$61,IH280:JF280) -> 4323.9775
B28: Viherlannoitus | C28: =IF(C$19<Toimenpiteet!$C$95,Toimenpiteet!$C$93*100/Toimenpiteet!$C$95*C$19,Toimenpiteet!$C$93*100/Toimenpiteet!$C$95*Toimenpiteet!$C$95) -> 0 | D28: =IF(D$19<Toimenpiteet!$C$95,Toimenpiteet!$C$93*100/Toimenpiteet!$C$95*D$19,Toimenpiteet!$C$93*100/Toimenpiteet!$C$95*Toimenpiteet!$C$95) -> 0 | E28: =IF(E$19<Toimenpiteet!$C$95,Toimenpiteet!$C$93*100/Toimenpiteet!$C$95*E$19,Toimenpiteet!$C$93*100/Toimenpiteet!$C$95*Toimenpiteet!$C$95) -> 0 | F28: =IF(F$19<Toimenpiteet!$C$95,Toimenpiteet!$C$93*100/Toimenpiteet!$C$95*F$19,Toimenpiteet!$C$93*100/Toimenpiteet!$C$95*Toimenpiteet!$C$95) -> 0 | G28: =IF(G$19<Toimenpiteet!$C$95,Toimenpiteet!$C$93*100/Toimenpiteet!$C$95*G$19,Toimenpiteet!$C$93*100/Toimenpiteet!$C$95*Toimenpiteet!$C$95) -> 0 | H28: =IF(H$19<Toimenpiteet!$C$95,Toimenpiteet!$C$93*100/Toimenpiteet!$C$95*H$19,Toimenpiteet!$C$93*100/Toimenpiteet!$C$95*Toimenpiteet!$C$95) -> 0 | I28: =IF(I$19<Toimenpiteet!$C$95,Toimenpiteet!$C$93*100/Toimenpiteet!$C$95*I$19,Toimenpiteet!$C$93*100/Toimenpiteet!$C$95*Toimenpiteet!$C$95) -> 0 | J28: =IF(J$19<Toimenpiteet!$C$95,Toimenpiteet!$C$93*100/Toimenpiteet!$C$95*J$19,Toimenpiteet!$C$93*100/Toimenpiteet!$C$95*Toimenpiteet!$C$95) -> 0 | ... AA28: =IF(AA$19<Toimenpiteet!$C$95,Toimenpiteet!$C$93*100/Toimenpiteet!$C$95*AA$19,Toimenpiteet!$C$93*100/Toimenpiteet!$C$95*Toimenpiteet!$C$95) -> 0 | BI28: =HG75 -> 0.077777778 | BJ28: =_xlfn.XLOOKUP($BI$13,$IH$61:$JF$61,IH191:JF191) -> -40.766113 | BK28: =_xlfn.XLOOKUP($BI$13,$IH$61:$JF$61,IH201:JF201) -> 452.50892 | BL28: =_xlfn.XLOOKUP($BI$13,$IH$61:$JF$61,IH211:JF211) -> 945.78395 | BM28: =_xlfn.XLOOKUP($BI$13,$IH$61:$JF$61,IH221:JF221) -> 1439.059 | BN28: =_xlfn.XLOOKUP($BI$13,$IH$61:$JF$61,IH231:JF231) -> 1932.334 | BO28: =_xlfn.XLOOKUP($BI$13,$IH$61:$JF$61,IH241:JF241) -> 2425.609 | BP28: =_xlfn.XLOOKUP($BI$13,$IH$61:$JF$61,IH251:JF251) -> 2918.8841 | BQ28: =_xlfn.XLOOKUP($BI$13,$IH$61:$JF$61,IH261:JF261) -> 3412.1591 | BR28: =_xlfn.XLOOKUP($BI$13,$IH$61:$JF$61,IH271:JF271) -> 3905.4341 | BS28: =_xlfn.XLOOKUP($BI$13,$IH$61:$JF$61,IH281:JF281) -> 4398.7092
C29: =IF(COUNTIF($C$11:C11,"x")=0,0,_xlfn.XLOOKUP(COUNTIF($C$11:C11,"x"),$C$19:$AA$19,$C$28:$AA$28)) -> 0 | D29: =IF(COUNTIF($C$11:D11,"x")=0,0,_xlfn.XLOOKUP(COUNTIF($C$11:D11,"x"),$C$19:$AA$19,$C$28:$AA$28)) -> 0 | E29: =IF(COUNTIF($C$11:E11,"x")=0,0,_xlfn.XLOOKUP(COUNTIF($C$11:E11,"x"),$C$19:$AA$19,$C$28:$AA$28)) -> 0 | F29: =IF(COUNTIF($C$11:F11,"x")=0,0,_xlfn.XLOOKUP(COUNTIF($C$11:F11,"x"),$C$19:$AA$19,$C$28:$AA$28)) -> 0 | G29: =IF(COUNTIF($C$11:G11,"x")=0,0,_xlfn.XLOOKUP(COUNTIF($C$11:G11,"x"),$C$19:$AA$19,$C$28:$AA$28)) -> 0 | H29: =IF(COUNTIF($C$11:H11,"x")=0,0,_xlfn.XLOOKUP(COUNTIF($C$11:H11,"x"),$C$19:$AA$19,$C$28:$AA$28)) -> 0 | I29: =IF(COUNTIF($C$11:I11,"x")=0,0,_xlfn.XLOOKUP(COUNTIF($C$11:I11,"x"),$C$19:$AA$19,$C$28:$AA$28)) -> 0 | J29: =IF(COUNTIF($C$11:J11,"x")=0,0,_xlfn.XLOOKUP(COUNTIF($C$11:J11,"x"),$C$19:$AA$19,$C$28:$AA$28)) -> 0 | ... AA29: =IF(COUNTIF($C$11:AA11,"x")=0,0,_xlfn.XLOOKUP(COUNTIF($C$11:AA11,"x"),$C$19:$AA$19,$C$28:$AA$28)) -> 0 | BI29: =HG76 -> 0.1 | BJ29: =_xlfn.XLOOKUP($BI$13,$IH$61:$JF$61,IH192:JF192) -> -15.855561 | BK29: =_xlfn.XLOOKUP($BI$13,$IH$61:$JF$61,IH202:JF202) -> 482.95515 | BL29: =_xlfn.XLOOKUP($BI$13,$IH$61:$JF$61,IH212:JF212) -> 981.76586 | BM29: =_xlfn.XLOOKUP($BI$13,$IH$61:$JF$61,IH222:JF222) -> 1480.5766 | BN29: =_xlfn.XLOOKUP($BI$13,$IH$61:$JF$61,IH232:JF232) -> 1979.3873 | BO29: =_xlfn.XLOOKUP($BI$13,$IH$61:$JF$61,IH242:JF242) -> 2478.198 | BP29: =_xlfn.XLOOKUP($BI$13,$IH$61:$JF$61,IH252:JF252) -> 2977.0087 | BQ29: =_xlfn.XLOOKUP($BI$13,$IH$61:$JF$61,IH262:JF262) -> 3475.8194 | BR29: =_xlfn.XLOOKUP($BI$13,$IH$61:$JF$61,IH272:JF272) -> 3974.6301 | BS29: =_xlfn.XLOOKUP($BI$13,$IH$61:$JF$61,IH282:JF282) -> 4473.4408
B30: Kokonaisvaikutus | C30: =SUM(C23+C25+C27+C29)/100 -> 0 | D30: =SUM(D23+D25+D27+D29)/100 -> 0 | E30: =SUM(E23+E25+E27+E29)/100 -> 0 | F30: =SUM(F23+F25+F27+F29)/100 -> 0 | G30: =SUM(G23+G25+G27+G29)/100 -> 0 | H30: =SUM(H23+H25+H27+H29)/100 -> 0 | I30: =SUM(I23+I25+I27+I29)/100 -> 0 | J30: =SUM(J23+J25+J27+J29)/100 -> 0 | ... AA30: =SUM(AA23+AA25+AA27+AA29)/100 -> 0
B32: Vaikutus epäonnistumisen todennäköisyyteen
B33: Kevennetty muokkaus tai suorakylvö | C33: =IF(C$19<Toimenpiteet!$C$10,Toimenpiteet!$C$9*100/Toimenpiteet!$C$10*C$19,Toimenpiteet!$C$9*100/Toimenpiteet!$C$10*Toimenpiteet!$C$10) -> 0 | D33: =IF(D$19<Toimenpiteet!$C$10,Toimenpiteet!$C$9*100/Toimenpiteet!$C$10*D$19,Toimenpiteet!$C$9*100/Toimenpiteet!$C$10*Toimenpiteet!$C$10) -> 0 | E33: =IF(E$19<Toimenpiteet!$C$10,Toimenpiteet!$C$9*100/Toimenpiteet!$C$10*E$19,Toimenpiteet!$C$9*100/Toimenpiteet!$C$10*Toimenpiteet!$C$10) -> 0 | F33: =IF(F$19<Toimenpiteet!$C$10,Toimenpiteet!$C$9*100/Toimenpiteet!$C$10*F$19,Toimenpiteet!$C$9*100/Toimenpiteet!$C$10*Toimenpiteet!$C$10) -> 0 | G33: =IF(G$19<Toimenpiteet!$C$10,Toimenpiteet!$C$9*100/Toimenpiteet!$C$10*G$19,Toimenpiteet!$C$9*100/Toimenpiteet!$C$10*Toimenpiteet!$C$10) -> 0 | H33: =IF(H$19<Toimenpiteet!$C$10,Toimenpiteet!$C$9*100/Toimenpiteet!$C$10*H$19,Toimenpiteet!$C$9*100/Toimenpiteet!$C$10*Toimenpiteet!$C$10) -> 0 | I33: =IF(I$19<Toimenpiteet!$C$10,Toimenpiteet!$C$9*100/Toimenpiteet!$C$10*I$19,Toimenpiteet!$C$9*100/Toimenpiteet!$C$10*Toimenpiteet!$C$10) -> 0 | J33: =IF(J$19<Toimenpiteet!$C$10,Toimenpiteet!$C$9*100/Toimenpiteet!$C$10*J$19,Toimenpiteet!$C$9*100/Toimenpiteet!$C$10*Toimenpiteet!$C$10) -> 0 | ... AA33: =IF(AA$19<Toimenpiteet!$C$10,Toimenpiteet!$C$9*100/Toimenpiteet!$C$10*AA$19,Toimenpiteet!$C$9*100/Toimenpiteet!$C$10*Toimenpiteet!$C$10) -> 0
C34: =IF(COUNTIF($C$8:C8,"x")=0,0,_xlfn.XLOOKUP(COUNTIF($C$8:C8,"x"),$C$19:$AA$19,$C$33:$AA$33)) -> 0 | D34: =IF(COUNTIF($C$8:D8,"x")=0,0,_xlfn.XLOOKUP(COUNTIF($C$8:D8,"x"),$C$19:$AA$19,$C$33:$AA$33)) -> 0 | E34: =IF(COUNTIF($C$8:E8,"x")=0,0,_xlfn.XLOOKUP(COUNTIF($C$8:E8,"x"),$C$19:$AA$19,$C$33:$AA$33)) -> 0 | F34: =IF(COUNTIF($C$8:F8,"x")=0,0,_xlfn.XLOOKUP(COUNTIF($C$8:F8,"x"),$C$19:$AA$19,$C$33:$AA$33)) -> 0 | G34: =IF(COUNTIF($C$8:G8,"x")=0,0,_xlfn.XLOOKUP(COUNTIF($C$8:G8,"x"),$C$19:$AA$19,$C$33:$AA$33)) -> 0 | H34: =IF(COUNTIF($C$8:H8,"x")=0,0,_xlfn.XLOOKUP(COUNTIF($C$8:H8,"x"),$C$19:$AA$19,$C$33:$AA$33)) -> 0 | I34: =IF(COUNTIF($C$8:I8,"x")=0,0,_xlfn.XLOOKUP(COUNTIF($C$8:I8,"x"),$C$19:$AA$19,$C$33:$AA$33)) -> 0 | J34: =IF(COUNTIF($C$8:J8,"x")=0,0,_xlfn.XLOOKUP(COUNTIF($C$8:J8,"x"),$C$19:$AA$19,$C$33:$AA$33)) -> 0 | ... AA34: =IF(COUNTIF($C$8:AA8,"x")=0,0,_xlfn.XLOOKUP(COUNTIF($C$8:AA8,"x"),$C$19:$AA$19,$C$33:$AA$33)) -> 0
B35: Alus- ja kerääjäkasvit | C35: =IF(C$19<Toimenpiteet!$C$37,Toimenpiteet!$C$36*100/Toimenpiteet!$C$37*C$19,Toimenpiteet!$C$36*100/Toimenpiteet!$C$37*Toimenpiteet!$C$37) -> 0 | D35: =IF(D$19<Toimenpiteet!$C$37,Toimenpiteet!$C$36*100/Toimenpiteet!$C$37*D$19,Toimenpiteet!$C$36*100/Toimenpiteet!$C$37*Toimenpiteet!$C$37) -> 0 | E35: =IF(E$19<Toimenpiteet!$C$37,Toimenpiteet!$C$36*100/Toimenpiteet!$C$37*E$19,Toimenpiteet!$C$36*100/Toimenpiteet!$C$37*Toimenpiteet!$C$37) -> 0 | F35: =IF(F$19<Toimenpiteet!$C$37,Toimenpiteet!$C$36*100/Toimenpiteet!$C$37*F$19,Toimenpiteet!$C$36*100/Toimenpiteet!$C$37*Toimenpiteet!$C$37) -> 0 | G35: =IF(G$19<Toimenpiteet!$C$37,Toimenpiteet!$C$36*100/Toimenpiteet!$C$37*G$19,Toimenpiteet!$C$36*100/Toimenpiteet!$C$37*Toimenpiteet!$C$37) -> 0 | H35: =IF(H$19<Toimenpiteet!$C$37,Toimenpiteet!$C$36*100/Toimenpiteet!$C$37*H$19,Toimenpiteet!$C$36*100/Toimenpiteet!$C$37*Toimenpiteet!$C$37) -> 0 | I35: =IF(I$19<Toimenpiteet!$C$37,Toimenpiteet!$C$36*100/Toimenpiteet!$C$37*I$19,Toimenpiteet!$C$36*100/Toimenpiteet!$C$37*Toimenpiteet!$C$37) -> 0 | J35: =IF(J$19<Toimenpiteet!$C$37,Toimenpiteet!$C$36*100/Toimenpiteet!$C$37*J$19,Toimenpiteet!$C$36*100/Toimenpiteet!$C$37*Toimenpiteet!$C$37) -> 0 | ... AA35: =IF(AA$19<Toimenpiteet!$C$37,Toimenpiteet!$C$36*100/Toimenpiteet!$C$37*AA$19,Toimenpiteet!$C$36*100/Toimenpiteet!$C$37*Toimenpiteet!$C$37) -> 0
C36: =IF(COUNTIF($C$9:C9,"x")=0,0,_xlfn.XLOOKUP(COUNTIF($C$9:C9,"x"),$C$19:$AA$19,$C$35:$AA$35)) -> 0 | D36: =IF(COUNTIF($C$9:D9,"x")=0,0,_xlfn.XLOOKUP(COUNTIF($C$9:D9,"x"),$C$19:$AA$19,$C$35:$AA$35)) -> 0 | E36: =IF(COUNTIF($C$9:E9,"x")=0,0,_xlfn.XLOOKUP(COUNTIF($C$9:E9,"x"),$C$19:$AA$19,$C$35:$AA$35)) -> 0 | F36: =IF(COUNTIF($C$9:F9,"x")=0,0,_xlfn.XLOOKUP(COUNTIF($C$9:F9,"x"),$C$19:$AA$19,$C$35:$AA$35)) -> 0 | G36: =IF(COUNTIF($C$9:G9,"x")=0,0,_xlfn.XLOOKUP(COUNTIF($C$9:G9,"x"),$C$19:$AA$19,$C$35:$AA$35)) -> 0 | H36: =IF(COUNTIF($C$9:H9,"x")=0,0,_xlfn.XLOOKUP(COUNTIF($C$9:H9,"x"),$C$19:$AA$19,$C$35:$AA$35)) -> 0 | I36: =IF(COUNTIF($C$9:I9,"x")=0,0,_xlfn.XLOOKUP(COUNTIF($C$9:I9,"x"),$C$19:$AA$19,$C$35:$AA$35)) -> 0 | J36: =IF(COUNTIF($C$9:J9,"x")=0,0,_xlfn.XLOOKUP(COUNTIF($C$9:J9,"x"),$C$19:$AA$19,$C$35:$AA$35)) -> 0 | ... AA36: =IF(COUNTIF($C$9:AA9,"x")=0,0,_xlfn.XLOOKUP(COUNTIF($C$9:AA9,"x"),$C$19:$AA$19,$C$35:$AA$35)) -> 0
B37: Lannanlevitys / Orgaaninen lannoite / Maanparannuskuitu | C37: =IF(C$19<Toimenpiteet!$C$67,Toimenpiteet!$C$66*100/Toimenpiteet!$C$67*C$19,Toimenpiteet!$C$66*100/Toimenpiteet!$C$67*Toimenpiteet!$C$67) -> 0 | D37: =IF(D$19<Toimenpiteet!$C$67,Toimenpiteet!$C$66*100/Toimenpiteet!$C$67*D$19,Toimenpiteet!$C$66*100/Toimenpiteet!$C$67*Toimenpiteet!$C$67) -> 0 | E37: =IF(E$19<Toimenpiteet!$C$67,Toimenpiteet!$C$66*100/Toimenpiteet!$C$67*E$19,Toimenpiteet!$C$66*100/Toimenpiteet!$C$67*Toimenpiteet!$C$67) -> 0 | F37: =IF(F$19<Toimenpiteet!$C$67,Toimenpiteet!$C$66*100/Toimenpiteet!$C$67*F$19,Toimenpiteet!$C$66*100/Toimenpiteet!$C$67*Toimenpiteet!$C$67) -> 0 | G37: =IF(G$19<Toimenpiteet!$C$67,Toimenpiteet!$C$66*100/Toimenpiteet!$C$67*G$19,Toimenpiteet!$C$66*100/Toimenpiteet!$C$67*Toimenpiteet!$C$67) -> 0 | H37: =IF(H$19<Toimenpiteet!$C$67,Toimenpiteet!$C$66*100/Toimenpiteet!$C$67*H$19,Toimenpiteet!$C$66*100/Toimenpiteet!$C$67*Toimenpiteet!$C$67) -> 0 | I37: =IF(I$19<Toimenpiteet!$C$67,Toimenpiteet!$C$66*100/Toimenpiteet!$C$67*I$19,Toimenpiteet!$C$66*100/Toimenpiteet!$C$67*Toimenpiteet!$C$67) -> 0 | J37: =IF(J$19<Toimenpiteet!$C$67,Toimenpiteet!$C$66*100/Toimenpiteet!$C$67*J$19,Toimenpiteet!$C$66*100/Toimenpiteet!$C$67*Toimenpiteet!$C$67) -> 0 | ... AA37: =IF(AA$19<Toimenpiteet!$C$67,Toimenpiteet!$C$66*100/Toimenpiteet!$C$67*AA$19,Toimenpiteet!$C$66*100/Toimenpiteet!$C$67*Toimenpiteet!$C$67) -> 0
C38: =IF(COUNTIF($C$10:C10,"x")=0,0,_xlfn.XLOOKUP(COUNTIF($C$10:C10,"x"),$C$19:$AA$19,$C$33:$AA$33)) -> 0 | D38: =IF(COUNTIF($C$10:D10,"x")=0,0,_xlfn.XLOOKUP(COUNTIF($C$10:D10,"x"),$C$19:$AA$19,$C$33:$AA$33)) -> 0 | E38: =IF(COUNTIF($C$10:E10,"x")=0,0,_xlfn.XLOOKUP(COUNTIF($C$10:E10,"x"),$C$19:$AA$19,$C$33:$AA$33)) -> 0 | F38: =IF(COUNTIF($C$10:F10,"x")=0,0,_xlfn.XLOOKUP(COUNTIF($C$10:F10,"x"),$C$19:$AA$19,$C$33:$AA$33)) -> 0 | G38: =IF(COUNTIF($C$10:G10,"x")=0,0,_xlfn.XLOOKUP(COUNTIF($C$10:G10,"x"),$C$19:$AA$19,$C$33:$AA$33)) -> 0 | H38: =IF(COUNTIF($C$10:H10,"x")=0,0,_xlfn.XLOOKUP(COUNTIF($C$10:H10,"x"),$C$19:$AA$19,$C$33:$AA$33)) -> 0 | I38: =IF(COUNTIF($C$10:I10,"x")=0,0,_xlfn.XLOOKUP(COUNTIF($C$10:I10,"x"),$C$19:$AA$19,$C$33:$AA$33)) -> 0 | J38: =IF(COUNTIF($C$10:J10,"x")=0,0,_xlfn.XLOOKUP(COUNTIF($C$10:J10,"x"),$C$19:$AA$19,$C$33:$AA$33)) -> 0 | ... AA38: =IF(COUNTIF($C$10:AA10,"x")=0,0,_xlfn.XLOOKUP(COUNTIF($C$10:AA10,"x"),$C$19:$AA$19,$C$33:$AA$33)) -> 0
B39: Viherlannoitus | C39: =IF(C$19<Toimenpiteet!$C$95,Toimenpiteet!$C$94*100/Toimenpiteet!$C$95*C$19,Toimenpiteet!$C$94*100/Toimenpiteet!$C$95*Toimenpiteet!$C$95) -> 0 | D39: =IF(D$19<Toimenpiteet!$C$95,Toimenpiteet!$C$94*100/Toimenpiteet!$C$95*D$19,Toimenpiteet!$C$94*100/Toimenpiteet!$C$95*Toimenpiteet!$C$95) -> 0 | E39: =IF(E$19<Toimenpiteet!$C$95,Toimenpiteet!$C$94*100/Toimenpiteet!$C$95*E$19,Toimenpiteet!$C$94*100/Toimenpiteet!$C$95*Toimenpiteet!$C$95) -> 0 | F39: =IF(F$19<Toimenpiteet!$C$95,Toimenpiteet!$C$94*100/Toimenpiteet!$C$95*F$19,Toimenpiteet!$C$94*100/Toimenpiteet!$C$95*Toimenpiteet!$C$95) -> 0 | G39: =IF(G$19<Toimenpiteet!$C$95,Toimenpiteet!$C$94*100/Toimenpiteet!$C$95*G$19,Toimenpiteet!$C$94*100/Toimenpiteet!$C$95*Toimenpiteet!$C$95) -> 0 | H39: =IF(H$19<Toimenpiteet!$C$95,Toimenpiteet!$C$94*100/Toimenpiteet!$C$95*H$19,Toimenpiteet!$C$94*100/Toimenpiteet!$C$95*Toimenpiteet!$C$95) -> 0 | I39: =IF(I$19<Toimenpiteet!$C$95,Toimenpiteet!$C$94*100/Toimenpiteet!$C$95*I$19,Toimenpiteet!$C$94*100/Toimenpiteet!$C$95*Toimenpiteet!$C$95) -> 0 | J39: =IF(J$19<Toimenpiteet!$C$95,Toimenpiteet!$C$94*100/Toimenpiteet!$C$95*J$19,Toimenpiteet!$C$94*100/Toimenpiteet!$C$95*Toimenpiteet!$C$95) -> 0 | ... AA39: =IF(AA$19<Toimenpiteet!$C$95,Toimenpiteet!$C$94*100/Toimenpiteet!$C$95*AA$19,Toimenpiteet!$C$94*100/Toimenpiteet!$C$95*Toimenpiteet!$C$95) -> 0
C40: =IF(COUNTIF($C$11:C11,"x")=0,0,_xlfn.XLOOKUP(COUNTIF($C$11:C11,"x"),$C$19:$AA$19,$C$33:$AA$33)) -> 0 | D40: =IF(COUNTIF($C$11:D11,"x")=0,0,_xlfn.XLOOKUP(COUNTIF($C$11:D11,"x"),$C$19:$AA$19,$C$33:$AA$33)) -> 0 | E40: =IF(COUNTIF($C$11:E11,"x")=0,0,_xlfn.XLOOKUP(COUNTIF($C$11:E11,"x"),$C$19:$AA$19,$C$33:$AA$33)) -> 0 | F40: =IF(COUNTIF($C$11:F11,"x")=0,0,_xlfn.XLOOKUP(COUNTIF($C$11:F11,"x"),$C$19:$AA$19,$C$33:$AA$33)) -> 0 | G40: =IF(COUNTIF($C$11:G11,"x")=0,0,_xlfn.XLOOKUP(COUNTIF($C$11:G11,"x"),$C$19:$AA$19,$C$33:$AA$33)) -> 0 | H40: =IF(COUNTIF($C$11:H11,"x")=0,0,_xlfn.XLOOKUP(COUNTIF($C$11:H11,"x"),$C$19:$AA$19,$C$33:$AA$33)) -> 0 | I40: =IF(COUNTIF($C$11:I11,"x")=0,0,_xlfn.XLOOKUP(COUNTIF($C$11:I11,"x"),$C$19:$AA$19,$C$33:$AA$33)) -> 0 | J40: =IF(COUNTIF($C$11:J11,"x")=0,0,_xlfn.XLOOKUP(COUNTIF($C$11:J11,"x"),$C$19:$AA$19,$C$33:$AA$33)) -> 0 | ... AA40: =IF(COUNTIF($C$11:AA11,"x")=0,0,_xlfn.XLOOKUP(COUNTIF($C$11:AA11,"x"),$C$19:$AA$19,$C$33:$AA$33)) -> 0
B41: Kokonaisvaikutus | C41: =IF(SUM(C34+C36+C38+C40)<=-100,-0.99,IF(SUM(C34+C36+C38+C40)>=100,0.99,SUM(C34+C36+C38+C40)/100)) -> 0 | D41: =IF(SUM(D34+D36+D38+D40)<=-100,-0.99,IF(SUM(D34+D36+D38+D40)>=100,0.99,SUM(D34+D36+D38+D40)/100)) -> 0 | E41: =IF(SUM(E34+E36+E38+E40)<=-100,-0.99,IF(SUM(E34+E36+E38+E40)>=100,0.99,SUM(E34+E36+E38+E40)/100)) -> 0 | F41: =IF(SUM(F34+F36+F38+F40)<=-100,-0.99,IF(SUM(F34+F36+F38+F40)>=100,0.99,SUM(F34+F36+F38+F40)/100)) -> 0 | G41: =IF(SUM(G34+G36+G38+G40)<=-100,-0.99,IF(SUM(G34+G36+G38+G40)>=100,0.99,SUM(G34+G36+G38+G40)/100)) -> 0 | H41: =IF(SUM(H34+H36+H38+H40)<=-100,-0.99,IF(SUM(H34+H36+H38+H40)>=100,0.99,SUM(H34+H36+H38+H40)/100)) -> 0 | I41: =IF(SUM(I34+I36+I38+I40)<=-100,-0.99,IF(SUM(I34+I36+I38+I40)>=100,0.99,SUM(I34+I36+I38+I40)/100)) -> 0 | J41: =IF(SUM(J34+J36+J38+J40)<=-100,-0.99,IF(SUM(J34+J36+J38+J40)>=100,0.99,SUM(J34+J36+J38+J40)/100)) -> 0 | ... AA41: =IF(SUM(AA34+AA36+AA38+AA40)<=-100,-0.99,IF(SUM(AA34+AA36+AA38+AA40)>=100,0.99,SUM(AA34+AA36+AA38+AA40)/100)) -> 0
B57: Simulointitaulukot
B59: Satotason todennäköisyyteen liittyvä satunnaisluku | AB59: Sato (ei toimenpiteitä) | BB59: Sato (toimenpiteitä tehty) | CB59: Hinta €/1000kg | DB59: Katetuotto (ei toimenpiteitä) | EB59: Katetuotto (toimenpiteitä tehty) | FB59: Kumulatiivinen katetuotto (ei toimenpiteitä) | GB59: Kumlatiivinen katetuotto (toimenpiteitä tehty) | HB59: Toimenpiteiden kannattavuus tietyltä ajanjaksolta | HF59: Pitkän ja lyhyen aikavälin vaikutuskertoimien vertailu | IH59: Kumulatiiviset katetuotot eri kertoimien arvoilla
B60: Vuosi | AB60: Vuosi | BB60: Vuosi | CB60: Vuosi | DB60: Vuosi | EB60: Vuosi | FB60: Vuosi | GB60: Vuosi | HH60: Vuosi | IH60: Vuosi
B61: 1 | C61: 2 | D61: 3 | E61: 4 | F61: 5 | G61: 6 | H61: 7 | I61: 8 | J61: 9 | K61: 10 | L61: 11 | M61: 12 | N61: 13 | O61: 14 | P61: 15 | Q61: 16 | R61: 17 | S61: 18 | T61: 19 | U61: 20 | V61: 21 | W61: 22 | X61: 23 | Y61: 24 | Z61: 25 | AB61: 1 | AC61: 2 | AD61: 3 | AE61: 4 | AF61: 5 | AG61: 6 | AH61: 7 | AI61: 8 | AJ61: 9 | AK61: 10 | AL61: 11 | AM61: 12 | AN61: 13 | AO61: 14 | AP61: 15 | AQ61: 16 | AR61: 17 | AS61: 18 | AT61: 19 | AU61: 20 | AV61: 21 | AW61: 22 | AX61: 23 | AY61: 24 | AZ61: 25 | BB61: 1 | BC61: 2 | BD61: 3 | BE61: 4 | BF61: 5 | BG61: 6 | BH61: 7 | BI61: 8 | BJ61: 9 | BK61: 10 | BL61: 11 | BM61: 12 | BN61: 13 | BO61: 14 | BP61: 15 | BQ61: 16 | BR61: 17 | BS61: 18 | BT61: 19 | BU61: 20 | BV61: 21 | BW61: 22 | BX61: 23 | BY61: 24 | BZ61: 25 | CB61: 1 | CC61: 2 | CD61: 3 | CE61: 4 | CF61: 5 | CG61: 6 | CH61: 7 | CI61: 8 | CJ61: 9 | CK61: 10 | CL61: 11 | CM61: 12 | CN61: 13 | CO61: 14 | CP61: 15 | CQ61: 16 | CR61: 17 | CS61: 18 | CT61: 19 | CU61: 20 | CV61: 21 | CW61: 22 | CX61: 23 | CY61: 24 | CZ61: 25 | DB61: 1 | DC61: 2 | DD61: 3 | DE61: 4 | DF61: 5 | DG61: 6 | DH61: 7 | DI61: 8 | DJ61: 9 | DK61: 10 | DL61: 11 | DM61: 12 | DN61: 13 | DO61: 14 | DP61: 15 | DQ61: 16 | DR61: 17 | DS61: 18 | DT61: 19 | DU61: 20 | DV61: 21 | DW61: 22 | DX61: 23 | DY61: 24 | DZ61: 25 | EB61: 1 | EC61: 2 | ED61: 3 | EE61: 4 | EF61: 5 | EG61: 6 | EH61: 7 | EI61: 8 | EJ61: 9 | EK61: 10 | EL61: 11 | EM61: 12 | EN61: 13 | EO61: 14 | EP61: 15 | EQ61: 16 | ER61: 17 | ES61: 18 | ET61: 19 | EU61: 20 | EV61: 21 | EW61: 22 | EX61: 23 | EY61: 24 | EZ61: 25 | FB61: 1 | FC61: 2 | FD61: 3 | FE61: 4 | FF61: 5 | FG61: 6 | FH61: 7 | FI61: 8 | FJ61: 9 | FK61: 10 | FL61: 11 | FM61: 12 | FN61: 13 | FO61: 14 | FP61: 15 | FQ61: 16 | FR61: 17 | FS61: 18 | FT61: 19 | FU61: 20 | FV61: 21 | FW61: 22 | FX61: 23 | FY61: 24 | FZ61: 25 | GB61: 1 | GC61: 2 | GD61: 3 | GE61: 4 | GF61: 5 | GG61: 6 | GH61: 7 | GI61: 8 | GJ61: 9 | GK61: 10 | GL61: 11 | GM61: 12 | GN61: 13 | GO61: 14 | GP61: 15 | GQ61: 16 | GR61: 17 | GS61: 18 | GT61: 19 | GU61: 20 | GV61: 21 | GW61: 22 | GX61: 23 | GY61: 24 | GZ61: 25 | HB61: Kumulatiivinen katetuotto (ei toimenpiteitä) | HC61: Kumulatiivinen katetuotto (toimenpiteitä tehty) | HD61: Kannattavuuden todennäköisyys | HH61: 1 | HI61: 2 | HJ61: 3 | HK61: 4 | HL61: 5 | HM61: 6 | HN61: 7 | HO61: 8 | HP61: 9 | HQ61: 10 | HR61: 11 | HS61: 12 | HT61: 13 | HU61: 14 | HV61: 15 | HW61: 16 | HX61: 17 | HY61: 18 | HZ61: 19 | IA61: 20 | IB61: 21 | IC61: 22 | ID61: 23 | IE61: 24 | IF61: 25 | IH61: 1 | II61: 2 | IJ61: 3 | IK61: 4 | IL61: 5 | IM61: 6 | IN61: 7 | IO61: 8 | IP61: 9 | IQ61: 10 | IR61: 11 | IS61: 12 | IT61: 13 | IU61: 14 | IV61: 15 | IW61: 16 | IX61: 17 | IY61: 18 | IZ61: 19 | JA61: 20 | JB61: 21 | JC61: 22 | JD61: 23 | JE61: 24 | JF61: 25
B62: =RAND() -> 0.28446835 | C62: =RAND() -> 0.7447471 | D62: =RAND() -> 0.22192475 | E62: =RAND() -> 0.53991826 | F62: =RAND() -> 0.26278478 | G62: =RAND() -> 0.014530014 | H62: =RAND() -> 0.69954556 | I62: =RAND() -> 0.93227153 | ... Z62: =RAND() -> 0.11144998 | AB62: =_xlfn.NORM.INV(B62,Satokasvi!$H$8,Satokasvi!$I$8)*_xlfn.BINOM.INV(1,(1-Satokasvi!$H$15),B62) -> 2357.5955 | AC62: =_xlfn.NORM.INV(C62,Satokasvi!$H$8,Satokasvi!$I$8)*_xlfn.BINOM.INV(1,(1-Satokasvi!$H$15),C62) -> 2664.5126 | AD62: =_xlfn.NORM.INV(D62,Satokasvi!$H$8,Satokasvi!$I$8)*_xlfn.BINOM.INV(1,(1-Satokasvi!$H$15),D62) -> 0 | AE62: =_xlfn.NORM.INV(E62,Satokasvi!$H$8,Satokasvi!$I$8)*_xlfn.BINOM.INV(1,(1-Satokasvi!$H$15),E62) -> 2525.0569 | AF62: =_xlfn.NORM.INV(F62,Satokasvi!$H$8,Satokasvi!$I$8)*_xlfn.BINOM.INV(1,(1-Satokasvi!$H$15),F62) -> 2341.3041 | AG62: =_xlfn.NORM.INV(G62,Satokasvi!$H$8,Satokasvi!$I$8)*_xlfn.BINOM.INV(1,(1-Satokasvi!$H$15),G62) -> 0 | AH62: =_xlfn.NORM.INV(H62,Satokasvi!$H$8,Satokasvi!$I$8)*_xlfn.BINOM.INV(1,(1-Satokasvi!$H$15),H62) -> 2630.7735 | AI62: =_xlfn.NORM.INV(I62,Satokasvi!$H$8,Satokasvi!$I$8)*_xlfn.BINOM.INV(1,(1-Satokasvi!$H$15),I62) -> 2873.2311 | ... AZ62: =_xlfn.NORM.INV(Z62,Satokasvi!$H$8,Satokasvi!$I$8)*_xlfn.BINOM.INV(1,(1-Satokasvi!$H$15),Z62) -> 0 | BB62: =IF(C$11="x",0,_xlfn.NORM.INV(B62,Satokasvi!$H$8,Satokasvi!$I$8)*IF(C$8="x",(1+Toimenpiteet!$C$7),1)*IF(C$9="x",(1+Toimenpiteet!$C$34),1)*(1+C$30)*_xlfn.BINOM.INV(1,(1-(Satokasvi!$H$15*(1+C$41))),B62)) -> 2357.5955 | BC62: =IF(D$11="x",0,_xlfn.NORM.INV(C62,Satokasvi!$H$8,Satokasvi!$I$8)*IF(D$8="x",(1+Toimenpiteet!$C$7),1)*IF(D$9="x",(1+Toimenpiteet!$C$34),1)*(1+D$30)*_xlfn.BINOM.INV(1,(1-(Satokasvi!$H$15*(1+D$41))),C62)) -> 2664.5126 | BD62: =IF(E$11="x",0,_xlfn.NORM.INV(D62,Satokasvi!$H$8,Satokasvi!$I$8)*IF(E$8="x",(1+Toimenpiteet!$C$7),1)*IF(E$9="x",(1+Toimenpiteet!$C$34),1)*(1+E$30)*_xlfn.BINOM.INV(1,(1-(Satokasvi!$H$15*(1+E$41))),D62)) -> 0 | BE62: =IF(F$11="x",0,_xlfn.NORM.INV(E62,Satokasvi!$H$8,Satokasvi!$I$8)*IF(F$8="x",(1+Toimenpiteet!$C$7),1)*IF(F$9="x",(1+Toimenpiteet!$C$34),1)*(1+F$30)*_xlfn.BINOM.INV(1,(1-(Satokasvi!$H$15*(1+F$41))),E62)) -> 2525.0569 | BF62: =IF(G$11="x",0,_xlfn.NORM.INV(F62,Satokasvi!$H$8,Satokasvi!$I$8)*IF(G$8="x",(1+Toimenpiteet!$C$7),1)*IF(G$9="x",(1+Toimenpiteet!$C$34),1)*(1+G$30)*_xlfn.BINOM.INV(1,(1-(Satokasvi!$H$15*(1+G$41))),F62)) -> 2341.3041 | BG62: =IF(H$11="x",0,_xlfn.NORM.INV(G62,Satokasvi!$H$8,Satokasvi!$I$8)*IF(H$8="x",(1+Toimenpiteet!$C$7),1)*IF(H$9="x",(1+Toimenpiteet!$C$34),1)*(1+H$30)*_xlfn.BINOM.INV(1,(1-(Satokasvi!$H$15*(1+H$41))),G62)) -> 0 | BH62: =IF(I$11="x",0,_xlfn.NORM.INV(H62,Satokasvi!$H$8,Satokasvi!$I$8)*IF(I$8="x",(1+Toimenpiteet!$C$7),1)*IF(I$9="x",(1+Toimenpiteet!$C$34),1)*(1+I$30)*_xlfn.BINOM.INV(1,(1-(Satokasvi!$H$15*(1+I$41))),H62)) -> 2630.7735 | BI62: =IF(J$11="x",0,_xlfn.NORM.INV(I62,Satokasvi!$H$8,Satokasvi!$I$8)*IF(J$8="x",(1+Toimenpiteet!$C$7),1)*IF(J$9="x",(1+Toimenpiteet!$C$34),1)*(1+J$30)*_xlfn.BINOM.INV(1,(1-(Satokasvi!$H$15*(1+J$41))),I62)) -> 2873.2311 | ... BZ62: =IF(AA$11="x",0,_xlfn.NORM.INV(Z62,Satokasvi!$H$8,Satokasvi!$I$8)*IF(AA$8="x",(1+Toimenpiteet!$C$7),1)*IF(AA$9="x",(1+Toimenpiteet!$C$34),1)*(1+AA$30)*_xlfn.BINOM.INV(1,(1-(Satokasvi!$H$15*(1+AA$41))),Z62)) -> 0 | CB62: =_xlfn.NORM.INV(RAND(),Satokasvi!$H$13,Satokasvi!$I$13) -> 271.32114 | CC62: =_xlfn.NORM.INV(RAND(),Satokasvi!$H$13,Satokasvi!$I$13) -> 173.0197 | CD62: =_xlfn.NORM.INV(RAND(),Satokasvi!$H$13,Satokasvi!$I$13) -> 165.55713 | CE62: =_xlfn.NORM.INV(RAND(),Satokasvi!$H$13,Satokasvi!$I$13) -> 223.87371 | CF62: =_xlfn.NORM.INV(RAND(),Satokasvi!$H$13,Satokasvi!$I$13) -> 228.37395 | CG62: =_xlfn.NORM.INV(RAND(),Satokasvi!$H$13,Satokasvi!$I$13) -> 189.29204 | CH62: =_xlfn.NORM.INV(RAND(),Satokasvi!$H$13,Satokasvi!$I$13) -> 248.88629 | CI62: =_xlfn.NORM.INV(RAND(),Satokasvi!$H$13,Satokasvi!$I$13) -> 162.87696 | ... CZ62: =_xlfn.NORM.INV(RAND(),Satokasvi!$H$13,Satokasvi!$I$13) -> 188.0726 | DB62: =(AB62*(CB62/1000)+(Satokasvi!$E$28-Satokasvi!$E$7))/(1+$C$13)^DB$61 -> 363.7529 | DC62: =(AC62*(CC62/1000)+(Satokasvi!$E$28-Satokasvi!$E$7))/(1+$C$13)^DC$61 -> 184.7612 | DD62: =(AD62*(CD62/1000)+(Satokasvi!$E$28-Satokasvi!$E$7))/(1+$C$13)^DD$61 -> -242.51254 | DE62: =(AE62*(CE62/1000)+(Satokasvi!$E$28-Satokasvi!$E$7))/(1+$C$13)^DE$61 -> 266.80721 | DF62: =(AF62*(CF62/1000)+(Satokasvi!$E$28-Satokasvi!$E$7))/(1+$C$13)^DF$61 -> 232.63943 | DG62: =(AG62*(CG62/1000)+(Satokasvi!$E$28-Satokasvi!$E$7))/(1+$C$13)^DG$61 -> -221.93333 | DH62: =(AH62*(CH62/1000)+(Satokasvi!$E$28-Satokasvi!$E$7))/(1+$C$13)^DH$61 -> 316.91336 | DI62: =(AI62*(CI62/1000)+(Satokasvi!$E$28-Satokasvi!$E$7))/(1+$C$13)^DI$61 -> 160.23676 | ... DZ62: =(AZ62*(CZ62/1000)+(Satokasvi!$E$28-Satokasvi!$E$7))/(1+$C$13)^DZ$61 -> -126.56548 | EB62: =IF(C$11="x",Toimenpiteet!$E$115,BB62*(CB62/1000)+(Satokasvi!$E$28-Satokasvi!$E$7)+IF(C$8="x",Toimenpiteet!$E$29,0)+IF(C$9="x",Toimenpiteet!$E$60,0)+IF(C$10="x",Toimenpiteet!$E$88,0))/(1+$C$13)^EB$61 -> 363.7529 | EC62: =IF(D$11="x",Toimenpiteet!$E$115,BC62*(CC62/1000)+(Satokasvi!$E$28-Satokasvi!$E$7)+IF(D$8="x",Toimenpiteet!$E$29,0)+IF(D$9="x",Toimenpiteet!$E$60,0)+IF(D$10="x",Toimenpiteet!$E$88,0))/(1+$C$13)^EC$61 -> 184.7612 | ED62: =IF(E$11="x",Toimenpiteet!$E$115,BD62*(CD62/1000)+(Satokasvi!$E$28-Satokasvi!$E$7)+IF(E$8="x",Toimenpiteet!$E$29,0)+IF(E$9="x",Toimenpiteet!$E$60,0)+IF(E$10="x",Toimenpiteet!$E$88,0))/(1+$C$13)^ED$61 -> -242.51254 | EE62: =IF(F$11="x",Toimenpiteet!$E$115,BE62*(CE62/1000)+(Satokasvi!$E$28-Satokasvi!$E$7)+IF(F$8="x",Toimenpiteet!$E$29,0)+IF(F$9="x",Toimenpiteet!$E$60,0)+IF(F$10="x",Toimenpiteet!$E$88,0))/(1+$C$13)^EE$61 -> 266.80721 | EF62: =IF(G$11="x",Toimenpiteet!$E$115,BF62*(CF62/1000)+(Satokasvi!$E$28-Satokasvi!$E$7)+IF(G$8="x",Toimenpiteet!$E$29,0)+IF(G$9="x",Toimenpiteet!$E$60,0)+IF(G$10="x",Toimenpiteet!$E$88,0))/(1+$C$13)^EF$61 -> 232.63943 | EG62: =IF(H$11="x",Toimenpiteet!$E$115,BG62*(CG62/1000)+(Satokasvi!$E$28-Satokasvi!$E$7)+IF(H$8="x",Toimenpiteet!$E$29,0)+IF(H$9="x",Toimenpiteet!$E$60,0)+IF(H$10="x",Toimenpiteet!$E$88,0))/(1+$C$13)^EG$61 -> -221.93333 | EH62: =IF(I$11="x",Toimenpiteet!$E$115,BH62*(CH62/1000)+(Satokasvi!$E$28-Satokasvi!$E$7)+IF(I$8="x",Toimenpiteet!$E$29,0)+IF(I$9="x",Toimenpiteet!$E$60,0)+IF(I$10="x",Toimenpiteet!$E$88,0))/(1+$C$13)^EH$61 -> 316.91336 | EI62: =IF(J$11="x",Toimenpiteet!$E$115,BI62*(CI62/1000)+(Satokasvi!$E$28-Satokasvi!$E$7)+IF(J$8="x",Toimenpiteet!$E$29,0)+IF(J$9="x",Toimenpiteet!$E$60,0)+IF(J$10="x",Toimenpiteet!$E$88,0))/(1+$C$13)^EI$61 -> 160.23676 | ... EZ62: =IF(AA$11="x",Toimenpiteet!$E$115,BZ62*(CZ62/1000)+(Satokasvi!$E$28-Satokasvi!$E$7)+IF(AA$8="x",Toimenpiteet!$E$29,0)+IF(AA$9="x",Toimenpiteet!$E$60,0)+IF(AA$10="x",Toimenpiteet!$E$88,0))/(1+$C$13)^EZ$61 -> -126.56548 | FB62: =DB62 -> 363.7529 | FC62: =FB62+DC62 -> 548.51409 | FD62: =FC62+DD62 -> 306.00155 | FE62: =FD62+DE62 -> 572.80877 | FF62: =FE62+DF62 -> 805.4482 | FG62: =FF62+DG62 -> 583.51487 | FH62: =FG62+DH62 -> 900.42824 | FI62: =FH62+DI62 -> 1060.665 | FJ62: =FI62+DJ62 -> 1395.7406 | ... FZ62: =FY62+DZ62 -> 2342.5831 | GB62: =EB62 -> 363.7529 | GC62: =GB62+EC62 -> 548.51409 | GD62: =GC62+ED62 -> 306.00155 | GE62: =GD62+EE62 -> 572.80877 | GF62: =GE62+EF62 -> 805.4482 | GG62: =GF62+EG62 -> 583.51487 | GH62: =GG62+EH62 -> 900.42824 | GI62: =GH62+EI62 -> 1060.665 | GJ62: =GI62+EJ62 -> 1395.7406 | ... GZ62: =GY62+EZ62 -> 2342.5831 | HB62: =_xlfn.XLOOKUP($BE$18,$FB$61:$FZ$61,FB62:FZ62) -> 805.4482 | HC62: =_xlfn.XLOOKUP($BE$18,$GB$61:$GZ$61,GB62:GZ62) -> 805.4482 | HD62: =IF(HC62>HB62,1,0) -> 0 | HF62: Odotettu katetuotto (ei toimenpiteitä) | HH62: =(Satokasvi!$E$28)/(1+$C$13)^HH$61 -> 228.15534 | HI62: =(Satokasvi!$E$28)/(1+$C$13)^HI$61 -> 221.51004 | HJ62: =(Satokasvi!$E$28)/(1+$C$13)^HJ$61 -> 215.05829 | HK62: =(Satokasvi!$E$28)/(1+$C$13)^HK$61 -> 208.79446 | HL62: =(Satokasvi!$E$28)/(1+$C$13)^HL$61 -> 202.71306 | HM62: =(Satokasvi!$E$28)/(1+$C$13)^HM$61 -> 196.8088 | HN62: =(Satokasvi!$E$28)/(1+$C$13)^HN$61 -> 191.07651 | HO62: =(Satokasvi!$E$28)/(1+$C$13)^HO$61 -> 185.51117 | ... IF62: =(Satokasvi!$E$28)/(1+$C$13)^IF$61 -> 112.23731 | IH62: =HH62 -> 228.15534 | II62: =IH62+HI62 -> 449.66538 | IJ62: =II62+HJ62 -> 664.72367 | IK62: =IJ62+HK62 -> 873.51812 | IL62: =IK62+HL62 -> 1076.2312 | IM62: =IL62+HM62 -> 1273.04 | IN62: =IM62+HN62 -> 1464.1165 | IO62: =IN62+HO62 -> 1649.6277 | IP62: =IO62+HP62 -> 1829.7356 | ... JF62: =JE62+IF62 -> 4092.0897
B63: =RAND() -> 0.65872684 | C63: =RAND() -> 0.047506321 | D63: =RAND() -> 0.79829717 | E63: =RAND() -> 0.7837353 | F63: =RAND() -> 0.41295534 | G63: =RAND() -> 0.84638547 | H63: =RAND() -> 0.10520433 | I63: =RAND() -> 0.59934863 | ... Z63: =RAND() -> 0.67186924 | AB63: =_xlfn.NORM.INV(B63,Satokasvi!$H$8,Satokasvi!$I$8)*_xlfn.BINOM.INV(1,(1-Satokasvi!$H$15),B63) -> 2602.2477 | AC63: =_xlfn.NORM.INV(C63,Satokasvi!$H$8,Satokasvi!$I$8)*_xlfn.BINOM.INV(1,(1-Satokasvi!$H$15),C63) -> 0 | AD63: =_xlfn.NORM.INV(D63,Satokasvi!$H$8,Satokasvi!$I$8)*_xlfn.BINOM.INV(1,(1-Satokasvi!$H$15),D63) -> 2708.8886 | AE63: =_xlfn.NORM.INV(E63,Satokasvi!$H$8,Satokasvi!$I$8)*_xlfn.BINOM.INV(1,(1-Satokasvi!$H$15),E63) -> 2696.2177 | AF63: =_xlfn.NORM.INV(F63,Satokasvi!$H$8,Satokasvi!$I$8)*_xlfn.BINOM.INV(1,(1-Satokasvi!$H$15),F63) -> 2445.0127 | AG63: =_xlfn.NORM.INV(G63,Satokasvi!$H$8,Satokasvi!$I$8)*_xlfn.BINOM.INV(1,(1-Satokasvi!$H$15),G63) -> 2755.2634 | AH63: =_xlfn.NORM.INV(H63,Satokasvi!$H$8,Satokasvi!$I$8)*_xlfn.BINOM.INV(1,(1-Satokasvi!$H$15),H63) -> 0 | AI63: =_xlfn.NORM.INV(I63,Satokasvi!$H$8,Satokasvi!$I$8)*_xlfn.BINOM.INV(1,(1-Satokasvi!$H$15),I63) -> 2562.9154 | ... AZ63: =_xlfn.NORM.INV(Z63,Satokasvi!$H$8,Satokasvi!$I$8)*_xlfn.BINOM.INV(1,(1-Satokasvi!$H$15),Z63) -> 2611.2701 | BB63: =IF(C$11="x",0,_xlfn.NORM.INV(B63,Satokasvi!$H$8,Satokasvi!$I$8)*IF(C$8="x",(1+Toimenpiteet!$C$7),1)*IF(C$9="x",(1+Toimenpiteet!$C$34),1)*(1+C$30)*_xlfn.BINOM.INV(1,(1-(Satokasvi!$H$15*(1+C$41))),B63)) -> 2602.2477 | BC63: =IF(D$11="x",0,_xlfn.NORM.INV(C63,Satokasvi!$H$8,Satokasvi!$I$8)*IF(D$8="x",(1+Toimenpiteet!$C$7),1)*IF(D$9="x",(1+Toimenpiteet!$C$34),1)*(1+D$30)*_xlfn.BINOM.INV(1,(1-(Satokasvi!$H$15*(1+D$41))),C63)) -> 0 | BD63: =IF(E$11="x",0,_xlfn.NORM.INV(D63,Satokasvi!$H$8,Satokasvi!$I$8)*IF(E$8="x",(1+Toimenpiteet!$C$7),1)*IF(E$9="x",(1+Toimenpiteet!$C$34),1)*(1+E$30)*_xlfn.BINOM.INV(1,(1-(Satokasvi!$H$15*(1+E$41))),D63)) -> 2708.8886 | BE63: =IF(F$11="x",0,_xlfn.NORM.INV(E63,Satokasvi!$H$8,Satokasvi!$I$8)*IF(F$8="x",(1+Toimenpiteet!$C$7),1)*IF(F$9="x",(1+Toimenpiteet!$C$34),1)*(1+F$30)*_xlfn.BINOM.INV(1,(1-(Satokasvi!$H$15*(1+F$41))),E63)) -> 2696.2177 | BF63: =IF(G$11="x",0,_xlfn.NORM.INV(F63,Satokasvi!$H$8,Satokasvi!$I$8)*IF(G$8="x",(1+Toimenpiteet!$C$7),1)*IF(G$9="x",(1+Toimenpiteet!$C$34),1)*(1+G$30)*_xlfn.BINOM.INV(1,(1-(Satokasvi!$H$15*(1+G$41))),F63)) -> 2445.0127 | BG63: =IF(H$11="x",0,_xlfn.NORM.INV(G63,Satokasvi!$H$8,Satokasvi!$I$8)*IF(H$8="x",(1+Toimenpiteet!$C$7),1)*IF(H$9="x",(1+Toimenpiteet!$C$34),1)*(1+H$30)*_xlfn.BINOM.INV(1,(1-(Satokasvi!$H$15*(1+H$41))),G63)) -> 2755.2634 | BH63: =IF(I$11="x",0,_xlfn.NORM.INV(H63,Satokasvi!$H$8,Satokasvi!$I$8)*IF(I$8="x",(1+Toimenpiteet!$C$7),1)*IF(I$9="x",(1+Toimenpiteet!$C$34),1)*(1+I$30)*_xlfn.BINOM.INV(1,(1-(Satokasvi!$H$15*(1+I$41))),H63)) -> 0 | BI63: =IF(J$11="x",0,_xlfn.NORM.INV(I63,Satokasvi!$H$8,Satokasvi!$I$8)*IF(J$8="x",(1+Toimenpiteet!$C$7),1)*IF(J$9="x",(1+Toimenpiteet!$C$34),1)*(1+J$30)*_xlfn.BINOM.INV(1,(1-(Satokasvi!$H$15*(1+J$41))),I63)) -> 2562.9154 | ... BZ63: =IF(AA$11="x",0,_xlfn.NORM.INV(Z63,Satokasvi!$H$8,Satokasvi!$I$8)*IF(AA$8="x",(1+Toimenpiteet!$C$7),1)*IF(AA$9="x",(1+Toimenpiteet!$C$34),1)*(1+AA$30)*_xlfn.BINOM.INV(1,(1-(Satokasvi!$H$15*(1+AA$41))),Z63)) -> 2611.2701 | CB63: =_xlfn.NORM.INV(RAND(),Satokasvi!$H$13,Satokasvi!$I$13) -> 167.33478 | CC63: =_xlfn.NORM.INV(RAND(),Satokasvi!$H$13,Satokasvi!$I$13) -> 211.83747 | CD63: =_xlfn.NORM.INV(RAND(),Satokasvi!$H$13,Satokasvi!$I$13) -> 252.8863 | CE63: =_xlfn.NORM.INV(RAND(),Satokasvi!$H$13,Satokasvi!$I$13) -> 213.99766 | CF63: =_xlfn.NORM.INV(RAND(),Satokasvi!$H$13,Satokasvi!$I$13) -> 211.75824 | CG63: =_xlfn.NORM.INV(RAND(),Satokasvi!$H$13,Satokasvi!$I$13) -> 227.84933 | CH63: =_xlfn.NORM.INV(RAND(),Satokasvi!$H$13,Satokasvi!$I$13) -> 223.16226 | CI63: =_xlfn.NORM.INV(RAND(),Satokasvi!$H$13,Satokasvi!$I$13) -> 228.07445 | ... CZ63: =_xlfn.NORM.INV(RAND(),Satokasvi!$H$13,Satokasvi!$I$13) -> 186.88645 | DB63: =(AB63*(CB63/1000)+(Satokasvi!$E$28-Satokasvi!$E$7))/(1+$C$13)^DB$61 -> 165.48208 | DC63: =(AC63*(CC63/1000)+(Satokasvi!$E$28-Satokasvi!$E$7))/(1+$C$13)^DC$61 -> -249.78792 | DD63: =(AD63*(CD63/1000)+(Satokasvi!$E$28-Satokasvi!$E$7))/(1+$C$13)^DD$61 -> 384.39684 | DE63: =(AE63*(CE63/1000)+(Satokasvi!$E$28-Satokasvi!$E$7))/(1+$C$13)^DE$61 -> 277.19397 | DF63: =(AF63*(CF63/1000)+(Satokasvi!$E$28-Satokasvi!$E$7))/(1+$C$13)^DF$61 -> 218.02573 | DG63: =(AG63*(CG63/1000)+(Satokasvi!$E$28-Satokasvi!$E$7))/(1+$C$13)^DG$61 -> 303.82667 | DH63: =(AH63*(CH63/1000)+(Satokasvi!$E$28-Satokasvi!$E$7))/(1+$C$13)^DH$61 -> -215.46925 | DI63: =(AI63*(CI63/1000)+(Satokasvi!$E$28-Satokasvi!$E$7))/(1+$C$13)^DI$61 -> 252.24429 | ... DZ63: =(AZ63*(CZ63/1000)+(Satokasvi!$E$28-Satokasvi!$E$7))/(1+$C$13)^DZ$61 -> 106.5113 | EB63: =IF(C$11="x",Toimenpiteet!$E$115,BB63*(CB63/1000)+(Satokasvi!$E$28-Satokasvi!$E$7)+IF(C$8="x",Toimenpiteet!$E$29,0)+IF(C$9="x",Toimenpiteet!$E$60,0)+IF(C$10="x",Toimenpiteet!$E$88,0))/(1+$C$13)^EB$61 -> 165.48208 | EC63: =IF(D$11="x",Toimenpiteet!$E$115,BC63*(CC63/1000)+(Satokasvi!$E$28-Satokasvi!$E$7)+IF(D$8="x",Toimenpiteet!$E$29,0)+IF(D$9="x",Toimenpiteet!$E$60,0)+IF(D$10="x",Toimenpiteet!$E$88,0))/(1+$C$13)^EC$61 -> -249.78792 | ED63: =IF(E$11="x",Toimenpiteet!$E$115,BD63*(CD63/1000)+(Satokasvi!$E$28-Satokasvi!$E$7)+IF(E$8="x",Toimenpiteet!$E$29,0)+IF(E$9="x",Toimenpiteet!$E$60,0)+IF(E$10="x",Toimenpiteet!$E$88,0))/(1+$C$13)^ED$61 -> 384.39684 | EE63: =IF(F$11="x",Toimenpiteet!$E$115,BE63*(CE63/1000)+(Satokasvi!$E$28-Satokasvi!$E$7)+IF(F$8="x",Toimenpiteet!$E$29,0)+IF(F$9="x",Toimenpiteet!$E$60,0)+IF(F$10="x",Toimenpiteet!$E$88,0))/(1+$C$13)^EE$61 -> 277.19397 | EF63: =IF(G$11="x",Toimenpiteet!$E$115,BF63*(CF63/1000)+(Satokasvi!$E$28-Satokasvi!$E$7)+IF(G$8="x",Toimenpiteet!$E$29,0)+IF(G$9="x",Toimenpiteet!$E$60,0)+IF(G$10="x",Toimenpiteet!$E$88,0))/(1+$C$13)^EF$61 -> 218.02573 | EG63: =IF(H$11="x",Toimenpiteet!$E$115,BG63*(CG63/1000)+(Satokasvi!$E$28-Satokasvi!$E$7)+IF(H$8="x",Toimenpiteet!$E$29,0)+IF(H$9="x",Toimenpiteet!$E$60,0)+IF(H$10="x",Toimenpiteet!$E$88,0))/(1+$C$13)^EG$61 -> 303.82667 | EH63: =IF(I$11="x",Toimenpiteet!$E$115,BH63*(CH63/1000)+(Satokasvi!$E$28-Satokasvi!$E$7)+IF(I$8="x",Toimenpiteet!$E$29,0)+IF(I$9="x",Toimenpiteet!$E$60,0)+IF(I$10="x",Toimenpiteet!$E$88,0))/(1+$C$13)^EH$61 -> -215.46925 | EI63: =IF(J$11="x",Toimenpiteet!$E$115,BI63*(CI63/1000)+(Satokasvi!$E$28-Satokasvi!$E$7)+IF(J$8="x",Toimenpiteet!$E$29,0)+IF(J$9="x",Toimenpiteet!$E$60,0)+IF(J$10="x",Toimenpiteet!$E$88,0))/(1+$C$13)^EI$61 -> 252.24429 | ... EZ63: =IF(AA$11="x",Toimenpiteet!$E$115,BZ63*(CZ63/1000)+(Satokasvi!$E$28-Satokasvi!$E$7)+IF(AA$8="x",Toimenpiteet!$E$29,0)+IF(AA$9="x",Toimenpiteet!$E$60,0)+IF(AA$10="x",Toimenpiteet!$E$88,0))/(1+$C$13)^EZ$61 -> 106.5113 | FB63: =DB63 -> 165.48208 | FC63: =FB63+DC63 -> -84.305835 | FD63: =FC63+DD63 -> 300.091 | FE63: =FD63+DE63 -> 577.28498 | FF63: =FE63+DF63 -> 795.31071 | FG63: =FF63+DG63 -> 1099.1374 | FH63: =FG63+DH63 -> 883.66812 | FI63: =FH63+DI63 -> 1135.9124 | FJ63: =FI63+DJ63 -> 1314.0366 | ... FZ63: =FY63+DZ63 -> 3050.4321 | GB63: =EB63 -> 165.48208 | GC63: =GB63+EC63 -> -84.305835 | GD63: =GC63+ED63 -> 300.091 | GE63: =GD63+EE63 -> 577.28498 | GF63: =GE63+EF63 -> 795.31071 | GG63: =GF63+EG63 -> 1099.1374 | GH63: =GG63+EH63 -> 883.66812 | GI63: =GH63+EI63 -> 1135.9124 | GJ63: =GI63+EJ63 -> 1314.0366 | ... GZ63: =GY63+EZ63 -> 3050.4321 | HB63: =_xlfn.XLOOKUP($BE$18,$FB$61:$FZ$61,FB63:FZ63) -> 795.31071 | HC63: =_xlfn.XLOOKUP($BE$18,$GB$61:$GZ$61,GB63:GZ63) -> 795.31071 | HD63: =IF(HC63>HB63,1,0) -> 0
B64: =RAND() -> 0.72506263 | C64: =RAND() -> 0.59042263 | D64: =RAND() -> 0.31705317 | E64: =RAND() -> 0.31782035 | F64: =RAND() -> 0.37812174 | G64: =RAND() -> 0.72795367 | H64: =RAND() -> 0.082653857 | I64: =RAND() -> 0.80844373 | ... Z64: =RAND() -> 0.12554674 | AB64: =_xlfn.NORM.INV(B64,Satokasvi!$H$8,Satokasvi!$I$8)*_xlfn.BINOM.INV(1,(1-Satokasvi!$H$15),B64) -> 2649.487 | AC64: =_xlfn.NORM.INV(C64,Satokasvi!$H$8,Satokasvi!$I$8)*_xlfn.BINOM.INV(1,(1-Satokasvi!$H$15),C64) -> 2557.1581 | AD64: =_xlfn.NORM.INV(D64,Satokasvi!$H$8,Satokasvi!$I$8)*_xlfn.BINOM.INV(1,(1-Satokasvi!$H$15),D64) -> 2381.0112 | AE64: =_xlfn.NORM.INV(E64,Satokasvi!$H$8,Satokasvi!$I$8)*_xlfn.BINOM.INV(1,(1-Satokasvi!$H$15),E64) -> 2381.5494 | AF64: =_xlfn.NORM.INV(F64,Satokasvi!$H$8,Satokasvi!$I$8)*_xlfn.BINOM.INV(1,(1-Satokasvi!$H$15),F64) -> 2422.3956 | AG64: =_xlfn.NORM.INV(G64,Satokasvi!$H$8,Satokasvi!$I$8)*_xlfn.BINOM.INV(1,(1-Satokasvi!$H$15),G64) -> 2651.6589 | AH64: =_xlfn.NORM.INV(H64,Satokasvi!$H$8,Satokasvi!$I$8)*_xlfn.BINOM.INV(1,(1-Satokasvi!$H$15),H64) -> 0 | AI64: =_xlfn.NORM.INV(I64,Satokasvi!$H$8,Satokasvi!$I$8)*_xlfn.BINOM.INV(1,(1-Satokasvi!$H$15),I64) -> 2718.0439 | ... AZ64: =_xlfn.NORM.INV(Z64,Satokasvi!$H$8,Satokasvi!$I$8)*_xlfn.BINOM.INV(1,(1-Satokasvi!$H$15),Z64) -> 0 | BB64: =IF(C$11="x",0,_xlfn.NORM.INV(B64,Satokasvi!$H$8,Satokasvi!$I$8)*IF(C$8="x",(1+Toimenpiteet!$C$7),1)*IF(C$9="x",(1+Toimenpiteet!$C$34),1)*(1+C$30)*_xlfn.BINOM.INV(1,(1-(Satokasvi!$H$15*(1+C$41))),B64)) -> 2649.487 | BC64: =IF(D$11="x",0,_xlfn.NORM.INV(C64,Satokasvi!$H$8,Satokasvi!$I$8)*IF(D$8="x",(1+Toimenpiteet!$C$7),1)*IF(D$9="x",(1+Toimenpiteet!$C$34),1)*(1+D$30)*_xlfn.BINOM.INV(1,(1-(Satokasvi!$H$15*(1+D$41))),C64)) -> 2557.1581 | BD64: =IF(E$11="x",0,_xlfn.NORM.INV(D64,Satokasvi!$H$8,Satokasvi!$I$8)*IF(E$8="x",(1+Toimenpiteet!$C$7),1)*IF(E$9="x",(1+Toimenpiteet!$C$34),1)*(1+E$30)*_xlfn.BINOM.INV(1,(1-(Satokasvi!$H$15*(1+E$41))),D64)) -> 2381.0112 | BE64: =IF(F$11="x",0,_xlfn.NORM.INV(E64,Satokasvi!$H$8,Satokasvi!$I$8)*IF(F$8="x",(1+Toimenpiteet!$C$7),1)*IF(F$9="x",(1+Toimenpiteet!$C$34),1)*(1+F$30)*_xlfn.BINOM.INV(1,(1-(Satokasvi!$H$15*(1+F$41))),E64)) -> 2381.5494 | BF64: =IF(G$11="x",0,_xlfn.NORM.INV(F64,Satokasvi!$H$8,Satokasvi!$I$8)*IF(G$8="x",(1+Toimenpiteet!$C$7),1)*IF(G$9="x",(1+Toimenpiteet!$C$34),1)*(1+G$30)*_xlfn.BINOM.INV(1,(1-(Satokasvi!$H$15*(1+G$41))),F64)) -> 2422.3956 | BG64: =IF(H$11="x",0,_xlfn.NORM.INV(G64,Satokasvi!$H$8,Satokasvi!$I$8)*IF(H$8="x",(1+Toimenpiteet!$C$7),1)*IF(H$9="x",(1+Toimenpiteet!$C$34),1)*(1+H$30)*_xlfn.BINOM.INV(1,(1-(Satokasvi!$H$15*(1+H$41))),G64)) -> 2651.6589 | BH64: =IF(I$11="x",0,_xlfn.NORM.INV(H64,Satokasvi!$H$8,Satokasvi!$I$8)*IF(I$8="x",(1+Toimenpiteet!$C$7),1)*IF(I$9="x",(1+Toimenpiteet!$C$34),1)*(1+I$30)*_xlfn.BINOM.INV(1,(1-(Satokasvi!$H$15*(1+I$41))),H64)) -> 0 | BI64: =IF(J$11="x",0,_xlfn.NORM.INV(I64,Satokasvi!$H$8,Satokasvi!$I$8)*IF(J$8="x",(1+Toimenpiteet!$C$7),1)*IF(J$9="x",(1+Toimenpiteet!$C$34),1)*(1+J$30)*_xlfn.BINOM.INV(1,(1-(Satokasvi!$H$15*(1+J$41))),I64)) -> 2718.0439 | ... BZ64: =IF(AA$11="x",0,_xlfn.NORM.INV(Z64,Satokasvi!$H$8,Satokasvi!$I$8)*IF(AA$8="x",(1+Toimenpiteet!$C$7),1)*IF(AA$9="x",(1+Toimenpiteet!$C$34),1)*(1+AA$30)*_xlfn.BINOM.INV(1,(1-(Satokasvi!$H$15*(1+AA$41))),Z64)) -> 0 | CB64: =_xlfn.NORM.INV(RAND(),Satokasvi!$H$13,Satokasvi!$I$13) -> 191.76096 | CC64: =_xlfn.NORM.INV(RAND(),Satokasvi!$H$13,Satokasvi!$I$13) -> 204.79111 | CD64: =_xlfn.NORM.INV(RAND(),Satokasvi!$H$13,Satokasvi!$I$13) -> 124.07035 | CE64: =_xlfn.NORM.INV(RAND(),Satokasvi!$H$13,Satokasvi!$I$13) -> 160.18398 | CF64: =_xlfn.NORM.INV(RAND(),Satokasvi!$H$13,Satokasvi!$I$13) -> 134.94452 | CG64: =_xlfn.NORM.INV(RAND(),Satokasvi!$H$13,Satokasvi!$I$13) -> 264.93479 | CH64: =_xlfn.NORM.INV(RAND(),Satokasvi!$H$13,Satokasvi!$I$13) -> 180.08265 | CI64: =_xlfn.NORM.INV(RAND(),Satokasvi!$H$13,Satokasvi!$I$13) -> 215.05024 | ... CZ64: =_xlfn.NORM.INV(RAND(),Satokasvi!$H$13,Satokasvi!$I$13) -> 155.71887 | DB64: =(AB64*(CB64/1000)+(Satokasvi!$E$28-Satokasvi!$E$7))/(1+$C$13)^DB$61 -> 235.9885 | DC64: =(AC64*(CC64/1000)+(Satokasvi!$E$28-Satokasvi!$E$7))/(1+$C$13)^DC$61 -> 243.83377 | DD64: =(AD64*(CD64/1000)+(Satokasvi!$E$28-Satokasvi!$E$7))/(1+$C$13)^DD$61 -> 27.832099 | DE64: =(AE64*(CE64/1000)+(Satokasvi!$E$28-Satokasvi!$E$7))/(1+$C$13)^DE$61 -> 103.49635 | DF64: =(AF64*(CF64/1000)+(Satokasvi!$E$28-Satokasvi!$E$7))/(1+$C$13)^DF$61 -> 53.386006 | DG64: =(AG64*(CG64/1000)+(Satokasvi!$E$28-Satokasvi!$E$7))/(1+$C$13)^DG$61 -> 366.41336 | DH64: =(AH64*(CH64/1000)+(Satokasvi!$E$28-Satokasvi!$E$7))/(1+$C$13)^DH$61 -> -215.46925 | DI64: =(AI64*(CI64/1000)+(Satokasvi!$E$28-Satokasvi!$E$7))/(1+$C$13)^DI$61 -> 252.22888 | ... DZ64: =(AZ64*(CZ64/1000)+(Satokasvi!$E$28-Satokasvi!$E$7))/(1+$C$13)^DZ$61 -> -126.56548 | EB64: =IF(C$11="x",Toimenpiteet!$E$115,BB64*(CB64/1000)+(Satokasvi!$E$28-Satokasvi!$E$7)+IF(C$8="x",Toimenpiteet!$E$29,0)+IF(C$9="x",Toimenpiteet!$E$60,0)+IF(C$10="x",Toimenpiteet!$E$88,0))/(1+$C$13)^EB$61 -> 235.9885 | EC64: =IF(D$11="x",Toimenpiteet!$E$115,BC64*(CC64/1000)+(Satokasvi!$E$28-Satokasvi!$E$7)+IF(D$8="x",Toimenpiteet!$E$29,0)+IF(D$9="x",Toimenpiteet!$E$60,0)+IF(D$10="x",Toimenpiteet!$E$88,0))/(1+$C$13)^EC$61 -> 243.83377 | ED64: =IF(E$11="x",Toimenpiteet!$E$115,BD64*(CD64/1000)+(Satokasvi!$E$28-Satokasvi!$E$7)+IF(E$8="x",Toimenpiteet!$E$29,0)+IF(E$9="x",Toimenpiteet!$E$60,0)+IF(E$10="x",Toimenpiteet!$E$88,0))/(1+$C$13)^ED$61 -> 27.832099 | EE64: =IF(F$11="x",Toimenpiteet!$E$115,BE64*(CE64/1000)+(Satokasvi!$E$28-Satokasvi!$E$7)+IF(F$8="x",Toimenpiteet!$E$29,0)+IF(F$9="x",Toimenpiteet!$E$60,0)+IF(F$10="x",Toimenpiteet!$E$88,0))/(1+$C$13)^EE$61 -> 103.49635 | EF64: =IF(G$11="x",Toimenpiteet!$E$115,BF64*(CF64/1000)+(Satokasvi!$E$28-Satokasvi!$E$7)+IF(G$8="x",Toimenpiteet!$E$29,0)+IF(G$9="x",Toimenpiteet!$E$60,0)+IF(G$10="x",Toimenpiteet!$E$88,0))/(1+$C$13)^EF$61 -> 53.386006 | EG64: =IF(H$11="x",Toimenpiteet!$E$115,BG64*(CG64/1000)+(Satokasvi!$E$28-Satokasvi!$E$7)+IF(H$8="x",Toimenpiteet!$E$29,0)+IF(H$9="x",Toimenpiteet!$E$60,0)+IF(H$10="x",Toimenpiteet!$E$88,0))/(1+$C$13)^EG$61 -> 366.41336 | EH64: =IF(I$11="x",Toimenpiteet!$E$115,BH64*(CH64/1000)+(Satokasvi!$E$28-Satokasvi!$E$7)+IF(I$8="x",Toimenpiteet!$E$29,0)+IF(I$9="x",Toimenpiteet!$E$60,0)+IF(I$10="x",Toimenpiteet!$E$88,0))/(1+$C$13)^EH$61 -> -215.46925 | EI64: =IF(J$11="x",Toimenpiteet!$E$115,BI64*(CI64/1000)+(Satokasvi!$E$28-Satokasvi!$E$7)+IF(J$8="x",Toimenpiteet!$E$29,0)+IF(J$9="x",Toimenpiteet!$E$60,0)+IF(J$10="x",Toimenpiteet!$E$88,0))/(1+$C$13)^EI$61 -> 252.22888 | ... EZ64: =IF(AA$11="x",Toimenpiteet!$E$115,BZ64*(CZ64/1000)+(Satokasvi!$E$28-Satokasvi!$E$7)+IF(AA$8="x",Toimenpiteet!$E$29,0)+IF(AA$9="x",Toimenpiteet!$E$60,0)+IF(AA$10="x",Toimenpiteet!$E$88,0))/(1+$C$13)^EZ$61 -> -126.56548 | FB64: =DB64 -> 235.9885 | FC64: =FB64+DC64 -> 479.82228 | FD64: =FC64+DD64 -> 507.65438 | FE64: =FD64+DE64 -> 611.15073 | FF64: =FE64+DF64 -> 664.53673 | FG64: =FF64+DG64 -> 1030.9501 | FH64: =FG64+DH64 -> 815.48084 | FI64: =FH64+DI64 -> 1067.7097 | FJ64: =FI64+DJ64 -> 1297.9724 | ... FZ64: =FY64+DZ64 -> 2530.5585 | GB64: =EB64 -> 235.9885 | GC64: =GB64+EC64 -> 479.82228 | GD64: =GC64+ED64 -> 507.65438 | GE64: =GD64+EE64 -> 611.15073 | GF64: =GE64+EF64 -> 664.53673 | GG64: =GF64+EG64 -> 1030.9501 | GH64: =GG64+EH64 -> 815.48084 | GI64: =GH64+EI64 -> 1067.7097 | GJ64: =GI64+EJ64 -> 1297.9724 | ... GZ64: =GY64+EZ64 -> 2530.5585 | HB64: =_xlfn.XLOOKUP($BE$18,$FB$61:$FZ$61,FB64:FZ64) -> 664.53673 | HC64: =_xlfn.XLOOKUP($BE$18,$GB$61:$GZ$61,GB64:GZ64) -> 664.53673 | HD64: =IF(HC64>HB64,1,0) -> 0 | HF64: Lyhyen aikavälin kerroin | HG64: Pitkän aikavälin kerroin
B65: =RAND() -> 0.097424812 | C65: =RAND() -> 0.6837698 | D65: =RAND() -> 0.94042712 | E65: =RAND() -> 0.61538073 | F65: =RAND() -> 0.7051103 | G65: =RAND() -> 0.88096702 | H65: =RAND() -> 0.3264401 | I65: =RAND() -> 0.54832166 | ... Z65: =RAND() -> 0.22688995 | AB65: =_xlfn.NORM.INV(B65,Satokasvi!$H$8,Satokasvi!$I$8)*_xlfn.BINOM.INV(1,(1-Satokasvi!$H$15),B65) -> 0 | AC65: =_xlfn.NORM.INV(C65,Satokasvi!$H$8,Satokasvi!$I$8)*_xlfn.BINOM.INV(1,(1-Satokasvi!$H$15),C65) -> 2619.5667 | AD65: =_xlfn.NORM.INV(D65,Satokasvi!$H$8,Satokasvi!$I$8)*_xlfn.BINOM.INV(1,(1-Satokasvi!$H$15),D65) -> 2889.5923 | AE65: =_xlfn.NORM.INV(E65,Satokasvi!$H$8,Satokasvi!$I$8)*_xlfn.BINOM.INV(1,(1-Satokasvi!$H$15),E65) -> 2573.3428 | AF65: =_xlfn.NORM.INV(F65,Satokasvi!$H$8,Satokasvi!$I$8)*_xlfn.BINOM.INV(1,(1-Satokasvi!$H$15),F65) -> 2634.7889 | AG65: =_xlfn.NORM.INV(G65,Satokasvi!$H$8,Satokasvi!$I$8)*_xlfn.BINOM.INV(1,(1-Satokasvi!$H$15),G65) -> 2794.9587 | AH65: =_xlfn.NORM.INV(H65,Satokasvi!$H$8,Satokasvi!$I$8)*_xlfn.BINOM.INV(1,(1-Satokasvi!$H$15),H65) -> 2387.5589 | AI65: =_xlfn.NORM.INV(I65,Satokasvi!$H$8,Satokasvi!$I$8)*_xlfn.BINOM.INV(1,(1-Satokasvi!$H$15),I65) -> 2530.3555 | ... AZ65: =_xlfn.NORM.INV(Z65,Satokasvi!$H$8,Satokasvi!$I$8)*_xlfn.BINOM.INV(1,(1-Satokasvi!$H$15),Z65) -> 0 | BB65: =IF(C$11="x",0,_xlfn.NORM.INV(B65,Satokasvi!$H$8,Satokasvi!$I$8)*IF(C$8="x",(1+Toimenpiteet!$C$7),1)*IF(C$9="x",(1+Toimenpiteet!$C$34),1)*(1+C$30)*_xlfn.BINOM.INV(1,(1-(Satokasvi!$H$15*(1+C$41))),B65)) -> 0 | BC65: =IF(D$11="x",0,_xlfn.NORM.INV(C65,Satokasvi!$H$8,Satokasvi!$I$8)*IF(D$8="x",(1+Toimenpiteet!$C$7),1)*IF(D$9="x",(1+Toimenpiteet!$C$34),1)*(1+D$30)*_xlfn.BINOM.INV(1,(1-(Satokasvi!$H$15*(1+D$41))),C65)) -> 2619.5667 | BD65: =IF(E$11="x",0,_xlfn.NORM.INV(D65,Satokasvi!$H$8,Satokasvi!$I$8)*IF(E$8="x",(1+Toimenpiteet!$C$7),1)*IF(E$9="x",(1+Toimenpiteet!$C$34),1)*(1+E$30)*_xlfn.BINOM.INV(1,(1-(Satokasvi!$H$15*(1+E$41))),D65)) -> 2889.5923 | BE65: =IF(F$11="x",0,_xlfn.NORM.INV(E65,Satokasvi!$H$8,Satokasvi!$I$8)*IF(F$8="x",(1+Toimenpiteet!$C$7),1)*IF(F$9="x",(1+Toimenpiteet!$C$34),1)*(1+F$30)*_xlfn.BINOM.INV(1,(1-(Satokasvi!$H$15*(1+F$41))),E65)) -> 2573.3428 | BF65: =IF(G$11="x",0,_xlfn.NORM.INV(F65,Satokasvi!$H$8,Satokasvi!$I$8)*IF(G$8="x",(1+Toimenpiteet!$C$7),1)*IF(G$9="x",(1+Toimenpiteet!$C$34),1)*(1+G$30)*_xlfn.BINOM.INV(1,(1-(Satokasvi!$H$15*(1+G$41))),F65)) -> 2634.7889 | BG65: =IF(H$11="x",0,_xlfn.NORM.INV(G65,Satokasvi!$H$8,Satokasvi!$I$8)*IF(H$8="x",(1+Toimenpiteet!$C$7),1)*IF(H$9="x",(1+Toimenpiteet!$C$34),1)*(1+H$30)*_xlfn.BINOM.INV(1,(1-(Satokasvi!$H$15*(1+H$41))),G65)) -> 2794.9587 | BH65: =IF(I$11="x",0,_xlfn.NORM.INV(H65,Satokasvi!$H$8,Satokasvi!$I$8)*IF(I$8="x",(1+Toimenpiteet!$C$7),1)*IF(I$9="x",(1+Toimenpiteet!$C$34),1)*(1+I$30)*_xlfn.BINOM.INV(1,(1-(Satokasvi!$H$15*(1+I$41))),H65)) -> 2387.5589 | BI65: =IF(J$11="x",0,_xlfn.NORM.INV(I65,Satokasvi!$H$8,Satokasvi!$I$8)*IF(J$8="x",(1+Toimenpiteet!$C$7),1)*IF(J$9="x",(1+Toimenpiteet!$C$34),1)*(1+J$30)*_xlfn.BINOM.INV(1,(1-(Satokasvi!$H$15*(1+J$41))),I65)) -> 2530.3555 | ... BZ65: =IF(AA$11="x",0,_xlfn.NORM.INV(Z65,Satokasvi!$H$8,Satokasvi!$I$8)*IF(AA$8="x",(1+Toimenpiteet!$C$7),1)*IF(AA$9="x",(1+Toimenpiteet!$C$34),1)*(1+AA$30)*_xlfn.BINOM.INV(1,(1-(Satokasvi!$H$15*(1+AA$41))),Z65)) -> 0 | CB65: =_xlfn.NORM.INV(RAND(),Satokasvi!$H$13,Satokasvi!$I$13) -> 219.0073 | CC65: =_xlfn.NORM.INV(RAND(),Satokasvi!$H$13,Satokasvi!$I$13) -> 230.35332 | CD65: =_xlfn.NORM.INV(RAND(),Satokasvi!$H$13,Satokasvi!$I$13) -> 173.21681 | CE65: =_xlfn.NORM.INV(RAND(),Satokasvi!$H$13,Satokasvi!$I$13) -> 243.7242 | CF65: =_xlfn.NORM.INV(RAND(),Satokasvi!$H$13,Satokasvi!$I$13) -> 234.2243 | CG65: =_xlfn.NORM.INV(RAND(),Satokasvi!$H$13,Satokasvi!$I$13) -> 146.48049 | CH65: =_xlfn.NORM.INV(RAND(),Satokasvi!$H$13,Satokasvi!$I$13) -> 172.16391 | CI65: =_xlfn.NORM.INV(RAND(),Satokasvi!$H$13,Satokasvi!$I$13) -> 156.51602 | ... CZ65: =_xlfn.NORM.INV(RAND(),Satokasvi!$H$13,Satokasvi!$I$13) -> 298.9996 | DB65: =(AB65*(CB65/1000)+(Satokasvi!$E$28-Satokasvi!$E$7))/(1+$C$13)^DB$61 -> -257.28155 | DC65: =(AC65*(CC65/1000)+(Satokasvi!$E$28-Satokasvi!$E$7))/(1+$C$13)^DC$61 -> 318.99886 | DD65: =(AD65*(CD65/1000)+(Satokasvi!$E$28-Satokasvi!$E$7))/(1+$C$13)^DD$61 -> 215.53961 | DE65: =(AE65*(CE65/1000)+(Satokasvi!$E$28-Satokasvi!$E$7))/(1+$C$13)^DE$61 -> 321.79749 | DF65: =(AF65*(CF65/1000)+(Satokasvi!$E$28-Satokasvi!$E$7))/(1+$C$13)^DF$61 -> 303.7518 | DG65: =(AG65*(CG65/1000)+(Satokasvi!$E$28-Satokasvi!$E$7))/(1+$C$13)^DG$61 -> 120.93852 | DH65: =(AH65*(CH65/1000)+(Satokasvi!$E$28-Satokasvi!$E$7))/(1+$C$13)^DH$61 -> 118.7532 | DI65: =(AI65*(CI65/1000)+(Satokasvi!$E$28-Satokasvi!$E$7))/(1+$C$13)^DI$61 -> 103.44512 | ... DZ65: =(AZ65*(CZ65/1000)+(Satokasvi!$E$28-Satokasvi!$E$7))/(1+$C$13)^DZ$61 -> -126.56548 | EB65: =IF(C$11="x",Toimenpiteet!$E$115,BB65*(CB65/1000)+(Satokasvi!$E$28-Satokasvi!$E$7)+IF(C$8="x",Toimenpiteet!$E$29,0)+IF(C$9="x",Toimenpiteet!$E$60,0)+IF(C$10="x",Toimenpiteet!$E$88,0))/(1+$C$13)^EB$61 -> -257.28155 | EC65: =IF(D$11="x",Toimenpiteet!$E$115,BC65*(CC65/1000)+(Satokasvi!$E$28-Satokasvi!$E$7)+IF(D$8="x",Toimenpiteet!$E$29,0)+IF(D$9="x",Toimenpiteet!$E$60,0)+IF(D$10="x",Toimenpiteet!$E$88,0))/(1+$C$13)^EC$61 -> 318.99886 | ED65: =IF(E$11="x",Toimenpiteet!$E$115,BD65*(CD65/1000)+(Satokasvi!$E$28-Satokasvi!$E$7)+IF(E$8="x",Toimenpiteet!$E$29,0)+IF(E$9="x",Toimenpiteet!$E$60,0)+IF(E$10="x",Toimenpiteet!$E$88,0))/(1+$C$13)^ED$61 -> 215.53961 | EE65: =IF(F$11="x",Toimenpiteet!$E$115,BE65*(CE65/1000)+(Satokasvi!$E$28-Satokasvi!$E$7)+IF(F$8="x",Toimenpiteet!$E$29,0)+IF(F$9="x",Toimenpiteet!$E$60,0)+IF(F$10="x",Toimenpiteet!$E$88,0))/(1+$C$13)^EE$61 -> 321.79749 | EF65: =IF(G$11="x",Toimenpiteet!$E$115,BF65*(CF65/1000)+(Satokasvi!$E$28-Satokasvi!$E$7)+IF(G$8="x",Toimenpiteet!$E$29,0)+IF(G$9="x",Toimenpiteet!$E$60,0)+IF(G$10="x",Toimenpiteet!$E$88,0))/(1+$C$13)^EF$61 -> 303.7518 | EG65: =IF(H$11="x",Toimenpiteet!$E$115,BG65*(CG65/1000)+(Satokasvi!$E$28-Satokasvi!$E$7)+IF(H$8="x",Toimenpiteet!$E$29,0)+IF(H$9="x",Toimenpiteet!$E$60,0)+IF(H$10="x",Toimenpiteet!$E$88,0))/(1+$C$13)^EG$61 -> 120.93852 | EH65: =IF(I$11="x",Toimenpiteet!$E$115,BH65*(CH65/1000)+(Satokasvi!$E$28-Satokasvi!$E$7)+IF(I$8="x",Toimenpiteet!$E$29,0)+IF(I$9="x",Toimenpiteet!$E$60,0)+IF(I$10="x",Toimenpiteet!$E$88,0))/(1+$C$13)^EH$61 -> 118.7532 | EI65: =IF(J$11="x",Toimenpiteet!$E$115,BI65*(CI65/1000)+(Satokasvi!$E$28-Satokasvi!$E$7)+IF(J$8="x",Toimenpiteet!$E$29,0)+IF(J$9="x",Toimenpiteet!$E$60,0)+IF(J$10="x",Toimenpiteet!$E$88,0))/(1+$C$13)^EI$61 -> 103.44512 | ... EZ65: =IF(AA$11="x",Toimenpiteet!$E$115,BZ65*(CZ65/1000)+(Satokasvi!$E$28-Satokasvi!$E$7)+IF(AA$8="x",Toimenpiteet!$E$29,0)+IF(AA$9="x",Toimenpiteet!$E$60,0)+IF(AA$10="x",Toimenpiteet!$E$88,0))/(1+$C$13)^EZ$61 -> -126.56548 | FB65: =DB65 -> -257.28155 | FC65: =FB65+DC65 -> 61.717304 | FD65: =FC65+DD65 -> 277.25691 | FE65: =FD65+DE65 -> 599.05441 | FF65: =FE65+DF65 -> 902.80621 | FG65: =FF65+DG65 -> 1023.7447 | FH65: =FG65+DH65 -> 1142.4979 | FI65: =FH65+DI65 -> 1245.9431 | FJ65: =FI65+DJ65 -> 1647.0866 | ... FZ65: =FY65+DZ65 -> 2530.1427 | GB65: =EB65 -> -257.28155 | GC65: =GB65+EC65 -> 61.717304 | GD65: =GC65+ED65 -> 277.25691 | GE65: =GD65+EE65 -> 599.05441 | GF65: =GE65+EF65 -> 902.80621 | GG65: =GF65+EG65 -> 1023.7447 | GH65: =GG65+EH65 -> 1142.4979 | GI65: =GH65+EI65 -> 1245.9431 | GJ65: =GI65+EJ65 -> 1647.0866 | ... GZ65: =GY65+EZ65 -> 2530.1427 | HB65: =_xlfn.XLOOKUP($BE$18,$FB$61:$FZ$61,FB65:FZ65) -> 902.80621 | HC65: =_xlfn.XLOOKUP($BE$18,$GB$61:$GZ$61,GB65:GZ65) -> 902.80621 | HD65: =IF(HC65>HB65,1,0) -> 0 | HF65: Pitkän aikavälin kokonaisvaikutus
B66: =RAND() -> 0.43566031 | C66: =RAND() -> 0.43127758 | D66: =RAND() -> 0.30437848 | E66: =RAND() -> 0.52961298 | F66: =RAND() -> 0.84990718 | G66: =RAND() -> 0.99114594 | H66: =RAND() -> 0.51895767 | I66: =RAND() -> 0.47470395 | ... Z66: =RAND() -> 0.49761354 | AB66: =_xlfn.NORM.INV(B66,Satokasvi!$H$8,Satokasvi!$I$8)*_xlfn.BINOM.INV(1,(1-Satokasvi!$H$15),B66) -> 2459.5047 | AC66: =_xlfn.NORM.INV(C66,Satokasvi!$H$8,Satokasvi!$I$8)*_xlfn.BINOM.INV(1,(1-Satokasvi!$H$15),C66) -> 2456.7194 | AD66: =_xlfn.NORM.INV(D66,Satokasvi!$H$8,Satokasvi!$I$8)*_xlfn.BINOM.INV(1,(1-Satokasvi!$H$15),D66) -> 2372.0378 | AE66: =_xlfn.NORM.INV(E66,Satokasvi!$H$8,Satokasvi!$I$8)*_xlfn.BINOM.INV(1,(1-Satokasvi!$H$15),E66) -> 2518.5743 | AF66: =_xlfn.NORM.INV(F66,Satokasvi!$H$8,Satokasvi!$I$8)*_xlfn.BINOM.INV(1,(1-Satokasvi!$H$15),F66) -> 2759.0088 | AG66: =_xlfn.NORM.INV(G66,Satokasvi!$H$8,Satokasvi!$I$8)*_xlfn.BINOM.INV(1,(1-Satokasvi!$H$15),G66) -> 3092.9164 | AH66: =_xlfn.NORM.INV(H66,Satokasvi!$H$8,Satokasvi!$I$8)*_xlfn.BINOM.INV(1,(1-Satokasvi!$H$15),H66) -> 2511.8844 | AI66: =_xlfn.NORM.INV(I66,Satokasvi!$H$8,Satokasvi!$I$8)*_xlfn.BINOM.INV(1,(1-Satokasvi!$H$15),I66) -> 2484.1374 | ... AZ66: =_xlfn.NORM.INV(Z66,Satokasvi!$H$8,Satokasvi!$I$8)*_xlfn.BINOM.INV(1,(1-Satokasvi!$H$15),Z66) -> 2498.5045 | BB66: =IF(C$11="x",0,_xlfn.NORM.INV(B66,Satokasvi!$H$8,Satokasvi!$I$8)*IF(C$8="x",(1+Toimenpiteet!$C$7),1)*IF(C$9="x",(1+Toimenpiteet!$C$34),1)*(1+C$30)*_xlfn.BINOM.INV(1,(1-(Satokasvi!$H$15*(1+C$41))),B66)) -> 2459.5047 | BC66: =IF(D$11="x",0,_xlfn.NORM.INV(C66,Satokasvi!$H$8,Satokasvi!$I$8)*IF(D$8="x",(1+Toimenpiteet!$C$7),1)*IF(D$9="x",(1+Toimenpiteet!$C$34),1)*(1+D$30)*_xlfn.BINOM.INV(1,(1-(Satokasvi!$H$15*(1+D$41))),C66)) -> 2456.7194 | BD66: =IF(E$11="x",0,_xlfn.NORM.INV(D66,Satokasvi!$H$8,Satokasvi!$I$8)*IF(E$8="x",(1+Toimenpiteet!$C$7),1)*IF(E$9="x",(1+Toimenpiteet!$C$34),1)*(1+E$30)*_xlfn.BINOM.INV(1,(1-(Satokasvi!$H$15*(1+E$41))),D66)) -> 2372.0378 | BE66: =IF(F$11="x",0,_xlfn.NORM.INV(E66,Satokasvi!$H$8,Satokasvi!$I$8)*IF(F$8="x",(1+Toimenpiteet!$C$7),1)*IF(F$9="x",(1+Toimenpiteet!$C$34),1)*(1+F$30)*_xlfn.BINOM.INV(1,(1-(Satokasvi!$H$15*(1+F$41))),E66)) -> 2518.5743 | BF66: =IF(G$11="x",0,_xlfn.NORM.INV(F66,Satokasvi!$H$8,Satokasvi!$I$8)*IF(G$8="x",(1+Toimenpiteet!$C$7),1)*IF(G$9="x",(1+Toimenpiteet!$C$34),1)*(1+G$30)*_xlfn.BINOM.INV(1,(1-(Satokasvi!$H$15*(1+G$41))),F66)) -> 2759.0088 | BG66: =IF(H$11="x",0,_xlfn.NORM.INV(G66,Satokasvi!$H$8,Satokasvi!$I$8)*IF(H$8="x",(1+Toimenpiteet!$C$7),1)*IF(H$9="x",(1+Toimenpiteet!$C$34),1)*(1+H$30)*_xlfn.BINOM.INV(1,(1-(Satokasvi!$H$15*(1+H$41))),G66)) -> 3092.9164 | BH66: =IF(I$11="x",0,_xlfn.NORM.INV(H66,Satokasvi!$H$8,Satokasvi!$I$8)*IF(I$8="x",(1+Toimenpiteet!$C$7),1)*IF(I$9="x",(1+Toimenpiteet!$C$34),1)*(1+I$30)*_xlfn.BINOM.INV(1,(1-(Satokasvi!$H$15*(1+I$41))),H66)) -> 2511.8844 | BI66: =IF(J$11="x",0,_xlfn.NORM.INV(I66,Satokasvi!$H$8,Satokasvi!$I$8)*IF(J$8="x",(1+Toimenpiteet!$C$7),1)*IF(J$9="x",(1+Toimenpiteet!$C$34),1)*(1+J$30)*_xlfn.BINOM.INV(1,(1-(Satokasvi!$H$15*(1+J$41))),I66)) -> 2484.1374 | ... BZ66: =IF(AA$11="x",0,_xlfn.NORM.INV(Z66,Satokasvi!$H$8,Satokasvi!$I$8)*IF(AA$8="x",(1+Toimenpiteet!$C$7),1)*IF(AA$9="x",(1+Toimenpiteet!$C$34),1)*(1+AA$30)*_xlfn.BINOM.INV(1,(1-(Satokasvi!$H$15*(1+AA$41))),Z66)) -> 2498.5045 | CB66: =_xlfn.NORM.INV(RAND(),Satokasvi!$H$13,Satokasvi!$I$13) -> 176.31099 | CC66: =_xlfn.NORM.INV(RAND(),Satokasvi!$H$13,Satokasvi!$I$13) -> 213.94542 | CD66: =_xlfn.NORM.INV(RAND(),Satokasvi!$H$13,Satokasvi!$I$13) -> 131.69045 | CE66: =_xlfn.NORM.INV(RAND(),Satokasvi!$H$13,Satokasvi!$I$13) -> 166.10717 | CF66: =_xlfn.NORM.INV(RAND(),Satokasvi!$H$13,Satokasvi!$I$13) -> 147.99637 | CG66: =_xlfn.NORM.INV(RAND(),Satokasvi!$H$13,Satokasvi!$I$13) -> 197.585 | CH66: =_xlfn.NORM.INV(RAND(),Satokasvi!$H$13,Satokasvi!$I$13) -> 142.09681 | CI66: =_xlfn.NORM.INV(RAND(),Satokasvi!$H$13,Satokasvi!$I$13) -> 160.7592 | ... CZ66: =_xlfn.NORM.INV(RAND(),Satokasvi!$H$13,Satokasvi!$I$13) -> 170.14392 | DB66: =(AB66*(CB66/1000)+(Satokasvi!$E$28-Satokasvi!$E$7))/(1+$C$13)^DB$61 -> 163.72592 | DC66: =(AC66*(CC66/1000)+(Satokasvi!$E$28-Satokasvi!$E$7))/(1+$C$13)^DC$61 -> 245.64412 | DD66: =(AD66*(CD66/1000)+(Satokasvi!$E$28-Satokasvi!$E$7))/(1+$C$13)^DD$61 -> 43.354595 | DE66: =(AE66*(CE66/1000)+(Satokasvi!$E$28-Satokasvi!$E$7))/(1+$C$13)^DE$61 -> 136.25237 | DF66: =(AF66*(CF66/1000)+(Satokasvi!$E$28-Satokasvi!$E$7))/(1+$C$13)^DF$61 -> 123.63194 | DG66: =(AG66*(CG66/1000)+(Satokasvi!$E$28-Satokasvi!$E$7))/(1+$C$13)^DG$61 -> 289.86492 | DH66: =(AH66*(CH66/1000)+(Satokasvi!$E$28-Satokasvi!$E$7))/(1+$C$13)^DH$61 -> 74.748119 | DI66: =(AI66*(CI66/1000)+(Satokasvi!$E$28-Satokasvi!$E$7))/(1+$C$13)^DI$61 -> 106.05551 | ... DZ66: =(AZ66*(CZ66/1000)+(Satokasvi!$E$28-Satokasvi!$E$7))/(1+$C$13)^DZ$61 -> 76.467204 | EB66: =IF(C$11="x",Toimenpiteet!$E$115,BB66*(CB66/1000)+(Satokasvi!$E$28-Satokasvi!$E$7)+IF(C$8="x",Toimenpiteet!$E$29,0)+IF(C$9="x",Toimenpiteet!$E$60,0)+IF(C$10="x",Toimenpiteet!$E$88,0))/(1+$C$13)^EB$61 -> 163.72592 | EC66: =IF(D$11="x",Toimenpiteet!$E$115,BC66*(CC66/1000)+(Satokasvi!$E$28-Satokasvi!$E$7)+IF(D$8="x",Toimenpiteet!$E$29,0)+IF(D$9="x",Toimenpiteet!$E$60,0)+IF(D$10="x",Toimenpiteet!$E$88,0))/(1+$C$13)^EC$61 -> 245.64412 | ED66: =IF(E$11="x",Toimenpiteet!$E$115,BD66*(CD66/1000)+(Satokasvi!$E$28-Satokasvi!$E$7)+IF(E$8="x",Toimenpiteet!$E$29,0)+IF(E$9="x",Toimenpiteet!$E$60,0)+IF(E$10="x",Toimenpiteet!$E$88,0))/(1+$C$13)^ED$61 -> 43.354595 | EE66: =IF(F$11="x",Toimenpiteet!$E$115,BE66*(CE66/1000)+(Satokasvi!$E$28-Satokasvi!$E$7)+IF(F$8="x",Toimenpiteet!$E$29,0)+IF(F$9="x",Toimenpiteet!$E$60,0)+IF(F$10="x",Toimenpiteet!$E$88,0))/(1+$C$13)^EE$61 -> 136.25237 | EF66: =IF(G$11="x",Toimenpiteet!$E$115,BF66*(CF66/1000)+(Satokasvi!$E$28-Satokasvi!$E$7)+IF(G$8="x",Toimenpiteet!$E$29,0)+IF(G$9="x",Toimenpiteet!$E$60,0)+IF(G$10="x",Toimenpiteet!$E$88,0))/(1+$C$13)^EF$61 -> 123.63194 | EG66: =IF(H$11="x",Toimenpiteet!$E$115,BG66*(CG66/1000)+(Satokasvi!$E$28-Satokasvi!$E$7)+IF(H$8="x",Toimenpiteet!$E$29,0)+IF(H$9="x",Toimenpiteet!$E$60,0)+IF(H$10="x",Toimenpiteet!$E$88,0))/(1+$C$13)^EG$61 -> 289.86492 | EH66: =IF(I$11="x",Toimenpiteet!$E$115,BH66*(CH66/1000)+(Satokasvi!$E$28-Satokasvi!$E$7)+IF(I$8="x",Toimenpiteet!$E$29,0)+IF(I$9="x",Toimenpiteet!$E$60,0)+IF(I$10="x",Toimenpiteet!$E$88,0))/(1+$C$13)^EH$61 -> 74.748119 | EI66: =IF(J$11="x",Toimenpiteet!$E$115,BI66*(CI66/1000)+(Satokasvi!$E$28-Satokasvi!$E$7)+IF(J$8="x",Toimenpiteet!$E$29,0)+IF(J$9="x",Toimenpiteet!$E$60,0)+IF(J$10="x",Toimenpiteet!$E$88,0))/(1+$C$13)^EI$61 -> 106.05551 | ... EZ66: =IF(AA$11="x",Toimenpiteet!$E$115,BZ66*(CZ66/1000)+(Satokasvi!$E$28-Satokasvi!$E$7)+IF(AA$8="x",Toimenpiteet!$E$29,0)+IF(AA$9="x",Toimenpiteet!$E$60,0)+IF(AA$10="x",Toimenpiteet!$E$88,0))/(1+$C$13)^EZ$61 -> 76.467204 | FB66: =DB66 -> 163.72592 | FC66: =FB66+DC66 -> 409.37004 | FD66: =FC66+DD66 -> 452.72464 | FE66: =FD66+DE66 -> 588.97701 | FF66: =FE66+DF66 -> 712.60894 | FG66: =FF66+DG66 -> 1002.4739 | FH66: =FG66+DH66 -> 1077.222 | FI66: =FH66+DI66 -> 1183.2775 | FJ66: =FI66+DJ66 -> 980.17706 | ... FZ66: =FY66+DZ66 -> 1660.4166 | GB66: =EB66 -> 163.72592 | GC66: =GB66+EC66 -> 409.37004 | GD66: =GC66+ED66 -> 452.72464 | GE66: =GD66+EE66 -> 588.97701 | GF66: =GE66+EF66 -> 712.60894 | GG66: =GF66+EG66 -> 1002.4739 | GH66: =GG66+EH66 -> 1077.222 | GI66: =GH66+EI66 -> 1183.2775 | GJ66: =GI66+EJ66 -> 980.17706 | ... GZ66: =GY66+EZ66 -> 1660.4166 | HB66: =_xlfn.XLOOKUP($BE$18,$FB$61:$FZ$61,FB66:FZ66) -> 712.60894 | HC66: =_xlfn.XLOOKUP($BE$18,$GB$61:$GZ$61,GB66:GZ66) -> 712.60894 | HD66: =IF(HC66>HB66,1,0) -> 0
B67: =RAND() -> 0.49685386 | C67: =RAND() -> 0.6784966 | D67: =RAND() -> 0.64833116 | E67: =RAND() -> 0.8385442 | F67: =RAND() -> 0.43832798 | G67: =RAND() -> 0.9249112 | H67: =RAND() -> 0.10824765 | I67: =RAND() -> 0.6481309 | ... Z67: =RAND() -> 0.89794973 | AB67: =_xlfn.NORM.INV(B67,Satokasvi!$H$8,Satokasvi!$I$8)*_xlfn.BINOM.INV(1,(1-Satokasvi!$H$15),B67) -> 2498.0284 | AC67: =_xlfn.NORM.INV(C67,Satokasvi!$H$8,Satokasvi!$I$8)*_xlfn.BINOM.INV(1,(1-Satokasvi!$H$15),C67) -> 2615.8747 | AD67: =_xlfn.NORM.INV(D67,Satokasvi!$H$8,Satokasvi!$I$8)*_xlfn.BINOM.INV(1,(1-Satokasvi!$H$15),D67) -> 2595.2047 | AE67: =_xlfn.NORM.INV(E67,Satokasvi!$H$8,Satokasvi!$I$8)*_xlfn.BINOM.INV(1,(1-Satokasvi!$H$15),E67) -> 2747.1231 | AF67: =_xlfn.NORM.INV(F67,Satokasvi!$H$8,Satokasvi!$I$8)*_xlfn.BINOM.INV(1,(1-Satokasvi!$H$15),F67) -> 2461.1976 | AG67: =_xlfn.NORM.INV(G67,Satokasvi!$H$8,Satokasvi!$I$8)*_xlfn.BINOM.INV(1,(1-Satokasvi!$H$15),G67) -> 2859.7261 | AH67: =_xlfn.NORM.INV(H67,Satokasvi!$H$8,Satokasvi!$I$8)*_xlfn.BINOM.INV(1,(1-Satokasvi!$H$15),H67) -> 0 | AI67: =_xlfn.NORM.INV(I67,Satokasvi!$H$8,Satokasvi!$I$8)*_xlfn.BINOM.INV(1,(1-Satokasvi!$H$15),I67) -> 2595.0698 | ... AZ67: =_xlfn.NORM.INV(Z67,Satokasvi!$H$8,Satokasvi!$I$8)*_xlfn.BINOM.INV(1,(1-Satokasvi!$H$15),Z67) -> 2817.4888 | BB67: =IF(C$11="x",0,_xlfn.NORM.INV(B67,Satokasvi!$H$8,Satokasvi!$I$8)*IF(C$8="x",(1+Toimenpiteet!$C$7),1)*IF(C$9="x",(1+Toimenpiteet!$C$34),1)*(1+C$30)*_xlfn.BINOM.INV(1,(1-(Satokasvi!$H$15*(1+C$41))),B67)) -> 2498.0284 | BC67: =IF(D$11="x",0,_xlfn.NORM.INV(C67,Satokasvi!$H$8,Satokasvi!$I$8)*IF(D$8="x",(1+Toimenpiteet!$C$7),1)*IF(D$9="x",(1+Toimenpiteet!$C$34),1)*(1+D$30)*_xlfn.BINOM.INV(1,(1-(Satokasvi!$H$15*(1+D$41))),C67)) -> 2615.8747 | BD67: =IF(E$11="x",0,_xlfn.NORM.INV(D67,Satokasvi!$H$8,Satokasvi!$I$8)*IF(E$8="x",(1+Toimenpiteet!$C$7),1)*IF(E$9="x",(1+Toimenpiteet!$C$34),1)*(1+E$30)*_xlfn.BINOM.INV(1,(1-(Satokasvi!$H$15*(1+E$41))),D67)) -> 2595.2047 | BE67: =IF(F$11="x",0,_xlfn.NORM.INV(E67,Satokasvi!$H$8,Satokasvi!$I$8)*IF(F$8="x",(1+Toimenpiteet!$C$7),1)*IF(F$9="x",(1+Toimenpiteet!$C$34),1)*(1+F$30)*_xlfn.BINOM.INV(1,(1-(Satokasvi!$H$15*(1+F$41))),E67)) -> 2747.1231 | BF67: =IF(G$11="x",0,_xlfn.NORM.INV(F67,Satokasvi!$H$8,Satokasvi!$I$8)*IF(G$8="x",(1+Toimenpiteet!$C$7),1)*IF(G$9="x",(1+Toimenpiteet!$C$34),1)*(1+G$30)*_xlfn.BINOM.INV(1,(1-(Satokasvi!$H$15*(1+G$41))),F67)) -> 2461.1976 | BG67: =IF(H$11="x",0,_xlfn.NORM.INV(G67,Satokasvi!$H$8,Satokasvi!$I$8)*IF(H$8="x",(1+Toimenpiteet!$C$7),1)*IF(H$9="x",(1+Toimenpiteet!$C$34),1)*(1+H$30)*_xlfn.BINOM.INV(1,(1-(Satokasvi!$H$15*(1+H$41))),G67)) -> 2859.7261 | BH67: =IF(I$11="x",0,_xlfn.NORM.INV(H67,Satokasvi!$H$8,Satokasvi!$I$8)*IF(I$8="x",(1+Toimenpiteet!$C$7),1)*IF(I$9="x",(1+Toimenpiteet!$C$34),1)*(1+I$30)*_xlfn.BINOM.INV(1,(1-(Satokasvi!$H$15*(1+I$41))),H67)) -> 0 | BI67: =IF(J$11="x",0,_xlfn.NORM.INV(I67,Satokasvi!$H$8,Satokasvi!$I$8)*IF(J$8="x",(1+Toimenpiteet!$C$7),1)*IF(J$9="x",(1+Toimenpiteet!$C$34),1)*(1+J$30)*_xlfn.BINOM.INV(1,(1-(Satokasvi!$H$15*(1+J$41))),I67)) -> 2595.0698 | ... BZ67: =IF(AA$11="x",0,_xlfn.NORM.INV(Z67,Satokasvi!$H$8,Satokasvi!$I$8)*IF(AA$8="x",(1+Toimenpiteet!$C$7),1)*IF(AA$9="x",(1+Toimenpiteet!$C$34),1)*(1+AA$30)*_xlfn.BINOM.INV(1,(1-(Satokasvi!$H$15*(1+AA$41))),Z67)) -> 2817.4888 | CB67: =_xlfn.NORM.INV(RAND(),Satokasvi!$H$13,Satokasvi!$I$13) -> 301.59646 | CC67: =_xlfn.NORM.INV(RAND(),Satokasvi!$H$13,Satokasvi!$I$13) -> 249.45514 | CD67: =_xlfn.NORM.INV(RAND(),Satokasvi!$H$13,Satokasvi!$I$13) -> 147.54507 | CE67: =_xlfn.NORM.INV(RAND(),Satokasvi!$H$13,Satokasvi!$I$13) -> 127.40319 | CF67: =_xlfn.NORM.INV(RAND(),Satokasvi!$H$13,Satokasvi!$I$13) -> 166.93351 | CG67: =_xlfn.NORM.INV(RAND(),Satokasvi!$H$13,Satokasvi!$I$13) -> 173.46276 | CH67: =_xlfn.NORM.INV(RAND(),Satokasvi!$H$13,Satokasvi!$I$13) -> 256.82722 | CI67: =_xlfn.NORM.INV(RAND(),Satokasvi!$H$13,Satokasvi!$I$13) -> 210.73415 | ... CZ67: =_xlfn.NORM.INV(RAND(),Satokasvi!$H$13,Satokasvi!$I$13) -> 100.2524 | DB67: =(AB67*(CB67/1000)+(Satokasvi!$E$28-Satokasvi!$E$7))/(1+$C$13)^DB$61 -> 474.17139 | DC67: =(AC67*(CC67/1000)+(Satokasvi!$E$28-Satokasvi!$E$7))/(1+$C$13)^DC$61 -> 365.29683 | DD67: =(AD67*(CD67/1000)+(Satokasvi!$E$28-Satokasvi!$E$7))/(1+$C$13)^DD$61 -> 107.90403 | DE67: =(AE67*(CE67/1000)+(Satokasvi!$E$28-Satokasvi!$E$7))/(1+$C$13)^DE$61 -> 75.514507 | DF67: =(AF67*(CF67/1000)+(Satokasvi!$E$28-Satokasvi!$E$7))/(1+$C$13)^DF$61 -> 125.81696 | DG67: =(AG67*(CG67/1000)+(Satokasvi!$E$28-Satokasvi!$E$7))/(1+$C$13)^DG$61 -> 193.50574 | DH67: =(AH67*(CH67/1000)+(Satokasvi!$E$28-Satokasvi!$E$7))/(1+$C$13)^DH$61 -> -215.46925 | DI67: =(AI67*(CI67/1000)+(Satokasvi!$E$28-Satokasvi!$E$7))/(1+$C$13)^DI$61 -> 222.51064 | ... DZ67: =(AZ67*(CZ67/1000)+(Satokasvi!$E$28-Satokasvi!$E$7))/(1+$C$13)^DZ$61 -> 8.3390004 | EB67: =IF(C$11="x",Toimenpiteet!$E$115,BB67*(CB67/1000)+(Satokasvi!$E$28-Satokasvi!$E$7)+IF(C$8="x",Toimenpiteet!$E$29,0)+IF(C$9="x",Toimenpiteet!$E$60,0)+IF(C$10="x",Toimenpiteet!$E$88,0))/(1+$C$13)^EB$61 -> 474.17139 | EC67: =IF(D$11="x",Toimenpiteet!$E$115,BC67*(CC67/1000)+(Satokasvi!$E$28-Satokasvi!$E$7)+IF(D$8="x",Toimenpiteet!$E$29,0)+IF(D$9="x",Toimenpiteet!$E$60,0)+IF(D$10="x",Toimenpiteet!$E$88,0))/(1+$C$13)^EC$61 -> 365.29683 | ED67: =IF(E$11="x",Toimenpiteet!$E$115,BD67*(CD67/1000)+(Satokasvi!$E$28-Satokasvi!$E$7)+IF(E$8="x",Toimenpiteet!$E$29,0)+IF(E$9="x",Toimenpiteet!$E$60,0)+IF(E$10="x",Toimenpiteet!$E$88,0))/(1+$C$13)^ED$61 -> 107.90403 | EE67: =IF(F$11="x",Toimenpiteet!$E$115,BE67*(CE67/1000)+(Satokasvi!$E$28-Satokasvi!$E$7)+IF(F$8="x",Toimenpiteet!$E$29,0)+IF(F$9="x",Toimenpiteet!$E$60,0)+IF(F$10="x",Toimenpiteet!$E$88,0))/(1+$C$13)^EE$61 -> 75.514507 | EF67: =IF(G$11="x",Toimenpiteet!$E$115,BF67*(CF67/1000)+(Satokasvi!$E$28-Satokasvi!$E$7)+IF(G$8="x",Toimenpiteet!$E$29,0)+IF(G$9="x",Toimenpiteet!$E$60,0)+IF(G$10="x",Toimenpiteet!$E$88,0))/(1+$C$13)^EF$61 -> 125.81696 | EG67: =IF(H$11="x",Toimenpiteet!$E$115,BG67*(CG67/1000)+(Satokasvi!$E$28-Satokasvi!$E$7)+IF(H$8="x",Toimenpiteet!$E$29,0)+IF(H$9="x",Toimenpiteet!$E$60,0)+IF(H$10="x",Toimenpiteet!$E$88,0))/(1+$C$13)^EG$61 -> 193.50574 | EH67: =IF(I$11="x",Toimenpiteet!$E$115,BH67*(CH67/1000)+(Satokasvi!$E$28-Satokasvi!$E$7)+IF(I$8="x",Toimenpiteet!$E$29,0)+IF(I$9="x",Toimenpiteet!$E$60,0)+IF(I$10="x",Toimenpiteet!$E$88,0))/(1+$C$13)^EH$61 -> -215.46925 | EI67: =IF(J$11="x",Toimenpiteet!$E$115,BI67*(CI67/1000)+(Satokasvi!$E$28-Satokasvi!$E$7)+IF(J$8="x",Toimenpiteet!$E$29,0)+IF(J$9="x",Toimenpiteet!$E$60,0)+IF(J$10="x",Toimenpiteet!$E$88,0))/(1+$C$13)^EI$61 -> 222.51064 | ... EZ67: =IF(AA$11="x",Toimenpiteet!$E$115,BZ67*(CZ67/1000)+(Satokasvi!$E$28-Satokasvi!$E$7)+IF(AA$8="x",Toimenpiteet!$E$29,0)+IF(AA$9="x",Toimenpiteet!$E$60,0)+IF(AA$10="x",Toimenpiteet!$E$88,0))/(1+$C$13)^EZ$61 -> 8.3390004 | FB67: =DB67 -> 474.17139 | FC67: =FB67+DC67 -> 839.46822 | FD67: =FC67+DD67 -> 947.37225 | FE67: =FD67+DE67 -> 1022.8868 | FF67: =FE67+DF67 -> 1148.7037 | FG67: =FF67+DG67 -> 1342.2095 | FH67: =FG67+DH67 -> 1126.7402 | FI67: =FH67+DI67 -> 1349.2509 | FJ67: =FI67+DJ67 -> 1146.1504 | ... FZ67: =FY67+DZ67 -> 2013.8568 | GB67: =EB67 -> 474.17139 | GC67: =GB67+EC67 -> 839.46822 | GD67: =GC67+ED67 -> 947.37225 | GE67: =GD67+EE67 -> 1022.8868 | GF67: =GE67+EF67 -> 1148.7037 | GG67: =GF67+EG67 -> 1342.2095 | GH67: =GG67+EH67 -> 1126.7402 | GI67: =GH67+EI67 -> 1349.2509 | GJ67: =GI67+EJ67 -> 1146.1504 | ... GZ67: =GY67+EZ67 -> 2013.8568 | HB67: =_xlfn.XLOOKUP($BE$18,$FB$61:$FZ$61,FB67:FZ67) -> 1148.7037 | HC67: =_xlfn.XLOOKUP($BE$18,$GB$61:$GZ$61,GB67:GZ67) -> 1148.7037 | HD67: =IF(HC67>HB67,1,0) -> 0 | HG67: =BI10 -> -0.1 | HH67: =IF(HH$61<$BI$9,$HG67/$BI$9*HH$61,$HG67/$BI$9*$BI$9) -> -0.01 | HI67: =IF(HI$61<$BI$9,$HG67/$BI$9*HI$61,$HG67/$BI$9*$BI$9) -> -0.02 | HJ67: =IF(HJ$61<$BI$9,$HG67/$BI$9*HJ$61,$HG67/$BI$9*$BI$9) -> -0.03 | HK67: =IF(HK$61<$BI$9,$HG67/$BI$9*HK$61,$HG67/$BI$9*$BI$9) -> -0.04 | HL67: =IF(HL$61<$BI$9,$HG67/$BI$9*HL$61,$HG67/$BI$9*$BI$9) -> -0.05 | HM67: =IF(HM$61<$BI$9,$HG67/$BI$9*HM$61,$HG67/$BI$9*$BI$9) -> -0.06 | HN67: =IF(HN$61<$BI$9,$HG67/$BI$9*HN$61,$HG67/$BI$9*$BI$9) -> -0.07 | HO67: =IF(HO$61<$BI$9,$HG67/$BI$9*HO$61,$HG67/$BI$9*$BI$9) -> -0.08 | ... IF67: =IF(IF$61<$BI$9,$HG67/$BI$9*IF$61,$HG67/$BI$9*$BI$9) -> -0.1
B68: =RAND() -> 0.027641657 | C68: =RAND() -> 0.53103626 | D68: =RAND() -> 0.38800939 | E68: =RAND() -> 0.021497093 | F68: =RAND() -> 0.48267372 | G68: =RAND() -> 0.72500545 | H68: =RAND() -> 0.68310386 | I68: =RAND() -> 0.99578628 | ... Z68: =RAND() -> 0.43542705 | AB68: =_xlfn.NORM.INV(B68,Satokasvi!$H$8,Satokasvi!$I$8)*_xlfn.BINOM.INV(1,(1-Satokasvi!$H$15),B68) -> 0 | AC68: =_xlfn.NORM.INV(C68,Satokasvi!$H$8,Satokasvi!$I$8)*_xlfn.BINOM.INV(1,(1-Satokasvi!$H$15),C68) -> 2519.4687 | AD68: =_xlfn.NORM.INV(D68,Satokasvi!$H$8,Satokasvi!$I$8)*_xlfn.BINOM.INV(1,(1-Satokasvi!$H$15),D68) -> 2428.8722 | AE68: =_xlfn.NORM.INV(E68,Satokasvi!$H$8,Satokasvi!$I$8)*_xlfn.BINOM.INV(1,(1-Satokasvi!$H$15),E68) -> 0 | AF68: =_xlfn.NORM.INV(F68,Satokasvi!$H$8,Satokasvi!$I$8)*_xlfn.BINOM.INV(1,(1-Satokasvi!$H$15),F68) -> 2489.1389 | AG68: =_xlfn.NORM.INV(G68,Satokasvi!$H$8,Satokasvi!$I$8)*_xlfn.BINOM.INV(1,(1-Satokasvi!$H$15),G68) -> 2649.4441 | AH68: =_xlfn.NORM.INV(H68,Satokasvi!$H$8,Satokasvi!$I$8)*_xlfn.BINOM.INV(1,(1-Satokasvi!$H$15),H68) -> 2619.099 | AI68: =_xlfn.NORM.INV(I68,Satokasvi!$H$8,Satokasvi!$I$8)*_xlfn.BINOM.INV(1,(1-Satokasvi!$H$15),I68) -> 3158.6119 | ... AZ68: =_xlfn.NORM.INV(Z68,Satokasvi!$H$8,Satokasvi!$I$8)*_xlfn.BINOM.INV(1,(1-Satokasvi!$H$15),Z68) -> 2459.3566 | BB68: =IF(C$11="x",0,_xlfn.NORM.INV(B68,Satokasvi!$H$8,Satokasvi!$I$8)*IF(C$8="x",(1+Toimenpiteet!$C$7),1)*IF(C$9="x",(1+Toimenpiteet!$C$34),1)*(1+C$30)*_xlfn.BINOM.INV(1,(1-(Satokasvi!$H$15*(1+C$41))),B68)) -> 0 | BC68: =IF(D$11="x",0,_xlfn.NORM.INV(C68,Satokasvi!$H$8,Satokasvi!$I$8)*IF(D$8="x",(1+Toimenpiteet!$C$7),1)*IF(D$9="x",(1+Toimenpiteet!$C$34),1)*(1+D$30)*_xlfn.BINOM.INV(1,(1-(Satokasvi!$H$15*(1+D$41))),C68)) -> 2519.4687 | BD68: =IF(E$11="x",0,_xlfn.NORM.INV(D68,Satokasvi!$H$8,Satokasvi!$I$8)*IF(E$8="x",(1+Toimenpiteet!$C$7),1)*IF(E$9="x",(1+Toimenpiteet!$C$34),1)*(1+E$30)*_xlfn.BINOM.INV(1,(1-(Satokasvi!$H$15*(1+E$41))),D68)) -> 2428.8722 | BE68: =IF(F$11="x",0,_xlfn.NORM.INV(E68,Satokasvi!$H$8,Satokasvi!$I$8)*IF(F$8="x",(1+Toimenpiteet!$C$7),1)*IF(F$9="x",(1+Toimenpiteet!$C$34),1)*(1+F$30)*_xlfn.BINOM.INV(1,(1-(Satokasvi!$H$15*(1+F$41))),E68)) -> 0 | BF68: =IF(G$11="x",0,_xlfn.NORM.INV(F68,Satokasvi!$H$8,Satokasvi!$I$8)*IF(G$8="x",(1+Toimenpiteet!$C$7),1)*IF(G$9="x",(1+Toimenpiteet!$C$34),1)*(1+G$30)*_xlfn.BINOM.INV(1,(1-(Satokasvi!$H$15*(1+G$41))),F68)) -> 2489.1389 | BG68: =IF(H$11="x",0,_xlfn.NORM.INV(G68,Satokasvi!$H$8,Satokasvi!$I$8)*IF(H$8="x",(1+Toimenpiteet!$C$7),1)*IF(H$9="x",(1+Toimenpiteet!$C$34),1)*(1+H$30)*_xlfn.BINOM.INV(1,(1-(Satokasvi!$H$15*(1+H$41))),G68)) -> 2649.4441 | BH68: =IF(I$11="x",0,_xlfn.NORM.INV(H68,Satokasvi!$H$8,Satokasvi!$I$8)*IF(I$8="x",(1+Toimenpiteet!$C$7),1)*IF(I$9="x",(1+Toimenpiteet!$C$34),1)*(1+I$30)*_xlfn.BINOM.INV(1,(1-(Satokasvi!$H$15*(1+I$41))),H68)) -> 2619.099 | BI68: =IF(J$11="x",0,_xlfn.NORM.INV(I68,Satokasvi!$H$8,Satokasvi!$I$8)*IF(J$8="x",(1+Toimenpiteet!$C$7),1)*IF(J$9="x",(1+Toimenpiteet!$C$34),1)*(1+J$30)*_xlfn.BINOM.INV(1,(1-(Satokasvi!$H$15*(1+J$41))),I68)) -> 3158.6119 | ... BZ68: =IF(AA$11="x",0,_xlfn.NORM.INV(Z68,Satokasvi!$H$8,Satokasvi!$I$8)*IF(AA$8="x",(1+Toimenpiteet!$C$7),1)*IF(AA$9="x",(1+Toimenpiteet!$C$34),1)*(1+AA$30)*_xlfn.BINOM.INV(1,(1-(Satokasvi!$H$15*(1+AA$41))),Z68)) -> 2459.3566 | CB68: =_xlfn.NORM.INV(RAND(),Satokasvi!$H$13,Satokasvi!$I$13) -> 173.68762 | CC68: =_xlfn.NORM.INV(RAND(),Satokasvi!$H$13,Satokasvi!$I$13) -> 184.87431 | CD68: =_xlfn.NORM.INV(RAND(),Satokasvi!$H$13,Satokasvi!$I$13) -> 188.84553 | CE68: =_xlfn.NORM.INV(RAND(),Satokasvi!$H$13,Satokasvi!$I$13) -> 257.60048 | CF68: =_xlfn.NORM.INV(RAND(),Satokasvi!$H$13,Satokasvi!$I$13) -> 210.31505 | CG68: =_xlfn.NORM.INV(RAND(),Satokasvi!$H$13,Satokasvi!$I$13) -> 276.04827 | CH68: =_xlfn.NORM.INV(RAND(),Satokasvi!$H$13,Satokasvi!$I$13) -> 122.9876 | CI68: =_xlfn.NORM.INV(RAND(),Satokasvi!$H$13,Satokasvi!$I$13) -> 241.28354 | ... CZ68: =_xlfn.NORM.INV(RAND(),Satokasvi!$H$13,Satokasvi!$I$13) -> 150.95803 | DB68: =(AB68*(CB68/1000)+(Satokasvi!$E$28-Satokasvi!$E$7))/(1+$C$13)^DB$61 -> -257.28155 | DC68: =(AC68*(CC68/1000)+(Satokasvi!$E$28-Satokasvi!$E$7))/(1+$C$13)^DC$61 -> 189.25917 | DD68: =(AD68*(CD68/1000)+(Satokasvi!$E$28-Satokasvi!$E$7))/(1+$C$13)^DD$61 -> 177.24616 | DE68: =(AE68*(CE68/1000)+(Satokasvi!$E$28-Satokasvi!$E$7))/(1+$C$13)^DE$61 -> -235.44907 | DF68: =(AF68*(CF68/1000)+(Satokasvi!$E$28-Satokasvi!$E$7))/(1+$C$13)^DF$61 -> 222.98728 | DG68: =(AG68*(CG68/1000)+(Satokasvi!$E$28-Satokasvi!$E$7))/(1+$C$13)^DG$61 -> 390.58127 | DH68: =(AH68*(CH68/1000)+(Satokasvi!$E$28-Satokasvi!$E$7))/(1+$C$13)^DH$61 -> 46.441103 | DI68: =(AI68*(CI68/1000)+(Satokasvi!$E$28-Satokasvi!$E$7))/(1+$C$13)^DI$61 -> 392.43195 | ... DZ68: =(AZ68*(CZ68/1000)+(Satokasvi!$E$28-Satokasvi!$E$7))/(1+$C$13)^DZ$61 -> 50.75019 | EB68: =IF(C$11="x",Toimenpiteet!$E$115,BB68*(CB68/1000)+(Satokasvi!$E$28-Satokasvi!$E$7)+IF(C$8="x",Toimenpiteet!$E$29,0)+IF(C$9="x",Toimenpiteet!$E$60,0)+IF(C$10="x",Toimenpiteet!$E$88,0))/(1+$C$13)^EB$61 -> -257.28155 | EC68: =IF(D$11="x",Toimenpiteet!$E$115,BC68*(CC68/1000)+(Satokasvi!$E$28-Satokasvi!$E$7)+IF(D$8="x",Toimenpiteet!$E$29,0)+IF(D$9="x",Toimenpiteet!$E$60,0)+IF(D$10="x",Toimenpiteet!$E$88,0))/(1+$C$13)^EC$61 -> 189.25917 | ED68: =IF(E$11="x",Toimenpiteet!$E$115,BD68*(CD68/1000)+(Satokasvi!$E$28-Satokasvi!$E$7)+IF(E$8="x",Toimenpiteet!$E$29,0)+IF(E$9="x",Toimenpiteet!$E$60,0)+IF(E$10="x",Toimenpiteet!$E$88,0))/(1+$C$13)^ED$61 -> 177.24616 | EE68: =IF(F$11="x",Toimenpiteet!$E$115,BE68*(CE68/1000)+(Satokasvi!$E$28-Satokasvi!$E$7)+IF(F$8="x",Toimenpiteet!$E$29,0)+IF(F$9="x",Toimenpiteet!$E$60,0)+IF(F$10="x",Toimenpiteet!$E$88,0))/(1+$C$13)^EE$61 -> -235.44907 | EF68: =IF(G$11="x",Toimenpiteet!$E$115,BF68*(CF68/1000)+(Satokasvi!$E$28-Satokasvi!$E$7)+IF(G$8="x",Toimenpiteet!$E$29,0)+IF(G$9="x",Toimenpiteet!$E$60,0)+IF(G$10="x",Toimenpiteet!$E$88,0))/(1+$C$13)^EF$61 -> 222.98728 | EG68: =IF(H$11="x",Toimenpiteet!$E$115,BG68*(CG68/1000)+(Satokasvi!$E$28-Satokasvi!$E$7)+IF(H$8="x",Toimenpiteet!$E$29,0)+IF(H$9="x",Toimenpiteet!$E$60,0)+IF(H$10="x",Toimenpiteet!$E$88,0))/(1+$C$13)^EG$61 -> 390.58127 | EH68: =IF(I$11="x",Toimenpiteet!$E$115,BH68*(CH68/1000)+(Satokasvi!$E$28-Satokasvi!$E$7)+IF(I$8="x",Toimenpiteet!$E$29,0)+IF(I$9="x",Toimenpiteet!$E$60,0)+IF(I$10="x",Toimenpiteet!$E$88,0))/(1+$C$13)^EH$61 -> 46.441103 | EI68: =IF(J$11="x",Toimenpiteet!$E$115,BI68*(CI68/1000)+(Satokasvi!$E$28-Satokasvi!$E$7)+IF(J$8="x",Toimenpiteet!$E$29,0)+IF(J$9="x",Toimenpiteet!$E$60,0)+IF(J$10="x",Toimenpiteet!$E$88,0))/(1+$C$13)^EI$61 -> 392.43195 | ... EZ68: =IF(AA$11="x",Toimenpiteet!$E$115,BZ68*(CZ68/1000)+(Satokasvi!$E$28-Satokasvi!$E$7)+IF(AA$8="x",Toimenpiteet!$E$29,0)+IF(AA$9="x",Toimenpiteet!$E$60,0)+IF(AA$10="x",Toimenpiteet!$E$88,0))/(1+$C$13)^EZ$61 -> 50.75019 | FB68: =DB68 -> -257.28155 | FC68: =FB68+DC68 -> -68.022388 | FD68: =FC68+DD68 -> 109.22377 | FE68: =FD68+DE68 -> -126.2253 | FF68: =FE68+DF68 -> 96.761988 | FG68: =FF68+DG68 -> 487.34326 | FH68: =FG68+DH68 -> 533.78436 | FI68: =FH68+DI68 -> 926.21631 | FJ68: =FI68+DJ68 -> 1042.4605 | ... FZ68: =FY68+DZ68 -> 2663.7577 | GB68: =EB68 -> -257.28155 | GC68: =GB68+EC68 -> -68.022388 | GD68: =GC68+ED68 -> 109.22377 | GE68: =GD68+EE68 -> -126.2253 | GF68: =GE68+EF68 -> 96.761988 | GG68: =GF68+EG68 -> 487.34326 | GH68: =GG68+EH68 -> 533.78436 | GI68: =GH68+EI68 -> 926.21631 | GJ68: =GI68+EJ68 -> 1042.4605 | ... GZ68: =GY68+EZ68 -> 2663.7577 | HB68: =_xlfn.XLOOKUP($BE$18,$FB$61:$FZ$61,FB68:FZ68) -> 96.761988 | HC68: =_xlfn.XLOOKUP($BE$18,$GB$61:$GZ$61,GB68:GZ68) -> 96.761988 | HD68: =IF(HC68>HB68,1,0) -> 0 | HG68: =HG67+($BI$11-$BI$10)/9 -> -0.077777778 | HH68: =IF(HH$61<$BI$9,$HG68/$BI$9*HH$61,$HG68/$BI$9*$BI$9) -> -0.0077777778 | HI68: =IF(HI$61<$BI$9,$HG68/$BI$9*HI$61,$HG68/$BI$9*$BI$9) -> -0.015555556 | HJ68: =IF(HJ$61<$BI$9,$HG68/$BI$9*HJ$61,$HG68/$BI$9*$BI$9) -> -0.023333333 | HK68: =IF(HK$61<$BI$9,$HG68/$BI$9*HK$61,$HG68/$BI$9*$BI$9) -> -0.031111111 | HL68: =IF(HL$61<$BI$9,$HG68/$BI$9*HL$61,$HG68/$BI$9*$BI$9) -> -0.038888889 | HM68: =IF(HM$61<$BI$9,$HG68/$BI$9*HM$61,$HG68/$BI$9*$BI$9) -> -0.046666667 | HN68: =IF(HN$61<$BI$9,$HG68/$BI$9*HN$61,$HG68/$BI$9*$BI$9) -> -0.054444444 | HO68: =IF(HO$61<$BI$9,$HG68/$BI$9*HO$61,$HG68/$BI$9*$BI$9) -> -0.062222222 | ... IF68: =IF(IF$61<$BI$9,$HG68/$BI$9*IF$61,$HG68/$BI$9*$BI$9) -> -0.077777778
B69: =RAND() -> 0.55027602 | C69: =RAND() -> 0.68506369 | D69: =RAND() -> 0.1756093 | E69: =RAND() -> 0.091318973 | F69: =RAND() -> 0.64922947 | G69: =RAND() -> 0.66745477 | H69: =RAND() -> 0.21257152 | I69: =RAND() -> 0.11793665 | ... Z69: =RAND() -> 0.51675331 | AB69: =_xlfn.NORM.INV(B69,Satokasvi!$H$8,Satokasvi!$I$8)*_xlfn.BINOM.INV(1,(1-Satokasvi!$H$15),B69) -> 2531.5897 | AC69: =_xlfn.NORM.INV(C69,Satokasvi!$H$8,Satokasvi!$I$8)*_xlfn.BINOM.INV(1,(1-Satokasvi!$H$15),C69) -> 2620.4765 | AD69: =_xlfn.NORM.INV(D69,Satokasvi!$H$8,Satokasvi!$I$8)*_xlfn.BINOM.INV(1,(1-Satokasvi!$H$15),D69) -> 0 | AE69: =_xlfn.NORM.INV(E69,Satokasvi!$H$8,Satokasvi!$I$8)*_xlfn.BINOM.INV(1,(1-Satokasvi!$H$15),E69) -> 0 | AF69: =_xlfn.NORM.INV(F69,Satokasvi!$H$8,Satokasvi!$I$8)*_xlfn.BINOM.INV(1,(1-Satokasvi!$H$15),F69) -> 2595.8103 | AG69: =_xlfn.NORM.INV(G69,Satokasvi!$H$8,Satokasvi!$I$8)*_xlfn.BINOM.INV(1,(1-Satokasvi!$H$15),G69) -> 2608.224 | AH69: =_xlfn.NORM.INV(H69,Satokasvi!$H$8,Satokasvi!$I$8)*_xlfn.BINOM.INV(1,(1-Satokasvi!$H$15),H69) -> 0 | AI69: =_xlfn.NORM.INV(I69,Satokasvi!$H$8,Satokasvi!$I$8)*_xlfn.BINOM.INV(1,(1-Satokasvi!$H$15),I69) -> 0 | ... AZ69: =_xlfn.NORM.INV(Z69,Satokasvi!$H$8,Satokasvi!$I$8)*_xlfn.BINOM.INV(1,(1-Satokasvi!$H$15),Z69) -> 2510.5017 | BB69: =IF(C$11="x",0,_xlfn.NORM.INV(B69,Satokasvi!$H$8,Satokasvi!$I$8)*IF(C$8="x",(1+Toimenpiteet!$C$7),1)*IF(C$9="x",(1+Toimenpiteet!$C$34),1)*(1+C$30)*_xlfn.BINOM.INV(1,(1-(Satokasvi!$H$15*(1+C$41))),B69)) -> 2531.5897 | BC69: =IF(D$11="x",0,_xlfn.NORM.INV(C69,Satokasvi!$H$8,Satokasvi!$I$8)*IF(D$8="x",(1+Toimenpiteet!$C$7),1)*IF(D$9="x",(1+Toimenpiteet!$C$34),1)*(1+D$30)*_xlfn.BINOM.INV(1,(1-(Satokasvi!$H$15*(1+D$41))),C69)) -> 2620.4765 | BD69: =IF(E$11="x",0,_xlfn.NORM.INV(D69,Satokasvi!$H$8,Satokasvi!$I$8)*IF(E$8="x",(1+Toimenpiteet!$C$7),1)*IF(E$9="x",(1+Toimenpiteet!$C$34),1)*(1+E$30)*_xlfn.BINOM.INV(1,(1-(Satokasvi!$H$15*(1+E$41))),D69)) -> 0 | BE69: =IF(F$11="x",0,_xlfn.NORM.INV(E69,Satokasvi!$H$8,Satokasvi!$I$8)*IF(F$8="x",(1+Toimenpiteet!$C$7),1)*IF(F$9="x",(1+Toimenpiteet!$C$34),1)*(1+F$30)*_xlfn.BINOM.INV(1,(1-(Satokasvi!$H$15*(1+F$41))),E69)) -> 0 | BF69: =IF(G$11="x",0,_xlfn.NORM.INV(F69,Satokasvi!$H$8,Satokasvi!$I$8)*IF(G$8="x",(1+Toimenpiteet!$C$7),1)*IF(G$9="x",(1+Toimenpiteet!$C$34),1)*(1+G$30)*_xlfn.BINOM.INV(1,(1-(Satokasvi!$H$15*(1+G$41))),F69)) -> 2595.8103 | BG69: =IF(H$11="x",0,_xlfn.NORM.INV(G69,Satokasvi!$H$8,Satokasvi!$I$8)*IF(H$8="x",(1+Toimenpiteet!$C$7),1)*IF(H$9="x",(1+Toimenpiteet!$C$34),1)*(1+H$30)*_xlfn.BINOM.INV(1,(1-(Satokasvi!$H$15*(1+H$41))),G69)) -> 2608.224 | BH69: =IF(I$11="x",0,_xlfn.NORM.INV(H69,Satokasvi!$H$8,Satokasvi!$I$8)*IF(I$8="x",(1+Toimenpiteet!$C$7),1)*IF(I$9="x",(1+Toimenpiteet!$C$34),1)*(1+I$30)*_xlfn.BINOM.INV(1,(1-(Satokasvi!$H$15*(1+I$41))),H69)) -> 0 | BI69: =IF(J$11="x",0,_xlfn.NORM.INV(I69,Satokasvi!$H$8,Satokasvi!$I$8)*IF(J$8="x",(1+Toimenpiteet!$C$7),1)*IF(J$9="x",(1+Toimenpiteet!$C$34),1)*(1+J$30)*_xlfn.BINOM.INV(1,(1-(Satokasvi!$H$15*(1+J$41))),I69)) -> 0 | ... BZ69: =IF(AA$11="x",0,_xlfn.NORM.INV(Z69,Satokasvi!$H$8,Satokasvi!$I$8)*IF(AA$8="x",(1+Toimenpiteet!$C$7),1)*IF(AA$9="x",(1+Toimenpiteet!$C$34),1)*(1+AA$30)*_xlfn.BINOM.INV(1,(1-(Satokasvi!$H$15*(1+AA$41))),Z69)) -> 2510.5017 | CB69: =_xlfn.NORM.INV(RAND(),Satokasvi!$H$13,Satokasvi!$I$13) -> 193.12669 | CC69: =_xlfn.NORM.INV(RAND(),Satokasvi!$H$13,Satokasvi!$I$13) -> 147.00493 | CD69: =_xlfn.NORM.INV(RAND(),Satokasvi!$H$13,Satokasvi!$I$13) -> 208.43697 | CE69: =_xlfn.NORM.INV(RAND(),Satokasvi!$H$13,Satokasvi!$I$13) -> 236.34017 | CF69: =_xlfn.NORM.INV(RAND(),Satokasvi!$H$13,Satokasvi!$I$13) -> 262.26099 | CG69: =_xlfn.NORM.INV(RAND(),Satokasvi!$H$13,Satokasvi!$I$13) -> 110.8762 | CH69: =_xlfn.NORM.INV(RAND(),Satokasvi!$H$13,Satokasvi!$I$13) -> 225.53833 | CI69: =_xlfn.NORM.INV(RAND(),Satokasvi!$H$13,Satokasvi!$I$13) -> 179.45334 | ... CZ69: =_xlfn.NORM.INV(RAND(),Satokasvi!$H$13,Satokasvi!$I$13) -> 161.44478 | DB69: =(AB69*(CB69/1000)+(Satokasvi!$E$28-Satokasvi!$E$7))/(1+$C$13)^DB$61 -> 217.39566 | DC69: =(AC69*(CC69/1000)+(Satokasvi!$E$28-Satokasvi!$E$7))/(1+$C$13)^DC$61 -> 113.32167 | DD69: =(AD69*(CD69/1000)+(Satokasvi!$E$28-Satokasvi!$E$7))/(1+$C$13)^DD$61 -> -242.51254 | DE69: =(AE69*(CE69/1000)+(Satokasvi!$E$28-Satokasvi!$E$7))/(1+$C$13)^DE$61 -> -235.44907 | DF69: =(AF69*(CF69/1000)+(Satokasvi!$E$28-Satokasvi!$E$7))/(1+$C$13)^DF$61 -> 358.65528 | DG69: =(AG69*(CG69/1000)+(Satokasvi!$E$28-Satokasvi!$E$7))/(1+$C$13)^DG$61 -> 20.258719 | DH69: =(AH69*(CH69/1000)+(Satokasvi!$E$28-Satokasvi!$E$7))/(1+$C$13)^DH$61 -> -215.46925 | DI69: =(AI69*(CI69/1000)+(Satokasvi!$E$28-Satokasvi!$E$7))/(1+$C$13)^DI$61 -> -209.19345 | ... DZ69: =(AZ69*(CZ69/1000)+(Satokasvi!$E$28-Satokasvi!$E$7))/(1+$C$13)^DZ$61 -> 67.01159 | EB69: =IF(C$11="x",Toimenpiteet!$E$115,BB69*(CB69/1000)+(Satokasvi!$E$28-Satokasvi!$E$7)+IF(C$8="x",Toimenpiteet!$E$29,0)+IF(C$9="x",Toimenpiteet!$E$60,0)+IF(C$10="x",Toimenpiteet!$E$88,0))/(1+$C$13)^EB$61 -> 217.39566 | EC69: =IF(D$11="x",Toimenpiteet!$E$115,BC69*(CC69/1000)+(Satokasvi!$E$28-Satokasvi!$E$7)+IF(D$8="x",Toimenpiteet!$E$29,0)+IF(D$9="x",Toimenpiteet!$E$60,0)+IF(D$10="x",Toimenpiteet!$E$88,0))/(1+$C$13)^EC$61 -> 113.32167 | ED69: =IF(E$11="x",Toimenpiteet!$E$115,BD69*(CD69/1000)+(Satokasvi!$E$28-Satokasvi!$E$7)+IF(E$8="x",Toimenpiteet!$E$29,0)+IF(E$9="x",Toimenpiteet!$E$60,0)+IF(E$10="x",Toimenpiteet!$E$88,0))/(1+$C$13)^ED$61 -> -242.51254 | EE69: =IF(F$11="x",Toimenpiteet!$E$115,BE69*(CE69/1000)+(Satokasvi!$E$28-Satokasvi!$E$7)+IF(F$8="x",Toimenpiteet!$E$29,0)+IF(F$9="x",Toimenpiteet!$E$60,0)+IF(F$10="x",Toimenpiteet!$E$88,0))/(1+$C$13)^EE$61 -> -235.44907 | EF69: =IF(G$11="x",Toimenpiteet!$E$115,BF69*(CF69/1000)+(Satokasvi!$E$28-Satokasvi!$E$7)+IF(G$8="x",Toimenpiteet!$E$29,0)+IF(G$9="x",Toimenpiteet!$E$60,0)+IF(G$10="x",Toimenpiteet!$E$88,0))/(1+$C$13)^EF$61 -> 358.65528 | EG69: =IF(H$11="x",Toimenpiteet!$E$115,BG69*(CG69/1000)+(Satokasvi!$E$28-Satokasvi!$E$7)+IF(H$8="x",Toimenpiteet!$E$29,0)+IF(H$9="x",Toimenpiteet!$E$60,0)+IF(H$10="x",Toimenpiteet!$E$88,0))/(1+$C$13)^EG$61 -> 20.258719 | EH69: =IF(I$11="x",Toimenpiteet!$E$115,BH69*(CH69/1000)+(Satokasvi!$E$28-Satokasvi!$E$7)+IF(I$8="x",Toimenpiteet!$E$29,0)+IF(I$9="x",Toimenpiteet!$E$60,0)+IF(I$10="x",Toimenpiteet!$E$88,0))/(1+$C$13)^EH$61 -> -215.46925 | EI69: =IF(J$11="x",Toimenpiteet!$E$115,BI69*(CI69/1000)+(Satokasvi!$E$28-Satokasvi!$E$7)+IF(J$8="x",Toimenpiteet!$E$29,0)+IF(J$9="x",Toimenpiteet!$E$60,0)+IF(J$10="x",Toimenpiteet!$E$88,0))/(1+$C$13)^EI$61 -> -209.19345 | ... EZ69: =IF(AA$11="x",Toimenpiteet!$E$115,BZ69*(CZ69/1000)+(Satokasvi!$E$28-Satokasvi!$E$7)+IF(AA$8="x",Toimenpiteet!$E$29,0)+IF(AA$9="x",Toimenpiteet!$E$60,0)+IF(AA$10="x",Toimenpiteet!$E$88,0))/(1+$C$13)^EZ$61 -> 67.01159 | FB69: =DB69 -> 217.39566 | FC69: =FB69+DC69 -> 330.71733 | FD69: =FC69+DD69 -> 88.204795 | FE69: =FD69+DE69 -> -147.24427 | FF69: =FE69+DF69 -> 211.411 | FG69: =FF69+DG69 -> 231.66972 | FH69: =FG69+DH69 -> 16.200473 | FI69: =FH69+DI69 -> -192.99297 | FJ69: =FI69+DJ69 -> 87.883694 | ... FZ69: =FY69+DZ69 -> 1292.1639 | GB69: =EB69 -> 217.39566 | GC69: =GB69+EC69 -> 330.71733 | GD69: =GC69+ED69 -> 88.204795 | GE69: =GD69+EE69 -> -147.24427 | GF69: =GE69+EF69 -> 211.411 | GG69: =GF69+EG69 -> 231.66972 | GH69: =GG69+EH69 -> 16.200473 | GI69: =GH69+EI69 -> -192.99297 | GJ69: =GI69+EJ69 -> 87.883694 | ... GZ69: =GY69+EZ69 -> 1292.1639 | HB69: =_xlfn.XLOOKUP($BE$18,$FB$61:$FZ$61,FB69:FZ69) -> 211.411 | HC69: =_xlfn.XLOOKUP($BE$18,$GB$61:$GZ$61,GB69:GZ69) -> 211.411 | HD69: =IF(HC69>HB69,1,0) -> 0 | HG69: =HG68+($BI$11-$BI$10)/9 -> -0.055555556 | HH69: =IF(HH$61<$BI$9,$HG69/$BI$9*HH$61,$HG69/$BI$9*$BI$9) -> -0.0055555556 | HI69: =IF(HI$61<$BI$9,$HG69/$BI$9*HI$61,$HG69/$BI$9*$BI$9) -> -0.011111111 | HJ69: =IF(HJ$61<$BI$9,$HG69/$BI$9*HJ$61,$HG69/$BI$9*$BI$9) -> -0.016666667 | HK69: =IF(HK$61<$BI$9,$HG69/$BI$9*HK$61,$HG69/$BI$9*$BI$9) -> -0.022222222 | HL69: =IF(HL$61<$BI$9,$HG69/$BI$9*HL$61,$HG69/$BI$9*$BI$9) -> -0.027777778 | HM69: =IF(HM$61<$BI$9,$HG69/$BI$9*HM$61,$HG69/$BI$9*$BI$9) -> -0.033333333 | HN69: =IF(HN$61<$BI$9,$HG69/$BI$9*HN$61,$HG69/$BI$9*$BI$9) -> -0.038888889 | HO69: =IF(HO$61<$BI$9,$HG69/$BI$9*HO$61,$HG69/$BI$9*$BI$9) -> -0.044444444 | ... IF69: =IF(IF$61<$BI$9,$HG69/$BI$9*IF$61,$HG69/$BI$9*$BI$9) -> -0.055555556
B70: =RAND() -> 0.41886117 | C70: =RAND() -> 0.35692618 | D70: =RAND() -> 0.77147978 | E70: =RAND() -> 0.94263686 | F70: =RAND() -> 0.96790858 | G70: =RAND() -> 0.60289798 | H70: =RAND() -> 0.63954425 | I70: =RAND() -> 0.96125768 | ... Z70: =RAND() -> 0.94912517 | AB70: =_xlfn.NORM.INV(B70,Satokasvi!$H$8,Satokasvi!$I$8)*_xlfn.BINOM.INV(1,(1-Satokasvi!$H$15),B70) -> 2448.7981 | AC70: =_xlfn.NORM.INV(C70,Satokasvi!$H$8,Satokasvi!$I$8)*_xlfn.BINOM.INV(1,(1-Satokasvi!$H$15),C70) -> 2408.3282 | AD70: =_xlfn.NORM.INV(D70,Satokasvi!$H$8,Satokasvi!$I$8)*_xlfn.BINOM.INV(1,(1-Satokasvi!$H$15),D70) -> 2685.9323 | AE70: =_xlfn.NORM.INV(E70,Satokasvi!$H$8,Satokasvi!$I$8)*_xlfn.BINOM.INV(1,(1-Satokasvi!$H$15),E70) -> 2894.3253 | AF70: =_xlfn.NORM.INV(F70,Satokasvi!$H$8,Satokasvi!$I$8)*_xlfn.BINOM.INV(1,(1-Satokasvi!$H$15),F70) -> 2962.7269 | AG70: =_xlfn.NORM.INV(G70,Satokasvi!$H$8,Satokasvi!$I$8)*_xlfn.BINOM.INV(1,(1-Satokasvi!$H$15),G70) -> 2565.2138 | AH70: =_xlfn.NORM.INV(H70,Satokasvi!$H$8,Satokasvi!$I$8)*_xlfn.BINOM.INV(1,(1-Satokasvi!$H$15),H70) -> 2589.3102 | AI70: =_xlfn.NORM.INV(I70,Satokasvi!$H$8,Satokasvi!$I$8)*_xlfn.BINOM.INV(1,(1-Satokasvi!$H$15),I70) -> 2941.3677 | ... AZ70: =_xlfn.NORM.INV(Z70,Satokasvi!$H$8,Satokasvi!$I$8)*_xlfn.BINOM.INV(1,(1-Satokasvi!$H$15),Z70) -> 2909.1075 | BB70: =IF(C$11="x",0,_xlfn.NORM.INV(B70,Satokasvi!$H$8,Satokasvi!$I$8)*IF(C$8="x",(1+Toimenpiteet!$C$7),1)*IF(C$9="x",(1+Toimenpiteet!$C$34),1)*(1+C$30)*_xlfn.BINOM.INV(1,(1-(Satokasvi!$H$15*(1+C$41))),B70)) -> 2448.7981 | BC70: =IF(D$11="x",0,_xlfn.NORM.INV(C70,Satokasvi!$H$8,Satokasvi!$I$8)*IF(D$8="x",(1+Toimenpiteet!$C$7),1)*IF(D$9="x",(1+Toimenpiteet!$C$34),1)*(1+D$30)*_xlfn.BINOM.INV(1,(1-(Satokasvi!$H$15*(1+D$41))),C70)) -> 2408.3282 | BD70: =IF(E$11="x",0,_xlfn.NORM.INV(D70,Satokasvi!$H$8,Satokasvi!$I$8)*IF(E$8="x",(1+Toimenpiteet!$C$7),1)*IF(E$9="x",(1+Toimenpiteet!$C$34),1)*(1+E$30)*_xlfn.BINOM.INV(1,(1-(Satokasvi!$H$15*(1+E$41))),D70)) -> 2685.9323 | BE70: =IF(F$11="x",0,_xlfn.NORM.INV(E70,Satokasvi!$H$8,Satokasvi!$I$8)*IF(F$8="x",(1+Toimenpiteet!$C$7),1)*IF(F$9="x",(1+Toimenpiteet!$C$34),1)*(1+F$30)*_xlfn.BINOM.INV(1,(1-(Satokasvi!$H$15*(1+F$41))),E70)) -> 2894.3253 | BF70: =IF(G$11="x",0,_xlfn.NORM.INV(F70,Satokasvi!$H$8,Satokasvi!$I$8)*IF(G$8="x",(1+Toimenpiteet!$C$7),1)*IF(G$9="x",(1+Toimenpiteet!$C$34),1)*(1+G$30)*_xlfn.BINOM.INV(1,(1-(Satokasvi!$H$15*(1+G$41))),F70)) -> 2962.7269 | BG70: =IF(H$11="x",0,_xlfn.NORM.INV(G70,Satokasvi!$H$8,Satokasvi!$I$8)*IF(H$8="x",(1+Toimenpiteet!$C$7),1)*IF(H$9="x",(1+Toimenpiteet!$C$34),1)*(1+H$30)*_xlfn.BINOM.INV(1,(1-(Satokasvi!$H$15*(1+H$41))),G70)) -> 2565.2138 | BH70: =IF(I$11="x",0,_xlfn.NORM.INV(H70,Satokasvi!$H$8,Satokasvi!$I$8)*IF(I$8="x",(1+Toimenpiteet!$C$7),1)*IF(I$9="x",(1+Toimenpiteet!$C$34),1)*(1+I$30)*_xlfn.BINOM.INV(1,(1-(Satokasvi!$H$15*(1+I$41))),H70)) -> 2589.3102 | BI70: =IF(J$11="x",0,_xlfn.NORM.INV(I70,Satokasvi!$H$8,Satokasvi!$I$8)*IF(J$8="x",(1+Toimenpiteet!$C$7),1)*IF(J$9="x",(1+Toimenpiteet!$C$34),1)*(1+J$30)*_xlfn.BINOM.INV(1,(1-(Satokasvi!$H$15*(1+J$41))),I70)) -> 2941.3677 | ... BZ70: =IF(AA$11="x",0,_xlfn.NORM.INV(Z70,Satokasvi!$H$8,Satokasvi!$I$8)*IF(AA$8="x",(1+Toimenpiteet!$C$7),1)*IF(AA$9="x",(1+Toimenpiteet!$C$34),1)*(1+AA$30)*_xlfn.BINOM.INV(1,(1-(Satokasvi!$H$15*(1+AA$41))),Z70)) -> 2909.1075 | CB70: =_xlfn.NORM.INV(RAND(),Satokasvi!$H$13,Satokasvi!$I$13) -> 243.11849 | CC70: =_xlfn.NORM.INV(RAND(),Satokasvi!$H$13,Satokasvi!$I$13) -> 286.11322 | CD70: =_xlfn.NORM.INV(RAND(),Satokasvi!$H$13,Satokasvi!$I$13) -> 143.73004 | CE70: =_xlfn.NORM.INV(RAND(),Satokasvi!$H$13,Satokasvi!$I$13) -> 193.29425 | CF70: =_xlfn.NORM.INV(RAND(),Satokasvi!$H$13,Satokasvi!$I$13) -> 210.60414 | CG70: =_xlfn.NORM.INV(RAND(),Satokasvi!$H$13,Satokasvi!$I$13) -> 235.47027 | CH70: =_xlfn.NORM.INV(RAND(),Satokasvi!$H$13,Satokasvi!$I$13) -> 193.52829 | CI70: =_xlfn.NORM.INV(RAND(),Satokasvi!$H$13,Satokasvi!$I$13) -> 230.6292 | ... CZ70: =_xlfn.NORM.INV(RAND(),Satokasvi!$H$13,Satokasvi!$I$13) -> 129.26718 | DB70: =(AB70*(CB70/1000)+(Satokasvi!$E$28-Satokasvi!$E$7))/(1+$C$13)^DB$61 -> 320.72631 | DC70: =(AC70*(CC70/1000)+(Satokasvi!$E$28-Satokasvi!$E$7))/(1+$C$13)^DC$61 -> 399.71208 | DD70: =(AD70*(CD70/1000)+(Satokasvi!$E$28-Satokasvi!$E$7))/(1+$C$13)^DD$61 -> 110.77712 | DE70: =(AE70*(CE70/1000)+(Satokasvi!$E$28-Satokasvi!$E$7))/(1+$C$13)^DE$61 -> 261.62073 | DF70: =(AF70*(CF70/1000)+(Satokasvi!$E$28-Satokasvi!$E$7))/(1+$C$13)^DF$61 -> 309.64425 | DG70: =(AG70*(CG70/1000)+(Satokasvi!$E$28-Satokasvi!$E$7))/(1+$C$13)^DG$61 -> 283.93362 | DH70: =(AH70*(CH70/1000)+(Satokasvi!$E$28-Satokasvi!$E$7))/(1+$C$13)^DH$61 -> 191.97478 | DI70: =(AI70*(CI70/1000)+(Satokasvi!$E$28-Satokasvi!$E$7))/(1+$C$13)^DI$61 -> 326.31438 | ... DZ70: =(AZ70*(CZ70/1000)+(Satokasvi!$E$28-Satokasvi!$E$7))/(1+$C$13)^DZ$61 -> 53.039106 | EB70: =IF(C$11="x",Toimenpiteet!$E$115,BB70*(CB70/1000)+(Satokasvi!$E$28-Satokasvi!$E$7)+IF(C$8="x",Toimenpiteet!$E$29,0)+IF(C$9="x",Toimenpiteet!$E$60,0)+IF(C$10="x",Toimenpiteet!$E$88,0))/(1+$C$13)^EB$61 -> 320.72631 | EC70: =IF(D$11="x",Toimenpiteet!$E$115,BC70*(CC70/1000)+(Satokasvi!$E$28-Satokasvi!$E$7)+IF(D$8="x",Toimenpiteet!$E$29,0)+IF(D$9="x",Toimenpiteet!$E$60,0)+IF(D$10="x",Toimenpiteet!$E$88,0))/(1+$C$13)^EC$61 -> 399.71208 | ED70: =IF(E$11="x",Toimenpiteet!$E$115,BD70*(CD70/1000)+(Satokasvi!$E$28-Satokasvi!$E$7)+IF(E$8="x",Toimenpiteet!$E$29,0)+IF(E$9="x",Toimenpiteet!$E$60,0)+IF(E$10="x",Toimenpiteet!$E$88,0))/(1+$C$13)^ED$61 -> 110.77712 | EE70: =IF(F$11="x",Toimenpiteet!$E$115,BE70*(CE70/1000)+(Satokasvi!$E$28-Satokasvi!$E$7)+IF(F$8="x",Toimenpiteet!$E$29,0)+IF(F$9="x",Toimenpiteet!$E$60,0)+IF(F$10="x",Toimenpiteet!$E$88,0))/(1+$C$13)^EE$61 -> 261.62073 | EF70: =IF(G$11="x",Toimenpiteet!$E$115,BF70*(CF70/1000)+(Satokasvi!$E$28-Satokasvi!$E$7)+IF(G$8="x",Toimenpiteet!$E$29,0)+IF(G$9="x",Toimenpiteet!$E$60,0)+IF(G$10="x",Toimenpiteet!$E$88,0))/(1+$C$13)^EF$61 -> 309.64425 | EG70: =IF(H$11="x",Toimenpiteet!$E$115,BG70*(CG70/1000)+(Satokasvi!$E$28-Satokasvi!$E$7)+IF(H$8="x",Toimenpiteet!$E$29,0)+IF(H$9="x",Toimenpiteet!$E$60,0)+IF(H$10="x",Toimenpiteet!$E$88,0))/(1+$C$13)^EG$61 -> 283.93362 | EH70: =IF(I$11="x",Toimenpiteet!$E$115,BH70*(CH70/1000)+(Satokasvi!$E$28-Satokasvi!$E$7)+IF(I$8="x",Toimenpiteet!$E$29,0)+IF(I$9="x",Toimenpiteet!$E$60,0)+IF(I$10="x",Toimenpiteet!$E$88,0))/(1+$C$13)^EH$61 -> 191.97478 | EI70: =IF(J$11="x",Toimenpiteet!$E$115,BI70*(CI70/1000)+(Satokasvi!$E$28-Satokasvi!$E$7)+IF(J$8="x",Toimenpiteet!$E$29,0)+IF(J$9="x",Toimenpiteet!$E$60,0)+IF(J$10="x",Toimenpiteet!$E$88,0))/(1+$C$13)^EI$61 -> 326.31438 | ... EZ70: =IF(AA$11="x",Toimenpiteet!$E$115,BZ70*(CZ70/1000)+(Satokasvi!$E$28-Satokasvi!$E$7)+IF(AA$8="x",Toimenpiteet!$E$29,0)+IF(AA$9="x",Toimenpiteet!$E$60,0)+IF(AA$10="x",Toimenpiteet!$E$88,0))/(1+$C$13)^EZ$61 -> 53.039106 | FB70: =DB70 -> 320.72631 | FC70: =FB70+DC70 -> 720.43839 | FD70: =FC70+DD70 -> 831.21551 | FE70: =FD70+DE70 -> 1092.8362 | FF70: =FE70+DF70 -> 1402.4805 | FG70: =FF70+DG70 -> 1686.4141 | FH70: =FG70+DH70 -> 1878.3889 | FI70: =FH70+DI70 -> 2204.7033 | FJ70: =FI70+DJ70 -> 2396.6713 | ... FZ70: =FY70+DZ70 -> 3206.3681 | GB70: =EB70 -> 320.72631 | GC70: =GB70+EC70 -> 720.43839 | GD70: =GC70+ED70 -> 831.21551 | GE70: =GD70+EE70 -> 1092.8362 | GF70: =GE70+EF70 -> 1402.4805 | GG70: =GF70+EG70 -> 1686.4141 | GH70: =GG70+EH70 -> 1878.3889 | GI70: =GH70+EI70 -> 2204.7033 | GJ70: =GI70+EJ70 -> 2396.6713 | ... GZ70: =GY70+EZ70 -> 3206.3681 | HB70: =_xlfn.XLOOKUP($BE$18,$FB$61:$FZ$61,FB70:FZ70) -> 1402.4805 | HC70: =_xlfn.XLOOKUP($BE$18,$GB$61:$GZ$61,GB70:GZ70) -> 1402.4805 | HD70: =IF(HC70>HB70,1,0) -> 0 | HG70: =HG69+($BI$11-$BI$10)/9 -> -0.033333333 | HH70: =IF(HH$61<$BI$9,$HG70/$BI$9*HH$61,$HG70/$BI$9*$BI$9) -> -0.0033333333 | HI70: =IF(HI$61<$BI$9,$HG70/$BI$9*HI$61,$HG70/$BI$9*$BI$9) -> -0.0066666667 | HJ70: =IF(HJ$61<$BI$9,$HG70/$BI$9*HJ$61,$HG70/$BI$9*$BI$9) -> -0.01 | HK70: =IF(HK$61<$BI$9,$HG70/$BI$9*HK$61,$HG70/$BI$9*$BI$9) -> -0.013333333 | HL70: =IF(HL$61<$BI$9,$HG70/$BI$9*HL$61,$HG70/$BI$9*$BI$9) -> -0.016666667 | HM70: =IF(HM$61<$BI$9,$HG70/$BI$9*HM$61,$HG70/$BI$9*$BI$9) -> -0.02 | HN70: =IF(HN$61<$BI$9,$HG70/$BI$9*HN$61,$HG70/$BI$9*$BI$9) -> -0.023333333 | HO70: =IF(HO$61<$BI$9,$HG70/$BI$9*HO$61,$HG70/$BI$9*$BI$9) -> -0.026666667 | ... IF70: =IF(IF$61<$BI$9,$HG70/$BI$9*IF$61,$HG70/$BI$9*$BI$9) -> -0.033333333
B71: =RAND() -> 0.2512366 | C71: =RAND() -> 0.13040145 | D71: =RAND() -> 0.88990147 | E71: =RAND() -> 0.30539809 | F71: =RAND() -> 0.34592387 | G71: =RAND() -> 0.12825752 | H71: =RAND() -> 0.47411725 | I71: =RAND() -> 0.67206272 | ... Z71: =RAND() -> 0.44683297 | AB71: =_xlfn.NORM.INV(B71,Satokasvi!$H$8,Satokasvi!$I$8)*_xlfn.BINOM.INV(1,(1-Satokasvi!$H$15),B71) -> 2332.3491 | AC71: =_xlfn.NORM.INV(C71,Satokasvi!$H$8,Satokasvi!$I$8)*_xlfn.BINOM.INV(1,(1-Satokasvi!$H$15),C71) -> 0 | AD71: =_xlfn.NORM.INV(D71,Satokasvi!$H$8,Satokasvi!$I$8)*_xlfn.BINOM.INV(1,(1-Satokasvi!$H$15),D71) -> 2806.5011 | AE71: =_xlfn.NORM.INV(E71,Satokasvi!$H$8,Satokasvi!$I$8)*_xlfn.BINOM.INV(1,(1-Satokasvi!$H$15),E71) -> 2372.7657 | AF71: =_xlfn.NORM.INV(F71,Satokasvi!$H$8,Satokasvi!$I$8)*_xlfn.BINOM.INV(1,(1-Satokasvi!$H$15),F71) -> 2400.9128 | AG71: =_xlfn.NORM.INV(G71,Satokasvi!$H$8,Satokasvi!$I$8)*_xlfn.BINOM.INV(1,(1-Satokasvi!$H$15),G71) -> 0 | AH71: =_xlfn.NORM.INV(H71,Satokasvi!$H$8,Satokasvi!$I$8)*_xlfn.BINOM.INV(1,(1-Satokasvi!$H$15),H71) -> 2483.769 | AI71: =_xlfn.NORM.INV(I71,Satokasvi!$H$8,Satokasvi!$I$8)*_xlfn.BINOM.INV(1,(1-Satokasvi!$H$15),I71) -> 2611.404 | ... AZ71: =_xlfn.NORM.INV(Z71,Satokasvi!$H$8,Satokasvi!$I$8)*_xlfn.BINOM.INV(1,(1-Satokasvi!$H$15),Z71) -> 2466.5833 | BB71: =IF(C$11="x",0,_xlfn.NORM.INV(B71,Satokasvi!$H$8,Satokasvi!$I$8)*IF(C$8="x",(1+Toimenpiteet!$C$7),1)*IF(C$9="x",(1+Toimenpiteet!$C$34),1)*(1+C$30)*_xlfn.BINOM.INV(1,(1-(Satokasvi!$H$15*(1+C$41))),B71)) -> 2332.3491 | BC71: =IF(D$11="x",0,_xlfn.NORM.INV(C71,Satokasvi!$H$8,Satokasvi!$I$8)*IF(D$8="x",(1+Toimenpiteet!$C$7),1)*IF(D$9="x",(1+Toimenpiteet!$C$34),1)*(1+D$30)*_xlfn.BINOM.INV(1,(1-(Satokasvi!$H$15*(1+D$41))),C71)) -> 0 | BD71: =IF(E$11="x",0,_xlfn.NORM.INV(D71,Satokasvi!$H$8,Satokasvi!$I$8)*IF(E$8="x",(1+Toimenpiteet!$C$7),1)*IF(E$9="x",(1+Toimenpiteet!$C$34),1)*(1+E$30)*_xlfn.BINOM.INV(1,(1-(Satokasvi!$H$15*(1+E$41))),D71)) -> 2806.5011 | BE71: =IF(F$11="x",0,_xlfn.NORM.INV(E71,Satokasvi!$H$8,Satokasvi!$I$8)*IF(F$8="x",(1+Toimenpiteet!$C$7),1)*IF(F$9="x",(1+Toimenpiteet!$C$34),1)*(1+F$30)*_xlfn.BINOM.INV(1,(1-(Satokasvi!$H$15*(1+F$41))),E71)) -> 2372.7657 | BF71: =IF(G$11="x",0,_xlfn.NORM.INV(F71,Satokasvi!$H$8,Satokasvi!$I$8)*IF(G$8="x",(1+Toimenpiteet!$C$7),1)*IF(G$9="x",(1+Toimenpiteet!$C$34),1)*(1+G$30)*_xlfn.BINOM.INV(1,(1-(Satokasvi!$H$15*(1+G$41))),F71)) -> 2400.9128 | BG71: =IF(H$11="x",0,_xlfn.NORM.INV(G71,Satokasvi!$H$8,Satokasvi!$I$8)*IF(H$8="x",(1+Toimenpiteet!$C$7),1)*IF(H$9="x",(1+Toimenpiteet!$C$34),1)*(1+H$30)*_xlfn.BINOM.INV(1,(1-(Satokasvi!$H$15*(1+H$41))),G71)) -> 0 | BH71: =IF(I$11="x",0,_xlfn.NORM.INV(H71,Satokasvi!$H$8,Satokasvi!$I$8)*IF(I$8="x",(1+Toimenpiteet!$C$7),1)*IF(I$9="x",(1+Toimenpiteet!$C$34),1)*(1+I$30)*_xlfn.BINOM.INV(1,(1-(Satokasvi!$H$15*(1+I$41))),H71)) -> 2483.769 | BI71: =IF(J$11="x",0,_xlfn.NORM.INV(I71,Satokasvi!$H$8,Satokasvi!$I$8)*IF(J$8="x",(1+Toimenpiteet!$C$7),1)*IF(J$9="x",(1+Toimenpiteet!$C$34),1)*(1+J$30)*_xlfn.BINOM.INV(1,(1-(Satokasvi!$H$15*(1+J$41))),I71)) -> 2611.404 | ... BZ71: =IF(AA$11="x",0,_xlfn.NORM.INV(Z71,Satokasvi!$H$8,Satokasvi!$I$8)*IF(AA$8="x",(1+Toimenpiteet!$C$7),1)*IF(AA$9="x",(1+Toimenpiteet!$C$34),1)*(1+AA$30)*_xlfn.BINOM.INV(1,(1-(Satokasvi!$H$15*(1+AA$41))),Z71)) -> 2466.5833 | CB71: =_xlfn.NORM.INV(RAND(),Satokasvi!$H$13,Satokasvi!$I$13) -> 172.34777 | CC71: =_xlfn.NORM.INV(RAND(),Satokasvi!$H$13,Satokasvi!$I$13) -> 162.22637 | CD71: =_xlfn.NORM.INV(RAND(),Satokasvi!$H$13,Satokasvi!$I$13) -> 203.48801 | CE71: =_xlfn.NORM.INV(RAND(),Satokasvi!$H$13,Satokasvi!$I$13) -> 184.41577 | CF71: =_xlfn.NORM.INV(RAND(),Satokasvi!$H$13,Satokasvi!$I$13) -> 152.4471 | CG71: =_xlfn.NORM.INV(RAND(),Satokasvi!$H$13,Satokasvi!$I$13) -> 252.92203 | CH71: =_xlfn.NORM.INV(RAND(),Satokasvi!$H$13,Satokasvi!$I$13) -> 84.945317 | CI71: =_xlfn.NORM.INV(RAND(),Satokasvi!$H$13,Satokasvi!$I$13) -> 184.27685 | ... CZ71: =_xlfn.NORM.INV(RAND(),Satokasvi!$H$13,Satokasvi!$I$13) -> 177.30733 | DB71: =(AB71*(CB71/1000)+(Satokasvi!$E$28-Satokasvi!$E$7))/(1+$C$13)^DB$61 -> 132.98561 | DC71: =(AC71*(CC71/1000)+(Satokasvi!$E$28-Satokasvi!$E$7))/(1+$C$13)^DC$61 -> -249.78792 | DD71: =(AD71*(CD71/1000)+(Satokasvi!$E$28-Satokasvi!$E$7))/(1+$C$13)^DD$61 -> 280.11509 | DE71: =(AE71*(CE71/1000)+(Satokasvi!$E$28-Satokasvi!$E$7))/(1+$C$13)^DE$61 -> 153.33101 | DF71: =(AF71*(CF71/1000)+(Satokasvi!$E$28-Satokasvi!$E$7))/(1+$C$13)^DF$61 -> 87.133998 | DG71: =(AG71*(CG71/1000)+(Satokasvi!$E$28-Satokasvi!$E$7))/(1+$C$13)^DG$61 -> -221.93333 | DH71: =(AH71*(CH71/1000)+(Satokasvi!$E$28-Satokasvi!$E$7))/(1+$C$13)^DH$61 -> -43.919509 | DI71: =(AI71*(CI71/1000)+(Satokasvi!$E$28-Satokasvi!$E$7))/(1+$C$13)^DI$61 -> 170.6871 | ... DZ71: =(AZ71*(CZ71/1000)+(Satokasvi!$E$28-Satokasvi!$E$7))/(1+$C$13)^DZ$61 -> 82.312117 | EB71: =IF(C$11="x",Toimenpiteet!$E$115,BB71*(CB71/1000)+(Satokasvi!$E$28-Satokasvi!$E$7)+IF(C$8="x",Toimenpiteet!$E$29,0)+IF(C$9="x",Toimenpiteet!$E$60,0)+IF(C$10="x",Toimenpiteet!$E$88,0))/(1+$C$13)^EB$61 -> 132.98561 | EC71: =IF(D$11="x",Toimenpiteet!$E$115,BC71*(CC71/1000)+(Satokasvi!$E$28-Satokasvi!$E$7)+IF(D$8="x",Toimenpiteet!$E$29,0)+IF(D$9="x",Toimenpiteet!$E$60,0)+IF(D$10="x",Toimenpiteet!$E$88,0))/(1+$C$13)^EC$61 -> -249.78792 | ED71: =IF(E$11="x",Toimenpiteet!$E$115,BD71*(CD71/1000)+(Satokasvi!$E$28-Satokasvi!$E$7)+IF(E$8="x",Toimenpiteet!$E$29,0)+IF(E$9="x",Toimenpiteet!$E$60,0)+IF(E$10="x",Toimenpiteet!$E$88,0))/(1+$C$13)^ED$61 -> 280.11509 | EE71: =IF(F$11="x",Toimenpiteet!$E$115,BE71*(CE71/1000)+(Satokasvi!$E$28-Satokasvi!$E$7)+IF(F$8="x",Toimenpiteet!$E$29,0)+IF(F$9="x",Toimenpiteet!$E$60,0)+IF(F$10="x",Toimenpiteet!$E$88,0))/(1+$C$13)^EE$61 -> 153.33101 | EF71: =IF(G$11="x",Toimenpiteet!$E$115,BF71*(CF71/1000)+(Satokasvi!$E$28-Satokasvi!$E$7)+IF(G$8="x",Toimenpiteet!$E$29,0)+IF(G$9="x",Toimenpiteet!$E$60,0)+IF(G$10="x",Toimenpiteet!$E$88,0))/(1+$C$13)^EF$61 -> 87.133998 | EG71: =IF(H$11="x",Toimenpiteet!$E$115,BG71*(CG71/1000)+(Satokasvi!$E$28-Satokasvi!$E$7)+IF(H$8="x",Toimenpiteet!$E$29,0)+IF(H$9="x",Toimenpiteet!$E$60,0)+IF(H$10="x",Toimenpiteet!$E$88,0))/(1+$C$13)^EG$61 -> -221.93333 | EH71: =IF(I$11="x",Toimenpiteet!$E$115,BH71*(CH71/1000)+(Satokasvi!$E$28-Satokasvi!$E$7)+IF(I$8="x",Toimenpiteet!$E$29,0)+IF(I$9="x",Toimenpiteet!$E$60,0)+IF(I$10="x",Toimenpiteet!$E$88,0))/(1+$C$13)^EH$61 -> -43.919509 | EI71: =IF(J$11="x",Toimenpiteet!$E$115,BI71*(CI71/1000)+(Satokasvi!$E$28-Satokasvi!$E$7)+IF(J$8="x",Toimenpiteet!$E$29,0)+IF(J$9="x",Toimenpiteet!$E$60,0)+IF(J$10="x",Toimenpiteet!$E$88,0))/(1+$C$13)^EI$61 -> 170.6871 | ... EZ71: =IF(AA$11="x",Toimenpiteet!$E$115,BZ71*(CZ71/1000)+(Satokasvi!$E$28-Satokasvi!$E$7)+IF(AA$8="x",Toimenpiteet!$E$29,0)+IF(AA$9="x",Toimenpiteet!$E$60,0)+IF(AA$10="x",Toimenpiteet!$E$88,0))/(1+$C$13)^EZ$61 -> 82.312117 | FB71: =DB71 -> 132.98561 | FC71: =FB71+DC71 -> -116.80231 | FD71: =FC71+DD71 -> 163.31278 | FE71: =FD71+DE71 -> 316.6438 | FF71: =FE71+DF71 -> 403.7778 | FG71: =FF71+DG71 -> 181.84447 | FH71: =FG71+DH71 -> 137.92496 | FI71: =FH71+DI71 -> 308.61206 | FJ71: =FI71+DJ71 -> 105.51163 | ... FZ71: =FY71+DZ71 -> 1909.4219 | GB71: =EB71 -> 132.98561 | GC71: =GB71+EC71 -> -116.80231 | GD71: =GC71+ED71 -> 163.31278 | GE71: =GD71+EE71 -> 316.6438 | GF71: =GE71+EF71 -> 403.7778 | GG71: =GF71+EG71 -> 181.84447 | GH71: =GG71+EH71 -> 137.92496 | GI71: =GH71+EI71 -> 308.61206 | GJ71: =GI71+EJ71 -> 105.51163 | ... GZ71: =GY71+EZ71 -> 1909.4219 | HB71: =_xlfn.XLOOKUP($BE$18,$FB$61:$FZ$61,FB71:FZ71) -> 403.7778 | HC71: =_xlfn.XLOOKUP($BE$18,$GB$61:$GZ$61,GB71:GZ71) -> 403.7778 | HD71: =IF(HC71>HB71,1,0) -> 0 | HG71: =HG70+($BI$11-$BI$10)/9 -> -0.011111111 | HH71: =IF(HH$61<$BI$9,$HG71/$BI$9*HH$61,$HG71/$BI$9*$BI$9) -> -0.0011111111 | HI71: =IF(HI$61<$BI$9,$HG71/$BI$9*HI$61,$HG71/$BI$9*$BI$9) -> -0.0022222222 | HJ71: =IF(HJ$61<$BI$9,$HG71/$BI$9*HJ$61,$HG71/$BI$9*$BI$9) -> -0.0033333333 | HK71: =IF(HK$61<$BI$9,$HG71/$BI$9*HK$61,$HG71/$BI$9*$BI$9) -> -0.0044444444 | HL71: =IF(HL$61<$BI$9,$HG71/$BI$9*HL$61,$HG71/$BI$9*$BI$9) -> -0.0055555556 | HM71: =IF(HM$61<$BI$9,$HG71/$BI$9*HM$61,$HG71/$BI$9*$BI$9) -> -0.0066666667 | HN71: =IF(HN$61<$BI$9,$HG71/$BI$9*HN$61,$HG71/$BI$9*$BI$9) -> -0.0077777778 | HO71: =IF(HO$61<$BI$9,$HG71/$BI$9*HO$61,$HG71/$BI$9*$BI$9) -> -0.0088888889 | ... IF71: =IF(IF$61<$BI$9,$HG71/$BI$9*IF$61,$HG71/$BI$9*$BI$9) -> -0.011111111
B72: =RAND() -> 0.58836604 | C72: =RAND() -> 0.21515883 | D72: =RAND() -> 0.08028678 | E72: =RAND() -> 0.17085123 | F72: =RAND() -> 0.10505601 | G72: =RAND() -> 0.49876874 | H72: =RAND() -> 0.65353441 | I72: =RAND() -> 0.25457333 | ... Z72: =RAND() -> 0.6843019 | AB72: =_xlfn.NORM.INV(B72,Satokasvi!$H$8,Satokasvi!$I$8)*_xlfn.BINOM.INV(1,(1-Satokasvi!$H$15),B72) -> 2555.836 | AC72: =_xlfn.NORM.INV(C72,Satokasvi!$H$8,Satokasvi!$I$8)*_xlfn.BINOM.INV(1,(1-Satokasvi!$H$15),C72) -> 0 | AD72: =_xlfn.NORM.INV(D72,Satokasvi!$H$8,Satokasvi!$I$8)*_xlfn.BINOM.INV(1,(1-Satokasvi!$H$15),D72) -> 0 | AE72: =_xlfn.NORM.INV(E72,Satokasvi!$H$8,Satokasvi!$I$8)*_xlfn.BINOM.INV(1,(1-Satokasvi!$H$15),E72) -> 0 | AF72: =_xlfn.NORM.INV(F72,Satokasvi!$H$8,Satokasvi!$I$8)*_xlfn.BINOM.INV(1,(1-Satokasvi!$H$15),F72) -> 0 | AG72: =_xlfn.NORM.INV(G72,Satokasvi!$H$8,Satokasvi!$I$8)*_xlfn.BINOM.INV(1,(1-Satokasvi!$H$15),G72) -> 2499.2284 | AH72: =_xlfn.NORM.INV(H72,Satokasvi!$H$8,Satokasvi!$I$8)*_xlfn.BINOM.INV(1,(1-Satokasvi!$H$15),H72) -> 2598.7201 | AI72: =_xlfn.NORM.INV(I72,Satokasvi!$H$8,Satokasvi!$I$8)*_xlfn.BINOM.INV(1,(1-Satokasvi!$H$15),I72) -> 2334.9582 | ... AZ72: =_xlfn.NORM.INV(Z72,Satokasvi!$H$8,Satokasvi!$I$8)*_xlfn.BINOM.INV(1,(1-Satokasvi!$H$15),Z72) -> 2619.9407 | BB72: =IF(C$11="x",0,_xlfn.NORM.INV(B72,Satokasvi!$H$8,Satokasvi!$I$8)*IF(C$8="x",(1+Toimenpiteet!$C$7),1)*IF(C$9="x",(1+Toimenpiteet!$C$34),1)*(1+C$30)*_xlfn.BINOM.INV(1,(1-(Satokasvi!$H$15*(1+C$41))),B72)) -> 2555.836 | BC72: =IF(D$11="x",0,_xlfn.NORM.INV(C72,Satokasvi!$H$8,Satokasvi!$I$8)*IF(D$8="x",(1+Toimenpiteet!$C$7),1)*IF(D$9="x",(1+Toimenpiteet!$C$34),1)*(1+D$30)*_xlfn.BINOM.INV(1,(1-(Satokasvi!$H$15*(1+D$41))),C72)) -> 0 | BD72: =IF(E$11="x",0,_xlfn.NORM.INV(D72,Satokasvi!$H$8,Satokasvi!$I$8)*IF(E$8="x",(1+Toimenpiteet!$C$7),1)*IF(E$9="x",(1+Toimenpiteet!$C$34),1)*(1+E$30)*_xlfn.BINOM.INV(1,(1-(Satokasvi!$H$15*(1+E$41))),D72)) -> 0 | BE72: =IF(F$11="x",0,_xlfn.NORM.INV(E72,Satokasvi!$H$8,Satokasvi!$I$8)*IF(F$8="x",(1+Toimenpiteet!$C$7),1)*IF(F$9="x",(1+Toimenpiteet!$C$34),1)*(1+F$30)*_xlfn.BINOM.INV(1,(1-(Satokasvi!$H$15*(1+F$41))),E72)) -> 0 | BF72: =IF(G$11="x",0,_xlfn.NORM.INV(F72,Satokasvi!$H$8,Satokasvi!$I$8)*IF(G$8="x",(1+Toimenpiteet!$C$7),1)*IF(G$9="x",(1+Toimenpiteet!$C$34),1)*(1+G$30)*_xlfn.BINOM.INV(1,(1-(Satokasvi!$H$15*(1+G$41))),F72)) -> 0 | BG72: =IF(H$11="x",0,_xlfn.NORM.INV(G72,Satokasvi!$H$8,Satokasvi!$I$8)*IF(H$8="x",(1+Toimenpiteet!$C$7),1)*IF(H$9="x",(1+Toimenpiteet!$C$34),1)*(1+H$30)*_xlfn.BINOM.INV(1,(1-(Satokasvi!$H$15*(1+H$41))),G72)) -> 2499.2284 | BH72: =IF(I$11="x",0,_xlfn.NORM.INV(H72,Satokasvi!$H$8,Satokasvi!$I$8)*IF(I$8="x",(1+Toimenpiteet!$C$7),1)*IF(I$9="x",(1+Toimenpiteet!$C$34),1)*(1+I$30)*_xlfn.BINOM.INV(1,(1-(Satokasvi!$H$15*(1+I$41))),H72)) -> 2598.7201 | BI72: =IF(J$11="x",0,_xlfn.NORM.INV(I72,Satokasvi!$H$8,Satokasvi!$I$8)*IF(J$8="x",(1+Toimenpiteet!$C$7),1)*IF(J$9="x",(1+Toimenpiteet!$C$34),1)*(1+J$30)*_xlfn.BINOM.INV(1,(1-(Satokasvi!$H$15*(1+J$41))),I72)) -> 2334.9582 | ... BZ72: =IF(AA$11="x",0,_xlfn.NORM.INV(Z72,Satokasvi!$H$8,Satokasvi!$I$8)*IF(AA$8="x",(1+Toimenpiteet!$C$7),1)*IF(AA$9="x",(1+Toimenpiteet!$C$34),1)*(1+AA$30)*_xlfn.BINOM.INV(1,(1-(Satokasvi!$H$15*(1+AA$41))),Z72)) -> 2619.9407 | CB72: =_xlfn.NORM.INV(RAND(),Satokasvi!$H$13,Satokasvi!$I$13) -> 193.26396 | CC72: =_xlfn.NORM.INV(RAND(),Satokasvi!$H$13,Satokasvi!$I$13) -> 156.86998 | CD72: =_xlfn.NORM.INV(RAND(),Satokasvi!$H$13,Satokasvi!$I$13) -> 146.77887 | CE72: =_xlfn.NORM.INV(RAND(),Satokasvi!$H$13,Satokasvi!$I$13) -> 241.09117 | CF72: =_xlfn.NORM.INV(RAND(),Satokasvi!$H$13,Satokasvi!$I$13) -> 163.73801 | CG72: =_xlfn.NORM.INV(RAND(),Satokasvi!$H$13,Satokasvi!$I$13) -> 188.13284 | CH72: =_xlfn.NORM.INV(RAND(),Satokasvi!$H$13,Satokasvi!$I$13) -> 197.66052 | CI72: =_xlfn.NORM.INV(RAND(),Satokasvi!$H$13,Satokasvi!$I$13) -> 208.54721 | ... CZ72: =_xlfn.NORM.INV(RAND(),Satokasvi!$H$13,Satokasvi!$I$13) -> 160.5502 | DB72: =(AB72*(CB72/1000)+(Satokasvi!$E$28-Satokasvi!$E$7))/(1+$C$13)^DB$61 -> 222.28251 | DC72: =(AC72*(CC72/1000)+(Satokasvi!$E$28-Satokasvi!$E$7))/(1+$C$13)^DC$61 -> -249.78792 | DD72: =(AD72*(CD72/1000)+(Satokasvi!$E$28-Satokasvi!$E$7))/(1+$C$13)^DD$61 -> -242.51254 | DE72: =(AE72*(CE72/1000)+(Satokasvi!$E$28-Satokasvi!$E$7))/(1+$C$13)^DE$61 -> -235.44907 | DF72: =(AF72*(CF72/1000)+(Satokasvi!$E$28-Satokasvi!$E$7))/(1+$C$13)^DF$61 -> -228.59133 | DG72: =(AG72*(CG72/1000)+(Satokasvi!$E$28-Satokasvi!$E$7))/(1+$C$13)^DG$61 -> 171.84084 | DH72: =(AH72*(CH72/1000)+(Satokasvi!$E$28-Satokasvi!$E$7))/(1+$C$13)^DH$61 -> 202.18688 | DI72: =(AI72*(CI72/1000)+(Satokasvi!$E$28-Satokasvi!$E$7))/(1+$C$13)^DI$61 -> 175.20861 | ... DZ72: =(AZ72*(CZ72/1000)+(Satokasvi!$E$28-Satokasvi!$E$7))/(1+$C$13)^DZ$61 -> 74.330703 | EB72: =IF(C$11="x",Toimenpiteet!$E$115,BB72*(CB72/1000)+(Satokasvi!$E$28-Satokasvi!$E$7)+IF(C$8="x",Toimenpiteet!$E$29,0)+IF(C$9="x",Toimenpiteet!$E$60,0)+IF(C$10="x",Toimenpiteet!$E$88,0))/(1+$C$13)^EB$61 -> 222.28251 | EC72: =IF(D$11="x",Toimenpiteet!$E$115,BC72*(CC72/1000)+(Satokasvi!$E$28-Satokasvi!$E$7)+IF(D$8="x",Toimenpiteet!$E$29,0)+IF(D$9="x",Toimenpiteet!$E$60,0)+IF(D$10="x",Toimenpiteet!$E$88,0))/(1+$C$13)^EC$61 -> -249.78792 | ED72: =IF(E$11="x",Toimenpiteet!$E$115,BD72*(CD72/1000)+(Satokasvi!$E$28-Satokasvi!$E$7)+IF(E$8="x",Toimenpiteet!$E$29,0)+IF(E$9="x",Toimenpiteet!$E$60,0)+IF(E$10="x",Toimenpiteet!$E$88,0))/(1+$C$13)^ED$61 -> -242.51254 | EE72: =IF(F$11="x",Toimenpiteet!$E$115,BE72*(CE72/1000)+(Satokasvi!$E$28-Satokasvi!$E$7)+IF(F$8="x",Toimenpiteet!$E$29,0)+IF(F$9="x",Toimenpiteet!$E$60,0)+IF(F$10="x",Toimenpiteet!$E$88,0))/(1+$C$13)^EE$61 -> -235.44907 | EF72: =IF(G$11="x",Toimenpiteet!$E$115,BF72*(CF72/1000)+(Satokasvi!$E$28-Satokasvi!$E$7)+IF(G$8="x",Toimenpiteet!$E$29,0)+IF(G$9="x",Toimenpiteet!$E$60,0)+IF(G$10="x",Toimenpiteet!$E$88,0))/(1+$C$13)^EF$61 -> -228.59133 | EG72: =IF(H$11="x",Toimenpiteet!$E$115,BG72*(CG72/1000)+(Satokasvi!$E$28-Satokasvi!$E$7)+IF(H$8="x",Toimenpiteet!$E$29,0)+IF(H$9="x",Toimenpiteet!$E$60,0)+IF(H$10="x",Toimenpiteet!$E$88,0))/(1+$C$13)^EG$61 -> 171.84084 | EH72: =IF(I$11="x",Toimenpiteet!$E$115,BH72*(CH72/1000)+(Satokasvi!$E$28-Satokasvi!$E$7)+IF(I$8="x",Toimenpiteet!$E$29,0)+IF(I$9="x",Toimenpiteet!$E$60,0)+IF(I$10="x",Toimenpiteet!$E$88,0))/(1+$C$13)^EH$61 -> 202.18688 | EI72: =IF(J$11="x",Toimenpiteet!$E$115,BI72*(CI72/1000)+(Satokasvi!$E$28-Satokasvi!$E$7)+IF(J$8="x",Toimenpiteet!$E$29,0)+IF(J$9="x",Toimenpiteet!$E$60,0)+IF(J$10="x",Toimenpiteet!$E$88,0))/(1+$C$13)^EI$61 -> 175.20861 | ... EZ72: =IF(AA$11="x",Toimenpiteet!$E$115,BZ72*(CZ72/1000)+(Satokasvi!$E$28-Satokasvi!$E$7)+IF(AA$8="x",Toimenpiteet!$E$29,0)+IF(AA$9="x",Toimenpiteet!$E$60,0)+IF(AA$10="x",Toimenpiteet!$E$88,0))/(1+$C$13)^EZ$61 -> 74.330703 | FB72: =DB72 -> 222.28251 | FC72: =FB72+DC72 -> -27.505404 | FD72: =FC72+DD72 -> -270.01794 | FE72: =FD72+DE72 -> -505.46701 | FF72: =FE72+DF72 -> -734.05834 | FG72: =FF72+DG72 -> -562.2175 | FH72: =FG72+DH72 -> -360.03062 | FI72: =FH72+DI72 -> -184.82201 | FJ72: =FI72+DJ72 -> -387.92244 | ... FZ72: =FY72+DZ72 -> 575.58673 | GB72: =EB72 -> 222.28251 | GC72: =GB72+EC72 -> -27.505404 | GD72: =GC72+ED72 -> -270.01794 | GE72: =GD72+EE72 -> -505.46701 | GF72: =GE72+EF72 -> -734.05834 | GG72: =GF72+EG72 -> -562.2175 | GH72: =GG72+EH72 -> -360.03062 | GI72: =GH72+EI72 -> -184.82201 | GJ72: =GI72+EJ72 -> -387.92244 | ... GZ72: =GY72+EZ72 -> 575.58673 | HB72: =_xlfn.XLOOKUP($BE$18,$FB$61:$FZ$61,FB72:FZ72) -> -734.05834 | HC72: =_xlfn.XLOOKUP($BE$18,$GB$61:$GZ$61,GB72:GZ72) -> -734.05834 | HD72: =IF(HC72>HB72,1,0) -> 0 | HG72: =HG71+($BI$11-$BI$10)/9 -> 0.011111111 | HH72: =IF(HH$61<$BI$9,$HG72/$BI$9*HH$61,$HG72/$BI$9*$BI$9) -> 0.0011111111 | HI72: =IF(HI$61<$BI$9,$HG72/$BI$9*HI$61,$HG72/$BI$9*$BI$9) -> 0.0022222222 | HJ72: =IF(HJ$61<$BI$9,$HG72/$BI$9*HJ$61,$HG72/$BI$9*$BI$9) -> 0.0033333333 | HK72: =IF(HK$61<$BI$9,$HG72/$BI$9*HK$61,$HG72/$BI$9*$BI$9) -> 0.0044444444 | HL72: =IF(HL$61<$BI$9,$HG72/$BI$9*HL$61,$HG72/$BI$9*$BI$9) -> 0.0055555556 | HM72: =IF(HM$61<$BI$9,$HG72/$BI$9*HM$61,$HG72/$BI$9*$BI$9) -> 0.0066666667 | HN72: =IF(HN$61<$BI$9,$HG72/$BI$9*HN$61,$HG72/$BI$9*$BI$9) -> 0.0077777778 | HO72: =IF(HO$61<$BI$9,$HG72/$BI$9*HO$61,$HG72/$BI$9*$BI$9) -> 0.0088888889 | ... IF72: =IF(IF$61<$BI$9,$HG72/$BI$9*IF$61,$HG72/$BI$9*$BI$9) -> 0.011111111
B73: =RAND() -> 0.90778507 | C73: =RAND() -> 0.92095501 | D73: =RAND() -> 0.93447718 | E73: =RAND() -> 0.89522194 | F73: =RAND() -> 0.62712571 | G73: =RAND() -> 0.8567635 | H73: =RAND() -> 0.23163402 | I73: =RAND() -> 0.0323061 | ... Z73: =RAND() -> 0.19844011 | AB73: =_xlfn.NORM.INV(B73,Satokasvi!$H$8,Satokasvi!$I$8)*_xlfn.BINOM.INV(1,(1-Satokasvi!$H$15),B73) -> 2831.8096 | AC73: =_xlfn.NORM.INV(C73,Satokasvi!$H$8,Satokasvi!$I$8)*_xlfn.BINOM.INV(1,(1-Satokasvi!$H$15),C73) -> 2852.8812 | AD73: =_xlfn.NORM.INV(D73,Satokasvi!$H$8,Satokasvi!$I$8)*_xlfn.BINOM.INV(1,(1-Satokasvi!$H$15),D73) -> 2877.4978 | AE73: =_xlfn.NORM.INV(E73,Satokasvi!$H$8,Satokasvi!$I$8)*_xlfn.BINOM.INV(1,(1-Satokasvi!$H$15),E73) -> 2813.6967 | AF73: =_xlfn.NORM.INV(F73,Satokasvi!$H$8,Satokasvi!$I$8)*_xlfn.BINOM.INV(1,(1-Satokasvi!$H$15),F73) -> 2581.0626 | AG73: =_xlfn.NORM.INV(G73,Satokasvi!$H$8,Satokasvi!$I$8)*_xlfn.BINOM.INV(1,(1-Satokasvi!$H$15),G73) -> 2766.4727 | AH73: =_xlfn.NORM.INV(H73,Satokasvi!$H$8,Satokasvi!$I$8)*_xlfn.BINOM.INV(1,(1-Satokasvi!$H$15),H73) -> 0 | AI73: =_xlfn.NORM.INV(I73,Satokasvi!$H$8,Satokasvi!$I$8)*_xlfn.BINOM.INV(1,(1-Satokasvi!$H$15),I73) -> 0 | ... AZ73: =_xlfn.NORM.INV(Z73,Satokasvi!$H$8,Satokasvi!$I$8)*_xlfn.BINOM.INV(1,(1-Satokasvi!$H$15),Z73) -> 0 | BB73: =IF(C$11="x",0,_xlfn.NORM.INV(B73,Satokasvi!$H$8,Satokasvi!$I$8)*IF(C$8="x",(1+Toimenpiteet!$C$7),1)*IF(C$9="x",(1+Toimenpiteet!$C$34),1)*(1+C$30)*_xlfn.BINOM.INV(1,(1-(Satokasvi!$H$15*(1+C$41))),B73)) -> 2831.8096 | BC73: =IF(D$11="x",0,_xlfn.NORM.INV(C73,Satokasvi!$H$8,Satokasvi!$I$8)*IF(D$8="x",(1+Toimenpiteet!$C$7),1)*IF(D$9="x",(1+Toimenpiteet!$C$34),1)*(1+D$30)*_xlfn.BINOM.INV(1,(1-(Satokasvi!$H$15*(1+D$41))),C73)) -> 2852.8812 | BD73: =IF(E$11="x",0,_xlfn.NORM.INV(D73,Satokasvi!$H$8,Satokasvi!$I$8)*IF(E$8="x",(1+Toimenpiteet!$C$7),1)*IF(E$9="x",(1+Toimenpiteet!$C$34),1)*(1+E$30)*_xlfn.BINOM.INV(1,(1-(Satokasvi!$H$15*(1+E$41))),D73)) -> 2877.4978 | BE73: =IF(F$11="x",0,_xlfn.NORM.INV(E73,Satokasvi!$H$8,Satokasvi!$I$8)*IF(F$8="x",(1+Toimenpiteet!$C$7),1)*IF(F$9="x",(1+Toimenpiteet!$C$34),1)*(1+F$30)*_xlfn.BINOM.INV(1,(1-(Satokasvi!$H$15*(1+F$41))),E73)) -> 2813.6967 | BF73: =IF(G$11="x",0,_xlfn.NORM.INV(F73,Satokasvi!$H$8,Satokasvi!$I$8)*IF(G$8="x",(1+Toimenpiteet!$C$7),1)*IF(G$9="x",(1+Toimenpiteet!$C$34),1)*(1+G$30)*_xlfn.BINOM.INV(1,(1-(Satokasvi!$H$15*(1+G$41))),F73)) -> 2581.0626 | BG73: =IF(H$11="x",0,_xlfn.NORM.INV(G73,Satokasvi!$H$8,Satokasvi!$I$8)*IF(H$8="x",(1+Toimenpiteet!$C$7),1)*IF(H$9="x",(1+Toimenpiteet!$C$34),1)*(1+H$30)*_xlfn.BINOM.INV(1,(1-(Satokasvi!$H$15*(1+H$41))),G73)) -> 2766.4727 | BH73: =IF(I$11="x",0,_xlfn.NORM.INV(H73,Satokasvi!$H$8,Satokasvi!$I$8)*IF(I$8="x",(1+Toimenpiteet!$C$7),1)*IF(I$9="x",(1+Toimenpiteet!$C$34),1)*(1+I$30)*_xlfn.BINOM.INV(1,(1-(Satokasvi!$H$15*(1+I$41))),H73)) -> 0 | BI73: =IF(J$11="x",0,_xlfn.NORM.INV(I73,Satokasvi!$H$8,Satokasvi!$I$8)*IF(J$8="x",(1+Toimenpiteet!$C$7),1)*IF(J$9="x",(1+Toimenpiteet!$C$34),1)*(1+J$30)*_xlfn.BINOM.INV(1,(1-(Satokasvi!$H$15*(1+J$41))),I73)) -> 0 | ... BZ73: =IF(AA$11="x",0,_xlfn.NORM.INV(Z73,Satokasvi!$H$8,Satokasvi!$I$8)*IF(AA$8="x",(1+Toimenpiteet!$C$7),1)*IF(AA$9="x",(1+Toimenpiteet!$C$34),1)*(1+AA$30)*_xlfn.BINOM.INV(1,(1-(Satokasvi!$H$15*(1+AA$41))),Z73)) -> 0 | CB73: =_xlfn.NORM.INV(RAND(),Satokasvi!$H$13,Satokasvi!$I$13) -> 193.77393 | CC73: =_xlfn.NORM.INV(RAND(),Satokasvi!$H$13,Satokasvi!$I$13) -> 189.04805 | CD73: =_xlfn.NORM.INV(RAND(),Satokasvi!$H$13,Satokasvi!$I$13) -> 182.38976 | CE73: =_xlfn.NORM.INV(RAND(),Satokasvi!$H$13,Satokasvi!$I$13) -> 170.4238 | CF73: =_xlfn.NORM.INV(RAND(),Satokasvi!$H$13,Satokasvi!$I$13) -> 197.88723 | CG73: =_xlfn.NORM.INV(RAND(),Satokasvi!$H$13,Satokasvi!$I$13) -> 141.96816 | CH73: =_xlfn.NORM.INV(RAND(),Satokasvi!$H$13,Satokasvi!$I$13) -> 165.88514 | CI73: =_xlfn.NORM.INV(RAND(),Satokasvi!$H$13,Satokasvi!$I$13) -> 171.20907 | ... CZ73: =_xlfn.NORM.INV(RAND(),Satokasvi!$H$13,Satokasvi!$I$13) -> 178.04128 | DB73: =(AB73*(CB73/1000)+(Satokasvi!$E$28-Satokasvi!$E$7))/(1+$C$13)^DB$61 -> 275.46686 | DC73: =(AC73*(CC73/1000)+(Satokasvi!$E$28-Satokasvi!$E$7))/(1+$C$13)^DC$61 -> 258.58386 | DD73: =(AD73*(CD73/1000)+(Satokasvi!$E$28-Satokasvi!$E$7))/(1+$C$13)^DD$61 -> 237.77774 | DE73: =(AE73*(CE73/1000)+(Satokasvi!$E$28-Satokasvi!$E$7))/(1+$C$13)^DE$61 -> 190.59902 | DF73: =(AF73*(CF73/1000)+(Satokasvi!$E$28-Satokasvi!$E$7))/(1+$C$13)^DF$61 -> 211.99415 | DG73: =(AG73*(CG73/1000)+(Satokasvi!$E$28-Satokasvi!$E$7))/(1+$C$13)^DG$61 -> 106.98948 | DH73: =(AH73*(CH73/1000)+(Satokasvi!$E$28-Satokasvi!$E$7))/(1+$C$13)^DH$61 -> -215.46925 | DI73: =(AI73*(CI73/1000)+(Satokasvi!$E$28-Satokasvi!$E$7))/(1+$C$13)^DI$61 -> -209.19345 | ... DZ73: =(AZ73*(CZ73/1000)+(Satokasvi!$E$28-Satokasvi!$E$7))/(1+$C$13)^DZ$61 -> -126.56548 | EB73: =IF(C$11="x",Toimenpiteet!$E$115,BB73*(CB73/1000)+(Satokasvi!$E$28-Satokasvi!$E$7)+IF(C$8="x",Toimenpiteet!$E$29,0)+IF(C$9="x",Toimenpiteet!$E$60,0)+IF(C$10="x",Toimenpiteet!$E$88,0))/(1+$C$13)^EB$61 -> 275.46686 | EC73: =IF(D$11="x",Toimenpiteet!$E$115,BC73*(CC73/1000)+(Satokasvi!$E$28-Satokasvi!$E$7)+IF(D$8="x",Toimenpiteet!$E$29,0)+IF(D$9="x",Toimenpiteet!$E$60,0)+IF(D$10="x",Toimenpiteet!$E$88,0))/(1+$C$13)^EC$61 -> 258.58386 | ED73: =IF(E$11="x",Toimenpiteet!$E$115,BD73*(CD73/1000)+(Satokasvi!$E$28-Satokasvi!$E$7)+IF(E$8="x",Toimenpiteet!$E$29,0)+IF(E$9="x",Toimenpiteet!$E$60,0)+IF(E$10="x",Toimenpiteet!$E$88,0))/(1+$C$13)^ED$61 -> 237.77774 | EE73: =IF(F$11="x",Toimenpiteet!$E$115,BE73*(CE73/1000)+(Satokasvi!$E$28-Satokasvi!$E$7)+IF(F$8="x",Toimenpiteet!$E$29,0)+IF(F$9="x",Toimenpiteet!$E$60,0)+IF(F$10="x",Toimenpiteet!$E$88,0))/(1+$C$13)^EE$61 -> 190.59902 | EF73: =IF(G$11="x",Toimenpiteet!$E$115,BF73*(CF73/1000)+(Satokasvi!$E$28-Satokasvi!$E$7)+IF(G$8="x",Toimenpiteet!$E$29,0)+IF(G$9="x",Toimenpiteet!$E$60,0)+IF(G$10="x",Toimenpiteet!$E$88,0))/(1+$C$13)^EF$61 -> 211.99415 | EG73: =IF(H$11="x",Toimenpiteet!$E$115,BG73*(CG73/1000)+(Satokasvi!$E$28-Satokasvi!$E$7)+IF(H$8="x",Toimenpiteet!$E$29,0)+IF(H$9="x",Toimenpiteet!$E$60,0)+IF(H$10="x",Toimenpiteet!$E$88,0))/(1+$C$13)^EG$61 -> 106.98948 | EH73: =IF(I$11="x",Toimenpiteet!$E$115,BH73*(CH73/1000)+(Satokasvi!$E$28-Satokasvi!$E$7)+IF(I$8="x",Toimenpiteet!$E$29,0)+IF(I$9="x",Toimenpiteet!$E$60,0)+IF(I$10="x",Toimenpiteet!$E$88,0))/(1+$C$13)^EH$61 -> -215.46925 | EI73: =IF(J$11="x",Toimenpiteet!$E$115,BI73*(CI73/1000)+(Satokasvi!$E$28-Satokasvi!$E$7)+IF(J$8="x",Toimenpiteet!$E$29,0)+IF(J$9="x",Toimenpiteet!$E$60,0)+IF(J$10="x",Toimenpiteet!$E$88,0))/(1+$C$13)^EI$61 -> -209.19345 | ... EZ73: =IF(AA$11="x",Toimenpiteet!$E$115,BZ73*(CZ73/1000)+(Satokasvi!$E$28-Satokasvi!$E$7)+IF(AA$8="x",Toimenpiteet!$E$29,0)+IF(AA$9="x",Toimenpiteet!$E$60,0)+IF(AA$10="x",Toimenpiteet!$E$88,0))/(1+$C$13)^EZ$61 -> -126.56548 | FB73: =DB73 -> 275.46686 | FC73: =FB73+DC73 -> 534.05072 | FD73: =FC73+DD73 -> 771.82845 | FE73: =FD73+DE73 -> 962.42748 | FF73: =FE73+DF73 -> 1174.4216 | FG73: =FF73+DG73 -> 1281.4111 | FH73: =FG73+DH73 -> 1065.9419 | FI73: =FH73+DI73 -> 856.74841 | FJ73: =FI73+DJ73 -> 1138.4219 | ... FZ73: =FY73+DZ73 -> 2663.6873 | GB73: =EB73 -> 275.46686 | GC73: =GB73+EC73 -> 534.05072 | GD73: =GC73+ED73 -> 771.82845 | GE73: =GD73+EE73 -> 962.42748 | GF73: =GE73+EF73 -> 1174.4216 | GG73: =GF73+EG73 -> 1281.4111 | GH73: =GG73+EH73 -> 1065.9419 | GI73: =GH73+EI73 -> 856.74841 | GJ73: =GI73+EJ73 -> 1138.4219 | ... GZ73: =GY73+EZ73 -> 2663.6873 | HB73: =_xlfn.XLOOKUP($BE$18,$FB$61:$FZ$61,FB73:FZ73) -> 1174.4216 | HC73: =_xlfn.XLOOKUP($BE$18,$GB$61:$GZ$61,GB73:GZ73) -> 1174.4216 | HD73: =IF(HC73>HB73,1,0) -> 0 | HG73: =HG72+($BI$11-$BI$10)/9 -> 0.033333333 | HH73: =IF(HH$61<$BI$9,$HG73/$BI$9*HH$61,$HG73/$BI$9*$BI$9) -> 0.0033333333 | HI73: =IF(HI$61<$BI$9,$HG73/$BI$9*HI$61,$HG73/$BI$9*$BI$9) -> 0.0066666667 | HJ73: =IF(HJ$61<$BI$9,$HG73/$BI$9*HJ$61,$HG73/$BI$9*$BI$9) -> 0.01 | HK73: =IF(HK$61<$BI$9,$HG73/$BI$9*HK$61,$HG73/$BI$9*$BI$9) -> 0.013333333 | HL73: =IF(HL$61<$BI$9,$HG73/$BI$9*HL$61,$HG73/$BI$9*$BI$9) -> 0.016666667 | HM73: =IF(HM$61<$BI$9,$HG73/$BI$9*HM$61,$HG73/$BI$9*$BI$9) -> 0.02 | HN73: =IF(HN$61<$BI$9,$HG73/$BI$9*HN$61,$HG73/$BI$9*$BI$9) -> 0.023333333 | HO73: =IF(HO$61<$BI$9,$HG73/$BI$9*HO$61,$HG73/$BI$9*$BI$9) -> 0.026666667 | ... IF73: =IF(IF$61<$BI$9,$HG73/$BI$9*IF$61,$HG73/$BI$9*$BI$9) -> 0.033333333
B74: =RAND() -> 0.20365024 | C74: =RAND() -> 0.95421382 | D74: =RAND() -> 0.90452611 | E74: =RAND() -> 0.45350918 | F74: =RAND() -> 0.15369675 | G74: =RAND() -> 0.6318077 | H74: =RAND() -> 0.66155526 | I74: =RAND() -> 0.38976092 | ... Z74: =RAND() -> 0.47474622 | AB74: =_xlfn.NORM.INV(B74,Satokasvi!$H$8,Satokasvi!$I$8)*_xlfn.BINOM.INV(1,(1-Satokasvi!$H$15),B74) -> 0 | AC74: =_xlfn.NORM.INV(C74,Satokasvi!$H$8,Satokasvi!$I$8)*_xlfn.BINOM.INV(1,(1-Satokasvi!$H$15),C74) -> 2921.7903 | AD74: =_xlfn.NORM.INV(D74,Satokasvi!$H$8,Satokasvi!$I$8)*_xlfn.BINOM.INV(1,(1-Satokasvi!$H$15),D74) -> 2826.9451 | AE74: =_xlfn.NORM.INV(E74,Satokasvi!$H$8,Satokasvi!$I$8)*_xlfn.BINOM.INV(1,(1-Satokasvi!$H$15),E74) -> 2470.7999 | AF74: =_xlfn.NORM.INV(F74,Satokasvi!$H$8,Satokasvi!$I$8)*_xlfn.BINOM.INV(1,(1-Satokasvi!$H$15),F74) -> 0 | AG74: =_xlfn.NORM.INV(G74,Satokasvi!$H$8,Satokasvi!$I$8)*_xlfn.BINOM.INV(1,(1-Satokasvi!$H$15),G74) -> 2584.1612 | AH74: =_xlfn.NORM.INV(H74,Satokasvi!$H$8,Satokasvi!$I$8)*_xlfn.BINOM.INV(1,(1-Satokasvi!$H$15),H74) -> 2604.1779 | AI74: =_xlfn.NORM.INV(I74,Satokasvi!$H$8,Satokasvi!$I$8)*_xlfn.BINOM.INV(1,(1-Satokasvi!$H$15),I74) -> 2430.0144 | ... AZ74: =_xlfn.NORM.INV(Z74,Satokasvi!$H$8,Satokasvi!$I$8)*_xlfn.BINOM.INV(1,(1-Satokasvi!$H$15),Z74) -> 2484.164 | BB74: =IF(C$11="x",0,_xlfn.NORM.INV(B74,Satokasvi!$H$8,Satokasvi!$I$8)*IF(C$8="x",(1+Toimenpiteet!$C$7),1)*IF(C$9="x",(1+Toimenpiteet!$C$34),1)*(1+C$30)*_xlfn.BINOM.INV(1,(1-(Satokasvi!$H$15*(1+C$41))),B74)) -> 0 | BC74: =IF(D$11="x",0,_xlfn.NORM.INV(C74,Satokasvi!$H$8,Satokasvi!$I$8)*IF(D$8="x",(1+Toimenpiteet!$C$7),1)*IF(D$9="x",(1+Toimenpiteet!$C$34),1)*(1+D$30)*_xlfn.BINOM.INV(1,(1-(Satokasvi!$H$15*(1+D$41))),C74)) -> 2921.7903 | BD74: =IF(E$11="x",0,_xlfn.NORM.INV(D74,Satokasvi!$H$8,Satokasvi!$I$8)*IF(E$8="x",(1+Toimenpiteet!$C$7),1)*IF(E$9="x",(1+Toimenpiteet!$C$34),1)*(1+E$30)*_xlfn.BINOM.INV(1,(1-(Satokasvi!$H$15*(1+E$41))),D74)) -> 2826.9451 | BE74: =IF(F$11="x",0,_xlfn.NORM.INV(E74,Satokasvi!$H$8,Satokasvi!$I$8)*IF(F$8="x",(1+Toimenpiteet!$C$7),1)*IF(F$9="x",(1+Toimenpiteet!$C$34),1)*(1+F$30)*_xlfn.BINOM.INV(1,(1-(Satokasvi!$H$15*(1+F$41))),E74)) -> 2470.7999 | BF74: =IF(G$11="x",0,_xlfn.NORM.INV(F74,Satokasvi!$H$8,Satokasvi!$I$8)*IF(G$8="x",(1+Toimenpiteet!$C$7),1)*IF(G$9="x",(1+Toimenpiteet!$C$34),1)*(1+G$30)*_xlfn.BINOM.INV(1,(1-(Satokasvi!$H$15*(1+G$41))),F74)) -> 0 | BG74: =IF(H$11="x",0,_xlfn.NORM.INV(G74,Satokasvi!$H$8,Satokasvi!$I$8)*IF(H$8="x",(1+Toimenpiteet!$C$7),1)*IF(H$9="x",(1+Toimenpiteet!$C$34),1)*(1+H$30)*_xlfn.BINOM.INV(1,(1-(Satokasvi!$H$15*(1+H$41))),G74)) -> 2584.1612 | BH74: =IF(I$11="x",0,_xlfn.NORM.INV(H74,Satokasvi!$H$8,Satokasvi!$I$8)*IF(I$8="x",(1+Toimenpiteet!$C$7),1)*IF(I$9="x",(1+Toimenpiteet!$C$34),1)*(1+I$30)*_xlfn.BINOM.INV(1,(1-(Satokasvi!$H$15*(1+I$41))),H74)) -> 2604.1779 | BI74: =IF(J$11="x",0,_xlfn.NORM.INV(I74,Satokasvi!$H$8,Satokasvi!$I$8)*IF(J$8="x",(1+Toimenpiteet!$C$7),1)*IF(J$9="x",(1+Toimenpiteet!$C$34),1)*(1+J$30)*_xlfn.BINOM.INV(1,(1-(Satokasvi!$H$15*(1+J$41))),I74)) -> 2430.0144 | ... BZ74: =IF(AA$11="x",0,_xlfn.NORM.INV(Z74,Satokasvi!$H$8,Satokasvi!$I$8)*IF(AA$8="x",(1+Toimenpiteet!$C$7),1)*IF(AA$9="x",(1+Toimenpiteet!$C$34),1)*(1+AA$30)*_xlfn.BINOM.INV(1,(1-(Satokasvi!$H$15*(1+AA$41))),Z74)) -> 2484.164 | CB74: =_xlfn.NORM.INV(RAND(),Satokasvi!$H$13,Satokasvi!$I$13) -> 242.06441 | CC74: =_xlfn.NORM.INV(RAND(),Satokasvi!$H$13,Satokasvi!$I$13) -> 277.32387 | CD74: =_xlfn.NORM.INV(RAND(),Satokasvi!$H$13,Satokasvi!$I$13) -> 287.30639 | CE74: =_xlfn.NORM.INV(RAND(),Satokasvi!$H$13,Satokasvi!$I$13) -> 215.87479 | CF74: =_xlfn.NORM.INV(RAND(),Satokasvi!$H$13,Satokasvi!$I$13) -> 174.12306 | CG74: =_xlfn.NORM.INV(RAND(),Satokasvi!$H$13,Satokasvi!$I$13) -> 244.25297 | CH74: =_xlfn.NORM.INV(RAND(),Satokasvi!$H$13,Satokasvi!$I$13) -> 209.20318 | CI74: =_xlfn.NORM.INV(RAND(),Satokasvi!$H$13,Satokasvi!$I$13) -> 173.46795 | ... CZ74: =_xlfn.NORM.INV(RAND(),Satokasvi!$H$13,Satokasvi!$I$13) -> 182.96227 | DB74: =(AB74*(CB74/1000)+(Satokasvi!$E$28-Satokasvi!$E$7))/(1+$C$13)^DB$61 -> -257.28155 | DC74: =(AC74*(CC74/1000)+(Satokasvi!$E$28-Satokasvi!$E$7))/(1+$C$13)^DC$61 -> 513.98076 | DD74: =(AD74*(CD74/1000)+(Satokasvi!$E$28-Satokasvi!$E$7))/(1+$C$13)^DD$61 -> 500.76497 | DE74: =(AE74*(CE74/1000)+(Satokasvi!$E$28-Satokasvi!$E$7))/(1+$C$13)^DE$61 -> 238.45519 | DF74: =(AF74*(CF74/1000)+(Satokasvi!$E$28-Satokasvi!$E$7))/(1+$C$13)^DF$61 -> -228.59133 | DG74: =(AG74*(CG74/1000)+(Satokasvi!$E$28-Satokasvi!$E$7))/(1+$C$13)^DG$61 -> 306.67757 | DH74: =(AH74*(CH74/1000)+(Satokasvi!$E$28-Satokasvi!$E$7))/(1+$C$13)^DH$61 -> 227.50487 | DI74: =(AI74*(CI74/1000)+(Satokasvi!$E$28-Satokasvi!$E$7))/(1+$C$13)^DI$61 -> 123.56594 | ... DZ74: =(AZ74*(CZ74/1000)+(Satokasvi!$E$28-Satokasvi!$E$7))/(1+$C$13)^DZ$61 -> 90.510205 | EB74: =IF(C$11="x",Toimenpiteet!$E$115,BB74*(CB74/1000)+(Satokasvi!$E$28-Satokasvi!$E$7)+IF(C$8="x",Toimenpiteet!$E$29,0)+IF(C$9="x",Toimenpiteet!$E$60,0)+IF(C$10="x",Toimenpiteet!$E$88,0))/(1+$C$13)^EB$61 -> -257.28155 | EC74: =IF(D$11="x",Toimenpiteet!$E$115,BC74*(CC74/1000)+(Satokasvi!$E$28-Satokasvi!$E$7)+IF(D$8="x",Toimenpiteet!$E$29,0)+IF(D$9="x",Toimenpiteet!$E$60,0)+IF(D$10="x",Toimenpiteet!$E$88,0))/(1+$C$13)^EC$61 -> 513.98076 | ED74: =IF(E$11="x",Toimenpiteet!$E$115,BD74*(CD74/1000)+(Satokasvi!$E$28-Satokasvi!$E$7)+IF(E$8="x",Toimenpiteet!$E$29,0)+IF(E$9="x",Toimenpiteet!$E$60,0)+IF(E$10="x",Toimenpiteet!$E$88,0))/(1+$C$13)^ED$61 -> 500.76497 | EE74: =IF(F$11="x",Toimenpiteet!$E$115,BE74*(CE74/1000)+(Satokasvi!$E$28-Satokasvi!$E$7)+IF(F$8="x",Toimenpiteet!$E$29,0)+IF(F$9="x",Toimenpiteet!$E$60,0)+IF(F$10="x",Toimenpiteet!$E$88,0))/(1+$C$13)^EE$61 -> 238.45519 | EF74: =IF(G$11="x",Toimenpiteet!$E$115,BF74*(CF74/1000)+(Satokasvi!$E$28-Satokasvi!$E$7)+IF(G$8="x",Toimenpiteet!$E$29,0)+IF(G$9="x",Toimenpiteet!$E$60,0)+IF(G$10="x",Toimenpiteet!$E$88,0))/(1+$C$13)^EF$61 -> -228.59133 | EG74: =IF(H$11="x",Toimenpiteet!$E$115,BG74*(CG74/1000)+(Satokasvi!$E$28-Satokasvi!$E$7)+IF(H$8="x",Toimenpiteet!$E$29,0)+IF(H$9="x",Toimenpiteet!$E$60,0)+IF(H$10="x",Toimenpiteet!$E$88,0))/(1+$C$13)^EG$61 -> 306.67757 | EH74: =IF(I$11="x",Toimenpiteet!$E$115,BH74*(CH74/1000)+(Satokasvi!$E$28-Satokasvi!$E$7)+IF(I$8="x",Toimenpiteet!$E$29,0)+IF(I$9="x",Toimenpiteet!$E$60,0)+IF(I$10="x",Toimenpiteet!$E$88,0))/(1+$C$13)^EH$61 -> 227.50487 | EI74: =IF(J$11="x",Toimenpiteet!$E$115,BI74*(CI74/1000)+(Satokasvi!$E$28-Satokasvi!$E$7)+IF(J$8="x",Toimenpiteet!$E$29,0)+IF(J$9="x",Toimenpiteet!$E$60,0)+IF(J$10="x",Toimenpiteet!$E$88,0))/(1+$C$13)^EI$61 -> 123.56594 | ... EZ74: =IF(AA$11="x",Toimenpiteet!$E$115,BZ74*(CZ74/1000)+(Satokasvi!$E$28-Satokasvi!$E$7)+IF(AA$8="x",Toimenpiteet!$E$29,0)+IF(AA$9="x",Toimenpiteet!$E$60,0)+IF(AA$10="x",Toimenpiteet!$E$88,0))/(1+$C$13)^EZ$61 -> 90.510205 | FB74: =DB74 -> -257.28155 | FC74: =FB74+DC74 -> 256.6992 | FD74: =FC74+DD74 -> 757.46417 | FE74: =FD74+DE74 -> 995.91936 | FF74: =FE74+DF74 -> 767.32803 | FG74: =FF74+DG74 -> 1074.0056 | FH74: =FG74+DH74 -> 1301.5105 | FI74: =FH74+DI74 -> 1425.0764 | FJ74: =FI74+DJ74 -> 1719.0241 | ... FZ74: =FY74+DZ74 -> 3829.218 | GB74: =EB74 -> -257.28155 | GC74: =GB74+EC74 -> 256.6992 | GD74: =GC74+ED74 -> 757.46417 | GE74: =GD74+EE74 -> 995.91936 | GF74: =GE74+EF74 -> 767.32803 | GG74: =GF74+EG74 -> 1074.0056 | GH74: =GG74+EH74 -> 1301.5105 | GI74: =GH74+EI74 -> 1425.0764 | GJ74: =GI74+EJ74 -> 1719.0241 | ... GZ74: =GY74+EZ74 -> 3829.218 | HB74: =_xlfn.XLOOKUP($BE$18,$FB$61:$FZ$61,FB74:FZ74) -> 767.32803 | HC74: =_xlfn.XLOOKUP($BE$18,$GB$61:$GZ$61,GB74:GZ74) -> 767.32803 | HD74: =IF(HC74>HB74,1,0) -> 0 | HG74: =HG73+($BI$11-$BI$10)/9 -> 0.055555556 | HH74: =IF(HH$61<$BI$9,$HG74/$BI$9*HH$61,$HG74/$BI$9*$BI$9) -> 0.0055555556 | HI74: =IF(HI$61<$BI$9,$HG74/$BI$9*HI$61,$HG74/$BI$9*$BI$9) -> 0.011111111 | HJ74: =IF(HJ$61<$BI$9,$HG74/$BI$9*HJ$61,$HG74/$BI$9*$BI$9) -> 0.016666667 | HK74: =IF(HK$61<$BI$9,$HG74/$BI$9*HK$61,$HG74/$BI$9*$BI$9) -> 0.022222222 | HL74: =IF(HL$61<$BI$9,$HG74/$BI$9*HL$61,$HG74/$BI$9*$BI$9) -> 0.027777778 | HM74: =IF(HM$61<$BI$9,$HG74/$BI$9*HM$61,$HG74/$BI$9*$BI$9) -> 0.033333333 | HN74: =IF(HN$61<$BI$9,$HG74/$BI$9*HN$61,$HG74/$BI$9*$BI$9) -> 0.038888889 | HO74: =IF(HO$61<$BI$9,$HG74/$BI$9*HO$61,$HG74/$BI$9*$BI$9) -> 0.044444444 | ... IF74: =IF(IF$61<$BI$9,$HG74/$BI$9*IF$61,$HG74/$BI$9*$BI$9) -> 0.055555556
B75: =RAND() -> 0.82818344 | C75: =RAND() -> 0.90857191 | D75: =RAND() -> 0.91932896 | E75: =RAND() -> 0.2283396 | F75: =RAND() -> 0.0054536085 | G75: =RAND() -> 0.58474147 | H75: =RAND() -> 0.2673568 | I75: =RAND() -> 0.78493231 | ... Z75: =RAND() -> 0.43487827 | AB75: =_xlfn.NORM.INV(B75,Satokasvi!$H$8,Satokasvi!$I$8)*_xlfn.BINOM.INV(1,(1-Satokasvi!$H$15),B75) -> 2736.7528 | AC75: =_xlfn.NORM.INV(C75,Satokasvi!$H$8,Satokasvi!$I$8)*_xlfn.BINOM.INV(1,(1-Satokasvi!$H$15),C75) -> 2833.0031 | AD75: =_xlfn.NORM.INV(D75,Satokasvi!$H$8,Satokasvi!$I$8)*_xlfn.BINOM.INV(1,(1-Satokasvi!$H$15),D75) -> 2850.143 | AE75: =_xlfn.NORM.INV(E75,Satokasvi!$H$8,Satokasvi!$I$8)*_xlfn.BINOM.INV(1,(1-Satokasvi!$H$15),E75) -> 0 | AF75: =_xlfn.NORM.INV(F75,Satokasvi!$H$8,Satokasvi!$I$8)*_xlfn.BINOM.INV(1,(1-Satokasvi!$H$15),F75) -> 0 | AG75: =_xlfn.NORM.INV(G75,Satokasvi!$H$8,Satokasvi!$I$8)*_xlfn.BINOM.INV(1,(1-Satokasvi!$H$15),G75) -> 2553.5096 | AH75: =_xlfn.NORM.INV(H75,Satokasvi!$H$8,Satokasvi!$I$8)*_xlfn.BINOM.INV(1,(1-Satokasvi!$H$15),H75) -> 2344.7933 | AI75: =_xlfn.NORM.INV(I75,Satokasvi!$H$8,Satokasvi!$I$8)*_xlfn.BINOM.INV(1,(1-Satokasvi!$H$15),I75) -> 2697.24 | ... AZ75: =_xlfn.NORM.INV(Z75,Satokasvi!$H$8,Satokasvi!$I$8)*_xlfn.BINOM.INV(1,(1-Satokasvi!$H$15),Z75) -> 2459.0081 | BB75: =IF(C$11="x",0,_xlfn.NORM.INV(B75,Satokasvi!$H$8,Satokasvi!$I$8)*IF(C$8="x",(1+Toimenpiteet!$C$7),1)*IF(C$9="x",(1+Toimenpiteet!$C$34),1)*(1+C$30)*_xlfn.BINOM.INV(1,(1-(Satokasvi!$H$15*(1+C$41))),B75)) -> 2736.7528 | BC75: =IF(D$11="x",0,_xlfn.NORM.INV(C75,Satokasvi!$H$8,Satokasvi!$I$8)*IF(D$8="x",(1+Toimenpiteet!$C$7),1)*IF(D$9="x",(1+Toimenpiteet!$C$34),1)*(1+D$30)*_xlfn.BINOM.INV(1,(1-(Satokasvi!$H$15*(1+D$41))),C75)) -> 2833.0031 | BD75: =IF(E$11="x",0,_xlfn.NORM.INV(D75,Satokasvi!$H$8,Satokasvi!$I$8)*IF(E$8="x",(1+Toimenpiteet!$C$7),1)*IF(E$9="x",(1+Toimenpiteet!$C$34),1)*(1+E$30)*_xlfn.BINOM.INV(1,(1-(Satokasvi!$H$15*(1+E$41))),D75)) -> 2850.143 | BE75: =IF(F$11="x",0,_xlfn.NORM.INV(E75,Satokasvi!$H$8,Satokasvi!$I$8)*IF(F$8="x",(1+Toimenpiteet!$C$7),1)*IF(F$9="x",(1+Toimenpiteet!$C$34),1)*(1+F$30)*_xlfn.BINOM.INV(1,(1-(Satokasvi!$H$15*(1+F$41))),E75)) -> 0 | BF75: =IF(G$11="x",0,_xlfn.NORM.INV(F75,Satokasvi!$H$8,Satokasvi!$I$8)*IF(G$8="x",(1+Toimenpiteet!$C$7),1)*IF(G$9="x",(1+Toimenpiteet!$C$34),1)*(1+G$30)*_xlfn.BINOM.INV(1,(1-(Satokasvi!$H$15*(1+G$41))),F75)) -> 0 | BG75: =IF(H$11="x",0,_xlfn.NORM.INV(G75,Satokasvi!$H$8,Satokasvi!$I$8)*IF(H$8="x",(1+Toimenpiteet!$C$7),1)*IF(H$9="x",(1+Toimenpiteet!$C$34),1)*(1+H$30)*_xlfn.BINOM.INV(1,(1-(Satokasvi!$H$15*(1+H$41))),G75)) -> 2553.5096 | BH75: =IF(I$11="x",0,_xlfn.NORM.INV(H75,Satokasvi!$H$8,Satokasvi!$I$8)*IF(I$8="x",(1+Toimenpiteet!$C$7),1)*IF(I$9="x",(1+Toimenpiteet!$C$34),1)*(1+I$30)*_xlfn.BINOM.INV(1,(1-(Satokasvi!$H$15*(1+I$41))),H75)) -> 2344.7933 | BI75: =IF(J$11="x",0,_xlfn.NORM.INV(I75,Satokasvi!$H$8,Satokasvi!$I$8)*IF(J$8="x",(1+Toimenpiteet!$C$7),1)*IF(J$9="x",(1+Toimenpiteet!$C$34),1)*(1+J$30)*_xlfn.BINOM.INV(1,(1-(Satokasvi!$H$15*(1+J$41))),I75)) -> 2697.24 | ... BZ75: =IF(AA$11="x",0,_xlfn.NORM.INV(Z75,Satokasvi!$H$8,Satokasvi!$I$8)*IF(AA$8="x",(1+Toimenpiteet!$C$7),1)*IF(AA$9="x",(1+Toimenpiteet!$C$34),1)*(1+AA$30)*_xlfn.BINOM.INV(1,(1-(Satokasvi!$H$15*(1+AA$41))),Z75)) -> 2459.0081 | CB75: =_xlfn.NORM.INV(RAND(),Satokasvi!$H$13,Satokasvi!$I$13) -> 166.36119 | CC75: =_xlfn.NORM.INV(RAND(),Satokasvi!$H$13,Satokasvi!$I$13) -> 182.35106 | CD75: =_xlfn.NORM.INV(RAND(),Satokasvi!$H$13,Satokasvi!$I$13) -> 169.01129 | CE75: =_xlfn.NORM.INV(RAND(),Satokasvi!$H$13,Satokasvi!$I$13) -> 222.03524 | CF75: =_xlfn.NORM.INV(RAND(),Satokasvi!$H$13,Satokasvi!$I$13) -> 243.10046 | CG75: =_xlfn.NORM.INV(RAND(),Satokasvi!$H$13,Satokasvi!$I$13) -> 205.6077 | CH75: =_xlfn.NORM.INV(RAND(),Satokasvi!$H$13,Satokasvi!$I$13) -> 136.22936 | CI75: =_xlfn.NORM.INV(RAND(),Satokasvi!$H$13,Satokasvi!$I$13) -> 203.97028 | ... CZ75: =_xlfn.NORM.INV(RAND(),Satokasvi!$H$13,Satokasvi!$I$13) -> 102.08391 | DB75: =(AB75*(CB75/1000)+(Satokasvi!$E$28-Satokasvi!$E$7))/(1+$C$13)^DB$61 -> 184.74703 | DC75: =(AC75*(CC75/1000)+(Satokasvi!$E$28-Satokasvi!$E$7))/(1+$C$13)^DC$61 -> 237.15818 | DD75: =(AD75*(CD75/1000)+(Satokasvi!$E$28-Satokasvi!$E$7))/(1+$C$13)^DD$61 -> 198.317 | DE75: =(AE75*(CE75/1000)+(Satokasvi!$E$28-Satokasvi!$E$7))/(1+$C$13)^DE$61 -> -235.44907 | DF75: =(AF75*(CF75/1000)+(Satokasvi!$E$28-Satokasvi!$E$7))/(1+$C$13)^DF$61 -> -228.59133 | DG75: =(AG75*(CG75/1000)+(Satokasvi!$E$28-Satokasvi!$E$7))/(1+$C$13)^DG$61 -> 217.7637 | DH75: =(AH75*(CH75/1000)+(Satokasvi!$E$28-Satokasvi!$E$7))/(1+$C$13)^DH$61 -> 44.25632 | DI75: =(AI75*(CI75/1000)+(Satokasvi!$E$28-Satokasvi!$E$7))/(1+$C$13)^DI$61 -> 225.1054 | ... DZ75: =(AZ75*(CZ75/1000)+(Satokasvi!$E$28-Satokasvi!$E$7))/(1+$C$13)^DZ$61 -> -6.6744668 | EB75: =IF(C$11="x",Toimenpiteet!$E$115,BB75*(CB75/1000)+(Satokasvi!$E$28-Satokasvi!$E$7)+IF(C$8="x",Toimenpiteet!$E$29,0)+IF(C$9="x",Toimenpiteet!$E$60,0)+IF(C$10="x",Toimenpiteet!$E$88,0))/(1+$C$13)^EB$61 -> 184.74703 | EC75: =IF(D$11="x",Toimenpiteet!$E$115,BC75*(CC75/1000)+(Satokasvi!$E$28-Satokasvi!$E$7)+IF(D$8="x",Toimenpiteet!$E$29,0)+IF(D$9="x",Toimenpiteet!$E$60,0)+IF(D$10="x",Toimenpiteet!$E$88,0))/(1+$C$13)^EC$61 -> 237.15818 | ED75: =IF(E$11="x",Toimenpiteet!$E$115,BD75*(CD75/1000)+(Satokasvi!$E$28-Satokasvi!$E$7)+IF(E$8="x",Toimenpiteet!$E$29,0)+IF(E$9="x",Toimenpiteet!$E$60,0)+IF(E$10="x",Toimenpiteet!$E$88,0))/(1+$C$13)^ED$61 -> 198.317 | EE75: =IF(F$11="x",Toimenpiteet!$E$115,BE75*(CE75/1000)+(Satokasvi!$E$28-Satokasvi!$E$7)+IF(F$8="x",Toimenpiteet!$E$29,0)+IF(F$9="x",Toimenpiteet!$E$60,0)+IF(F$10="x",Toimenpiteet!$E$88,0))/(1+$C$13)^EE$61 -> -235.44907 | EF75: =IF(G$11="x",Toimenpiteet!$E$115,BF75*(CF75/1000)+(Satokasvi!$E$28-Satokasvi!$E$7)+IF(G$8="x",Toimenpiteet!$E$29,0)+IF(G$9="x",Toimenpiteet!$E$60,0)+IF(G$10="x",Toimenpiteet!$E$88,0))/(1+$C$13)^EF$61 -> -228.59133 | EG75: =IF(H$11="x",Toimenpiteet!$E$115,BG75*(CG75/1000)+(Satokasvi!$E$28-Satokasvi!$E$7)+IF(H$8="x",Toimenpiteet!$E$29,0)+IF(H$9="x",Toimenpiteet!$E$60,0)+IF(H$10="x",Toimenpiteet!$E$88,0))/(1+$C$13)^EG$61 -> 217.7637 | EH75: =IF(I$11="x",Toimenpiteet!$E$115,BH75*(CH75/1000)+(Satokasvi!$E$28-Satokasvi!$E$7)+IF(I$8="x",Toimenpiteet!$E$29,0)+IF(I$9="x",Toimenpiteet!$E$60,0)+IF(I$10="x",Toimenpiteet!$E$88,0))/(1+$C$13)^EH$61 -> 44.25632 | EI75: =IF(J$11="x",Toimenpiteet!$E$115,BI75*(CI75/1000)+(Satokasvi!$E$28-Satokasvi!$E$7)+IF(J$8="x",Toimenpiteet!$E$29,0)+IF(J$9="x",Toimenpiteet!$E$60,0)+IF(J$10="x",Toimenpiteet!$E$88,0))/(1+$C$13)^EI$61 -> 225.1054 | ... EZ75: =IF(AA$11="x",Toimenpiteet!$E$115,BZ75*(CZ75/1000)+(Satokasvi!$E$28-Satokasvi!$E$7)+IF(AA$8="x",Toimenpiteet!$E$29,0)+IF(AA$9="x",Toimenpiteet!$E$60,0)+IF(AA$10="x",Toimenpiteet!$E$88,0))/(1+$C$13)^EZ$61 -> -6.6744668 | FB75: =DB75 -> 184.74703 | FC75: =FB75+DC75 -> 421.90521 | FD75: =FC75+DD75 -> 620.22221 | FE75: =FD75+DE75 -> 384.77314 | FF75: =FE75+DF75 -> 156.18182 | FG75: =FF75+DG75 -> 373.94551 | FH75: =FG75+DH75 -> 418.20183 | FI75: =FH75+DI75 -> 643.30723 | FJ75: =FI75+DJ75 -> 780.31062 | ... FZ75: =FY75+DZ75 -> 1790.9815 | GB75: =EB75 -> 184.74703 | GC75: =GB75+EC75 -> 421.90521 | GD75: =GC75+ED75 -> 620.22221 | GE75: =GD75+EE75 -> 384.77314 | GF75: =GE75+EF75 -> 156.18182 | GG75: =GF75+EG75 -> 373.94551 | GH75: =GG75+EH75 -> 418.20183 | GI75: =GH75+EI75 -> 643.30723 | GJ75: =GI75+EJ75 -> 780.31062 | ... GZ75: =GY75+EZ75 -> 1790.9815 | HB75: =_xlfn.XLOOKUP($BE$18,$FB$61:$FZ$61,FB75:FZ75) -> 156.18182 | HC75: =_xlfn.XLOOKUP($BE$18,$GB$61:$GZ$61,GB75:GZ75) -> 156.18182 | HD75: =IF(HC75>HB75,1,0) -> 0 | HG75: =HG74+($BI$11-$BI$10)/9 -> 0.077777778 | HH75: =IF(HH$61<$BI$9,$HG75/$BI$9*HH$61,$HG75/$BI$9*$BI$9) -> 0.0077777778 | HI75: =IF(HI$61<$BI$9,$HG75/$BI$9*HI$61,$HG75/$BI$9*$BI$9) -> 0.015555556 | HJ75: =IF(HJ$61<$BI$9,$HG75/$BI$9*HJ$61,$HG75/$BI$9*$BI$9) -> 0.023333333 | HK75: =IF(HK$61<$BI$9,$HG75/$BI$9*HK$61,$HG75/$BI$9*$BI$9) -> 0.031111111 | HL75: =IF(HL$61<$BI$9,$HG75/$BI$9*HL$61,$HG75/$BI$9*$BI$9) -> 0.038888889 | HM75: =IF(HM$61<$BI$9,$HG75/$BI$9*HM$61,$HG75/$BI$9*$BI$9) -> 0.046666667 | HN75: =IF(HN$61<$BI$9,$HG75/$BI$9*HN$61,$HG75/$BI$9*$BI$9) -> 0.054444444 | HO75: =IF(HO$61<$BI$9,$HG75/$BI$9*HO$61,$HG75/$BI$9*$BI$9) -> 0.062222222 | ... IF75: =IF(IF$61<$BI$9,$HG75/$BI$9*IF$61,$HG75/$BI$9*$BI$9) -> 0.077777778
B76: =RAND() -> 0.8550562 | C76: =RAND() -> 0.58859041 | D76: =RAND() -> 0.2927737 | E76: =RAND() -> 0.37310007 | F76: =RAND() -> 0.23131858 | G76: =RAND() -> 0.46487713 | H76: =RAND() -> 0.79193046 | I76: =RAND() -> 0.068071338 | ... Z76: =RAND() -> 0.21206672 | AB76: =_xlfn.NORM.INV(B76,Satokasvi!$H$8,Satokasvi!$I$8)*_xlfn.BINOM.INV(1,(1-Satokasvi!$H$15),B76) -> 2764.5921 | AC76: =_xlfn.NORM.INV(C76,Satokasvi!$H$8,Satokasvi!$I$8)*_xlfn.BINOM.INV(1,(1-Satokasvi!$H$15),C76) -> 2555.9801 | AD76: =_xlfn.NORM.INV(D76,Satokasvi!$H$8,Satokasvi!$I$8)*_xlfn.BINOM.INV(1,(1-Satokasvi!$H$15),D76) -> 2363.6751 | AE76: =_xlfn.NORM.INV(E76,Satokasvi!$H$8,Satokasvi!$I$8)*_xlfn.BINOM.INV(1,(1-Satokasvi!$H$15),E76) -> 2419.0865 | AF76: =_xlfn.NORM.INV(F76,Satokasvi!$H$8,Satokasvi!$I$8)*_xlfn.BINOM.INV(1,(1-Satokasvi!$H$15),F76) -> 0 | AG76: =_xlfn.NORM.INV(G76,Satokasvi!$H$8,Satokasvi!$I$8)*_xlfn.BINOM.INV(1,(1-Satokasvi!$H$15),G76) -> 2477.9615 | AH76: =_xlfn.NORM.INV(H76,Satokasvi!$H$8,Satokasvi!$I$8)*_xlfn.BINOM.INV(1,(1-Satokasvi!$H$15),H76) -> 2703.2844 | AI76: =_xlfn.NORM.INV(I76,Satokasvi!$H$8,Satokasvi!$I$8)*_xlfn.BINOM.INV(1,(1-Satokasvi!$H$15),I76) -> 0 | ... AZ76: =_xlfn.NORM.INV(Z76,Satokasvi!$H$8,Satokasvi!$I$8)*_xlfn.BINOM.INV(1,(1-Satokasvi!$H$15),Z76) -> 0 | BB76: =IF(C$11="x",0,_xlfn.NORM.INV(B76,Satokasvi!$H$8,Satokasvi!$I$8)*IF(C$8="x",(1+Toimenpiteet!$C$7),1)*IF(C$9="x",(1+Toimenpiteet!$C$34),1)*(1+C$30)*_xlfn.BINOM.INV(1,(1-(Satokasvi!$H$15*(1+C$41))),B76)) -> 2764.5921 | BC76: =IF(D$11="x",0,_xlfn.NORM.INV(C76,Satokasvi!$H$8,Satokasvi!$I$8)*IF(D$8="x",(1+Toimenpiteet!$C$7),1)*IF(D$9="x",(1+Toimenpiteet!$C$34),1)*(1+D$30)*_xlfn.BINOM.INV(1,(1-(Satokasvi!$H$15*(1+D$41))),C76)) -> 2555.9801 | BD76: =IF(E$11="x",0,_xlfn.NORM.INV(D76,Satokasvi!$H$8,Satokasvi!$I$8)*IF(E$8="x",(1+Toimenpiteet!$C$7),1)*IF(E$9="x",(1+Toimenpiteet!$C$34),1)*(1+E$30)*_xlfn.BINOM.INV(1,(1-(Satokasvi!$H$15*(1+E$41))),D76)) -> 2363.6751 | BE76: =IF(F$11="x",0,_xlfn.NORM.INV(E76,Satokasvi!$H$8,Satokasvi!$I$8)*IF(F$8="x",(1+Toimenpiteet!$C$7),1)*IF(F$9="x",(1+Toimenpiteet!$C$34),1)*(1+F$30)*_xlfn.BINOM.INV(1,(1-(Satokasvi!$H$15*(1+F$41))),E76)) -> 2419.0865 | BF76: =IF(G$11="x",0,_xlfn.NORM.INV(F76,Satokasvi!$H$8,Satokasvi!$I$8)*IF(G$8="x",(1+Toimenpiteet!$C$7),1)*IF(G$9="x",(1+Toimenpiteet!$C$34),1)*(1+G$30)*_xlfn.BINOM.INV(1,(1-(Satokasvi!$H$15*(1+G$41))),F76)) -> 0 | BG76: =IF(H$11="x",0,_xlfn.NORM.INV(G76,Satokasvi!$H$8,Satokasvi!$I$8)*IF(H$8="x",(1+Toimenpiteet!$C$7),1)*IF(H$9="x",(1+Toimenpiteet!$C$34),1)*(1+H$30)*_xlfn.BINOM.INV(1,(1-(Satokasvi!$H$15*(1+H$41))),G76)) -> 2477.9615 | BH76: =IF(I$11="x",0,_xlfn.NORM.INV(H76,Satokasvi!$H$8,Satokasvi!$I$8)*IF(I$8="x",(1+Toimenpiteet!$C$7),1)*IF(I$9="x",(1+Toimenpiteet!$C$34),1)*(1+I$30)*_xlfn.BINOM.INV(1,(1-(Satokasvi!$H$15*(1+I$41))),H76)) -> 2703.2844 | BI76: =IF(J$11="x",0,_xlfn.NORM.INV(I76,Satokasvi!$H$8,Satokasvi!$I$8)*IF(J$8="x",(1+Toimenpiteet!$C$7),1)*IF(J$9="x",(1+Toimenpiteet!$C$34),1)*(1+J$30)*_xlfn.BINOM.INV(1,(1-(Satokasvi!$H$15*(1+J$41))),I76)) -> 0 | ... BZ76: =IF(AA$11="x",0,_xlfn.NORM.INV(Z76,Satokasvi!$H$8,Satokasvi!$I$8)*IF(AA$8="x",(1+Toimenpiteet!$C$7),1)*IF(AA$9="x",(1+Toimenpiteet!$C$34),1)*(1+AA$30)*_xlfn.BINOM.INV(1,(1-(Satokasvi!$H$15*(1+AA$41))),Z76)) -> 0 | CB76: =_xlfn.NORM.INV(RAND(),Satokasvi!$H$13,Satokasvi!$I$13) -> 156.97984 | CC76: =_xlfn.NORM.INV(RAND(),Satokasvi!$H$13,Satokasvi!$I$13) -> 193.49262 | CD76: =_xlfn.NORM.INV(RAND(),Satokasvi!$H$13,Satokasvi!$I$13) -> 194.3795 | CE76: =_xlfn.NORM.INV(RAND(),Satokasvi!$H$13,Satokasvi!$I$13) -> 161.29211 | CF76: =_xlfn.NORM.INV(RAND(),Satokasvi!$H$13,Satokasvi!$I$13) -> 194.94472 | CG76: =_xlfn.NORM.INV(RAND(),Satokasvi!$H$13,Satokasvi!$I$13) -> 198.92109 | CH76: =_xlfn.NORM.INV(RAND(),Satokasvi!$H$13,Satokasvi!$I$13) -> 247.67286 | CI76: =_xlfn.NORM.INV(RAND(),Satokasvi!$H$13,Satokasvi!$I$13) -> 152.93061 | ... CZ76: =_xlfn.NORM.INV(RAND(),Satokasvi!$H$13,Satokasvi!$I$13) -> 227.53407 | DB76: =(AB76*(CB76/1000)+(Satokasvi!$E$28-Satokasvi!$E$7))/(1+$C$13)^DB$61 -> 164.06331 | DC76: =(AC76*(CC76/1000)+(Satokasvi!$E$28-Satokasvi!$E$7))/(1+$C$13)^DC$61 -> 216.38543 | DD76: =(AD76*(CD76/1000)+(Satokasvi!$E$28-Satokasvi!$E$7))/(1+$C$13)^DD$61 -> 177.94928 | DE76: =(AE76*(CE76/1000)+(Satokasvi!$E$28-Satokasvi!$E$7))/(1+$C$13)^DE$61 -> 111.22043 | DF76: =(AF76*(CF76/1000)+(Satokasvi!$E$28-Satokasvi!$E$7))/(1+$C$13)^DF$61 -> -228.59133 | DG76: =(AG76*(CG76/1000)+(Satokasvi!$E$28-Satokasvi!$E$7))/(1+$C$13)^DG$61 -> 190.8784 | DH76: =(AH76*(CH76/1000)+(Satokasvi!$E$28-Satokasvi!$E$7))/(1+$C$13)^DH$61 -> 328.92006 | DI76: =(AI76*(CI76/1000)+(Satokasvi!$E$28-Satokasvi!$E$7))/(1+$C$13)^DI$61 -> -209.19345 | ... DZ76: =(AZ76*(CZ76/1000)+(Satokasvi!$E$28-Satokasvi!$E$7))/(1+$C$13)^DZ$61 -> -126.56548 | EB76: =IF(C$11="x",Toimenpiteet!$E$115,BB76*(CB76/1000)+(Satokasvi!$E$28-Satokasvi!$E$7)+IF(C$8="x",Toimenpiteet!$E$29,0)+IF(C$9="x",Toimenpiteet!$E$60,0)+IF(C$10="x",Toimenpiteet!$E$88,0))/(1+$C$13)^EB$61 -> 164.06331 | EC76: =IF(D$11="x",Toimenpiteet!$E$115,BC76*(CC76/1000)+(Satokasvi!$E$28-Satokasvi!$E$7)+IF(D$8="x",Toimenpiteet!$E$29,0)+IF(D$9="x",Toimenpiteet!$E$60,0)+IF(D$10="x",Toimenpiteet!$E$88,0))/(1+$C$13)^EC$61 -> 216.38543 | ED76: =IF(E$11="x",Toimenpiteet!$E$115,BD76*(CD76/1000)+(Satokasvi!$E$28-Satokasvi!$E$7)+IF(E$8="x",Toimenpiteet!$E$29,0)+IF(E$9="x",Toimenpiteet!$E$60,0)+IF(E$10="x",Toimenpiteet!$E$88,0))/(1+$C$13)^ED$61 -> 177.94928 | EE76: =IF(F$11="x",Toimenpiteet!$E$115,BE76*(CE76/1000)+(Satokasvi!$E$28-Satokasvi!$E$7)+IF(F$8="x",Toimenpiteet!$E$29,0)+IF(F$9="x",Toimenpiteet!$E$60,0)+IF(F$10="x",Toimenpiteet!$E$88,0))/(1+$C$13)^EE$61 -> 111.22043 | EF76: =IF(G$11="x",Toimenpiteet!$E$115,BF76*(CF76/1000)+(Satokasvi!$E$28-Satokasvi!$E$7)+IF(G$8="x",Toimenpiteet!$E$29,0)+IF(G$9="x",Toimenpiteet!$E$60,0)+IF(G$10="x",Toimenpiteet!$E$88,0))/(1+$C$13)^EF$61 -> -228.59133 | EG76: =IF(H$11="x",Toimenpiteet!$E$115,BG76*(CG76/1000)+(Satokasvi!$E$28-Satokasvi!$E$7)+IF(H$8="x",Toimenpiteet!$E$29,0)+IF(H$9="x",Toimenpiteet!$E$60,0)+IF(H$10="x",Toimenpiteet!$E$88,0))/(1+$C$13)^EG$61 -> 190.8784 | EH76: =IF(I$11="x",Toimenpiteet!$E$115,BH76*(CH76/1000)+(Satokasvi!$E$28-Satokasvi!$E$7)+IF(I$8="x",Toimenpiteet!$E$29,0)+IF(I$9="x",Toimenpiteet!$E$60,0)+IF(I$10="x",Toimenpiteet!$E$88,0))/(1+$C$13)^EH$61 -> 328.92006 | EI76: =IF(J$11="x",Toimenpiteet!$E$115,BI76*(CI76/1000)+(Satokasvi!$E$28-Satokasvi!$E$7)+IF(J$8="x",Toimenpiteet!$E$29,0)+IF(J$9="x",Toimenpiteet!$E$60,0)+IF(J$10="x",Toimenpiteet!$E$88,0))/(1+$C$13)^EI$61 -> -209.19345 | ... EZ76: =IF(AA$11="x",Toimenpiteet!$E$115,BZ76*(CZ76/1000)+(Satokasvi!$E$28-Satokasvi!$E$7)+IF(AA$8="x",Toimenpiteet!$E$29,0)+IF(AA$9="x",Toimenpiteet!$E$60,0)+IF(AA$10="x",Toimenpiteet!$E$88,0))/(1+$C$13)^EZ$61 -> -126.56548 | FB76: =DB76 -> 164.06331 | FC76: =FB76+DC76 -> 380.44874 | FD76: =FC76+DD76 -> 558.39802 | FE76: =FD76+DE76 -> 669.61845 | FF76: =FE76+DF76 -> 441.02712 | FG76: =FF76+DG76 -> 631.90553 | FH76: =FG76+DH76 -> 960.82559 | FI76: =FH76+DI76 -> 751.63214 | FJ76: =FI76+DJ76 -> 548.53171 | ... FZ76: =FY76+DZ76 -> 1626.2936 | GB76: =EB76 -> 164.06331 | GC76: =GB76+EC76 -> 380.44874 | GD76: =GC76+ED76 -> 558.39802 | GE76: =GD76+EE76 -> 669.61845 | GF76: =GE76+EF76 -> 441.02712 | GG76: =GF76+EG76 -> 631.90553 | GH76: =GG76+EH76 -> 960.82559 | GI76: =GH76+EI76 -> 751.63214 | GJ76: =GI76+EJ76 -> 548.53171 | ... GZ76: =GY76+EZ76 -> 1626.2936 | HB76: =_xlfn.XLOOKUP($BE$18,$FB$61:$FZ$61,FB76:FZ76) -> 441.02712 | HC76: =_xlfn.XLOOKUP($BE$18,$GB$61:$GZ$61,GB76:GZ76) -> 441.02712 | HD76: =IF(HC76>HB76,1,0) -> 0 | HG76: =HG75+($BI$11-$BI$10)/9 -> 0.1 | HH76: =IF(HH$61<$BI$9,$HG76/$BI$9*HH$61,$HG76/$BI$9*$BI$9) -> 0.01 | HI76: =IF(HI$61<$BI$9,$HG76/$BI$9*HI$61,$HG76/$BI$9*$BI$9) -> 0.02 | HJ76: =IF(HJ$61<$BI$9,$HG76/$BI$9*HJ$61,$HG76/$BI$9*$BI$9) -> 0.03 | HK76: =IF(HK$61<$BI$9,$HG76/$BI$9*HK$61,$HG76/$BI$9*$BI$9) -> 0.04 | HL76: =IF(HL$61<$BI$9,$HG76/$BI$9*HL$61,$HG76/$BI$9*$BI$9) -> 0.05 | HM76: =IF(HM$61<$BI$9,$HG76/$BI$9*HM$61,$HG76/$BI$9*$BI$9) -> 0.06 | HN76: =IF(HN$61<$BI$9,$HG76/$BI$9*HN$61,$HG76/$BI$9*$BI$9) -> 0.07 | HO76: =IF(HO$61<$BI$9,$HG76/$BI$9*HO$61,$HG76/$BI$9*$BI$9) -> 0.08 | ... IF76: =IF(IF$61<$BI$9,$HG76/$BI$9*IF$61,$HG76/$BI$9*$BI$9) -> 0.1
B77: =RAND() -> 0.21840054 | C77: =RAND() -> 0.82754589 | D77: =RAND() -> 0.97118794 | E77: =RAND() -> 0.98892834 | F77: =RAND() -> 0.81880977 | G77: =RAND() -> 0.0012880319 | H77: =RAND() -> 0.87781535 | I77: =RAND() -> 0.77851454 | ... Z77: =RAND() -> 0.87763711 | AB77: =_xlfn.NORM.INV(B77,Satokasvi!$H$8,Satokasvi!$I$8)*_xlfn.BINOM.INV(1,(1-Satokasvi!$H$15),B77) -> 0 | AC77: =_xlfn.NORM.INV(C77,Satokasvi!$H$8,Satokasvi!$I$8)*_xlfn.BINOM.INV(1,(1-Satokasvi!$H$15),C77) -> 2736.1279 | AD77: =_xlfn.NORM.INV(D77,Satokasvi!$H$8,Satokasvi!$I$8)*_xlfn.BINOM.INV(1,(1-Satokasvi!$H$15),D77) -> 2974.6366 | AE77: =_xlfn.NORM.INV(E77,Satokasvi!$H$8,Satokasvi!$I$8)*_xlfn.BINOM.INV(1,(1-Satokasvi!$H$15),E77) -> 3071.9751 | AF77: =_xlfn.NORM.INV(F77,Satokasvi!$H$8,Satokasvi!$I$8)*_xlfn.BINOM.INV(1,(1-Satokasvi!$H$15),F77) -> 2727.7096 | AG77: =_xlfn.NORM.INV(G77,Satokasvi!$H$8,Satokasvi!$I$8)*_xlfn.BINOM.INV(1,(1-Satokasvi!$H$15),G77) -> 0 | AH77: =_xlfn.NORM.INV(H77,Satokasvi!$H$8,Satokasvi!$I$8)*_xlfn.BINOM.INV(1,(1-Satokasvi!$H$15),H77) -> 2791.0338 | AI77: =_xlfn.NORM.INV(I77,Satokasvi!$H$8,Satokasvi!$I$8)*_xlfn.BINOM.INV(1,(1-Satokasvi!$H$15),I77) -> 2691.7965 | ... AZ77: =_xlfn.NORM.INV(Z77,Satokasvi!$H$8,Satokasvi!$I$8)*_xlfn.BINOM.INV(1,(1-Satokasvi!$H$15),Z77) -> 2790.8139 | BB77: =IF(C$11="x",0,_xlfn.NORM.INV(B77,Satokasvi!$H$8,Satokasvi!$I$8)*IF(C$8="x",(1+Toimenpiteet!$C$7),1)*IF(C$9="x",(1+Toimenpiteet!$C$34),1)*(1+C$30)*_xlfn.BINOM.INV(1,(1-(Satokasvi!$H$15*(1+C$41))),B77)) -> 0 | BC77: =IF(D$11="x",0,_xlfn.NORM.INV(C77,Satokasvi!$H$8,Satokasvi!$I$8)*IF(D$8="x",(1+Toimenpiteet!$C$7),1)*IF(D$9="x",(1+Toimenpiteet!$C$34),1)*(1+D$30)*_xlfn.BINOM.INV(1,(1-(Satokasvi!$H$15*(1+D$41))),C77)) -> 2736.1279 | BD77: =IF(E$11="x",0,_xlfn.NORM.INV(D77,Satokasvi!$H$8,Satokasvi!$I$8)*IF(E$8="x",(1+Toimenpiteet!$C$7),1)*IF(E$9="x",(1+Toimenpiteet!$C$34),1)*(1+E$30)*_xlfn.BINOM.INV(1,(1-(Satokasvi!$H$15*(1+E$41))),D77)) -> 2974.6366 | BE77: =IF(F$11="x",0,_xlfn.NORM.INV(E77,Satokasvi!$H$8,Satokasvi!$I$8)*IF(F$8="x",(1+Toimenpiteet!$C$7),1)*IF(F$9="x",(1+Toimenpiteet!$C$34),1)*(1+F$30)*_xlfn.BINOM.INV(1,(1-(Satokasvi!$H$15*(1+F$41))),E77)) -> 3071.9751 | BF77: =IF(G$11="x",0,_xlfn.NORM.INV(F77,Satokasvi!$H$8,Satokasvi!$I$8)*IF(G$8="x",(1+Toimenpiteet!$C$7),1)*IF(G$9="x",(1+Toimenpiteet!$C$34),1)*(1+G$30)*_xlfn.BINOM.INV(1,(1-(Satokasvi!$H$15*(1+G$41))),F77)) -> 2727.7096 | BG77: =IF(H$11="x",0,_xlfn.NORM.INV(G77,Satokasvi!$H$8,Satokasvi!$I$8)*IF(H$8="x",(1+Toimenpiteet!$C$7),1)*IF(H$9="x",(1+Toimenpiteet!$C$34),1)*(1+H$30)*_xlfn.BINOM.INV(1,(1-(Satokasvi!$H$15*(1+H$41))),G77)) -> 0 | BH77: =IF(I$11="x",0,_xlfn.NORM.INV(H77,Satokasvi!$H$8,Satokasvi!$I$8)*IF(I$8="x",(1+Toimenpiteet!$C$7),1)*IF(I$9="x",(1+Toimenpiteet!$C$34),1)*(1+I$30)*_xlfn.BINOM.INV(1,(1-(Satokasvi!$H$15*(1+I$41))),H77)) -> 2791.0338 | BI77: =IF(J$11="x",0,_xlfn.NORM.INV(I77,Satokasvi!$H$8,Satokasvi!$I$8)*IF(J$8="x",(1+Toimenpiteet!$C$7),1)*IF(J$9="x",(1+Toimenpiteet!$C$34),1)*(1+J$30)*_xlfn.BINOM.INV(1,(1-(Satokasvi!$H$15*(1+J$41))),I77)) -> 2691.7965 | ... BZ77: =IF(AA$11="x",0,_xlfn.NORM.INV(Z77,Satokasvi!$H$8,Satokasvi!$I$8)*IF(AA$8="x",(1+Toimenpiteet!$C$7),1)*IF(AA$9="x",(1+Toimenpiteet!$C$34),1)*(1+AA$30)*_xlfn.BINOM.INV(1,(1-(Satokasvi!$H$15*(1+AA$41))),Z77)) -> 2790.8139 | CB77: =_xlfn.NORM.INV(RAND(),Satokasvi!$H$13,Satokasvi!$I$13) -> 126.57931 | CC77: =_xlfn.NORM.INV(RAND(),Satokasvi!$H$13,Satokasvi!$I$13) -> 217.56678 | CD77: =_xlfn.NORM.INV(RAND(),Satokasvi!$H$13,Satokasvi!$I$13) -> 177.0993 | CE77: =_xlfn.NORM.INV(RAND(),Satokasvi!$H$13,Satokasvi!$I$13) -> 149.70364 | CF77: =_xlfn.NORM.INV(RAND(),Satokasvi!$H$13,Satokasvi!$I$13) -> 113.17525 | CG77: =_xlfn.NORM.INV(RAND(),Satokasvi!$H$13,Satokasvi!$I$13) -> 139.97124 | CH77: =_xlfn.NORM.INV(RAND(),Satokasvi!$H$13,Satokasvi!$I$13) -> 181.70553 | CI77: =_xlfn.NORM.INV(RAND(),Satokasvi!$H$13,Satokasvi!$I$13) -> 145.34329 | ... CZ77: =_xlfn.NORM.INV(RAND(),Satokasvi!$H$13,Satokasvi!$I$13) -> 262.96126 | DB77: =(AB77*(CB77/1000)+(Satokasvi!$E$28-Satokasvi!$E$7))/(1+$C$13)^DB$61 -> -257.28155 | DC77: =(AC77*(CC77/1000)+(Satokasvi!$E$28-Satokasvi!$E$7))/(1+$C$13)^DC$61 -> 311.3305 | DD77: =(AD77*(CD77/1000)+(Satokasvi!$E$28-Satokasvi!$E$7))/(1+$C$13)^DD$61 -> 239.58963 | DE77: =(AE77*(CE77/1000)+(Satokasvi!$E$28-Satokasvi!$E$7))/(1+$C$13)^DE$61 -> 173.15357 | DF77: =(AF77*(CF77/1000)+(Satokasvi!$E$28-Satokasvi!$E$7))/(1+$C$13)^DF$61 -> 37.703957 | DG77: =(AG77*(CG77/1000)+(Satokasvi!$E$28-Satokasvi!$E$7))/(1+$C$13)^DG$61 -> -221.93333 | DH77: =(AH77*(CH77/1000)+(Satokasvi!$E$28-Satokasvi!$E$7))/(1+$C$13)^DH$61 -> 196.88707 | DI77: =(AI77*(CI77/1000)+(Satokasvi!$E$28-Satokasvi!$E$7))/(1+$C$13)^DI$61 -> 99.650731 | ... DZ77: =(AZ77*(CZ77/1000)+(Satokasvi!$E$28-Satokasvi!$E$7))/(1+$C$13)^DZ$61 -> 223.93776 | EB77: =IF(C$11="x",Toimenpiteet!$E$115,BB77*(CB77/1000)+(Satokasvi!$E$28-Satokasvi!$E$7)+IF(C$8="x",Toimenpiteet!$E$29,0)+IF(C$9="x",Toimenpiteet!$E$60,0)+IF(C$10="x",Toimenpiteet!$E$88,0))/(1+$C$13)^EB$61 -> -257.28155 | EC77: =IF(D$11="x",Toimenpiteet!$E$115,BC77*(CC77/1000)+(Satokasvi!$E$28-Satokasvi!$E$7)+IF(D$8="x",Toimenpiteet!$E$29,0)+IF(D$9="x",Toimenpiteet!$E$60,0)+IF(D$10="x",Toimenpiteet!$E$88,0))/(1+$C$13)^EC$61 -> 311.3305 | ED77: =IF(E$11="x",Toimenpiteet!$E$115,BD77*(CD77/1000)+(Satokasvi!$E$28-Satokasvi!$E$7)+IF(E$8="x",Toimenpiteet!$E$29,0)+IF(E$9="x",Toimenpiteet!$E$60,0)+IF(E$10="x",Toimenpiteet!$E$88,0))/(1+$C$13)^ED$61 -> 239.58963 | EE77: =IF(F$11="x",Toimenpiteet!$E$115,BE77*(CE77/1000)+(Satokasvi!$E$28-Satokasvi!$E$7)+IF(F$8="x",Toimenpiteet!$E$29,0)+IF(F$9="x",Toimenpiteet!$E$60,0)+IF(F$10="x",Toimenpiteet!$E$88,0))/(1+$C$13)^EE$61 -> 173.15357 | EF77: =IF(G$11="x",Toimenpiteet!$E$115,BF77*(CF77/1000)+(Satokasvi!$E$28-Satokasvi!$E$7)+IF(G$8="x",Toimenpiteet!$E$29,0)+IF(G$9="x",Toimenpiteet!$E$60,0)+IF(G$10="x",Toimenpiteet!$E$88,0))/(1+$C$13)^EF$61 -> 37.703957 | EG77: =IF(H$11="x",Toimenpiteet!$E$115,BG77*(CG77/1000)+(Satokasvi!$E$28-Satokasvi!$E$7)+IF(H$8="x",Toimenpiteet!$E$29,0)+IF(H$9="x",Toimenpiteet!$E$60,0)+IF(H$10="x",Toimenpiteet!$E$88,0))/(1+$C$13)^EG$61 -> -221.93333 | EH77: =IF(I$11="x",Toimenpiteet!$E$115,BH77*(CH77/1000)+(Satokasvi!$E$28-Satokasvi!$E$7)+IF(I$8="x",Toimenpiteet!$E$29,0)+IF(I$9="x",Toimenpiteet!$E$60,0)+IF(I$10="x",Toimenpiteet!$E$88,0))/(1+$C$13)^EH$61 -> 196.88707 | EI77: =IF(J$11="x",Toimenpiteet!$E$115,BI77*(CI77/1000)+(Satokasvi!$E$28-Satokasvi!$E$7)+IF(J$8="x",Toimenpiteet!$E$29,0)+IF(J$9="x",Toimenpiteet!$E$60,0)+IF(J$10="x",Toimenpiteet!$E$88,0))/(1+$C$13)^EI$61 -> 99.650731 | ... EZ77: =IF(AA$11="x",Toimenpiteet!$E$115,BZ77*(CZ77/1000)+(Satokasvi!$E$28-Satokasvi!$E$7)+IF(AA$8="x",Toimenpiteet!$E$29,0)+IF(AA$9="x",Toimenpiteet!$E$60,0)+IF(AA$10="x",Toimenpiteet!$E$88,0))/(1+$C$13)^EZ$61 -> 223.93776 | FB77: =DB77 -> -257.28155 | FC77: =FB77+DC77 -> 54.048948 | FD77: =FC77+DD77 -> 293.63858 | FE77: =FD77+DE77 -> 466.79215 | FF77: =FE77+DF77 -> 504.49611 | FG77: =FF77+DG77 -> 282.56278 | FH77: =FG77+DH77 -> 479.44985 | FI77: =FH77+DI77 -> 579.10058 | FJ77: =FI77+DJ77 -> 1044.3625 | ... FZ77: =FY77+DZ77 -> 1684.3337 | GB77: =EB77 -> -257.28155 | GC77: =GB77+EC77 -> 54.048948 | GD77: =GC77+ED77 -> 293.63858 | GE77: =GD77+EE77 -> 466.79215 | GF77: =GE77+EF77 -> 504.49611 | GG77: =GF77+EG77 -> 282.56278 | GH77: =GG77+EH77 -> 479.44985 | GI77: =GH77+EI77 -> 579.10058 | GJ77: =GI77+EJ77 -> 1044.3625 | ... GZ77: =GY77+EZ77 -> 1684.3337 | HB77: =_xlfn.XLOOKUP($BE$18,$FB$61:$FZ$61,FB77:FZ77) -> 504.49611 | HC77: =_xlfn.XLOOKUP($BE$18,$GB$61:$GZ$61,GB77:GZ77) -> 504.49611 | HD77: =IF(HC77>HB77,1,0) -> 0
B78: =RAND() -> 0.20190763 | C78: =RAND() -> 0.26380308 | D78: =RAND() -> 0.85460005 | E78: =RAND() -> 0.81557797 | F78: =RAND() -> 0.33306049 | G78: =RAND() -> 0.51030854 | H78: =RAND() -> 0.95164254 | I78: =RAND() -> 0.56269055 | ... Z78: =RAND() -> 0.99470602 | AB78: =_xlfn.NORM.INV(B78,Satokasvi!$H$8,Satokasvi!$I$8)*_xlfn.BINOM.INV(1,(1-Satokasvi!$H$15),B78) -> 0 | AC78: =_xlfn.NORM.INV(C78,Satokasvi!$H$8,Satokasvi!$I$8)*_xlfn.BINOM.INV(1,(1-Satokasvi!$H$15),C78) -> 2342.0839 | AD78: =_xlfn.NORM.INV(D78,Satokasvi!$H$8,Satokasvi!$I$8)*_xlfn.BINOM.INV(1,(1-Satokasvi!$H$15),D78) -> 2764.0921 | AE78: =_xlfn.NORM.INV(E78,Satokasvi!$H$8,Satokasvi!$I$8)*_xlfn.BINOM.INV(1,(1-Satokasvi!$H$15),E78) -> 2724.6602 | AF78: =_xlfn.NORM.INV(F78,Satokasvi!$H$8,Satokasvi!$I$8)*_xlfn.BINOM.INV(1,(1-Satokasvi!$H$15),F78) -> 2392.1305 | AG78: =_xlfn.NORM.INV(G78,Satokasvi!$H$8,Satokasvi!$I$8)*_xlfn.BINOM.INV(1,(1-Satokasvi!$H$15),G78) -> 2506.4606 | AH78: =_xlfn.NORM.INV(H78,Satokasvi!$H$8,Satokasvi!$I$8)*_xlfn.BINOM.INV(1,(1-Satokasvi!$H$15),H78) -> 2915.2482 | AI78: =_xlfn.NORM.INV(I78,Satokasvi!$H$8,Satokasvi!$I$8)*_xlfn.BINOM.INV(1,(1-Satokasvi!$H$15),I78) -> 2539.4486 | ... AZ78: =_xlfn.NORM.INV(Z78,Satokasvi!$H$8,Satokasvi!$I$8)*_xlfn.BINOM.INV(1,(1-Satokasvi!$H$15),Z78) -> 3139.003 | BB78: =IF(C$11="x",0,_xlfn.NORM.INV(B78,Satokasvi!$H$8,Satokasvi!$I$8)*IF(C$8="x",(1+Toimenpiteet!$C$7),1)*IF(C$9="x",(1+Toimenpiteet!$C$34),1)*(1+C$30)*_xlfn.BINOM.INV(1,(1-(Satokasvi!$H$15*(1+C$41))),B78)) -> 0 | BC78: =IF(D$11="x",0,_xlfn.NORM.INV(C78,Satokasvi!$H$8,Satokasvi!$I$8)*IF(D$8="x",(1+Toimenpiteet!$C$7),1)*IF(D$9="x",(1+Toimenpiteet!$C$34),1)*(1+D$30)*_xlfn.BINOM.INV(1,(1-(Satokasvi!$H$15*(1+D$41))),C78)) -> 2342.0839 | BD78: =IF(E$11="x",0,_xlfn.NORM.INV(D78,Satokasvi!$H$8,Satokasvi!$I$8)*IF(E$8="x",(1+Toimenpiteet!$C$7),1)*IF(E$9="x",(1+Toimenpiteet!$C$34),1)*(1+E$30)*_xlfn.BINOM.INV(1,(1-(Satokasvi!$H$15*(1+E$41))),D78)) -> 2764.0921 | BE78: =IF(F$11="x",0,_xlfn.NORM.INV(E78,Satokasvi!$H$8,Satokasvi!$I$8)*IF(F$8="x",(1+Toimenpiteet!$C$7),1)*IF(F$9="x",(1+Toimenpiteet!$C$34),1)*(1+F$30)*_xlfn.BINOM.INV(1,(1-(Satokasvi!$H$15*(1+F$41))),E78)) -> 2724.6602 | BF78: =IF(G$11="x",0,_xlfn.NORM.INV(F78,Satokasvi!$H$8,Satokasvi!$I$8)*IF(G$8="x",(1+Toimenpiteet!$C$7),1)*IF(G$9="x",(1+Toimenpiteet!$C$34),1)*(1+G$30)*_xlfn.BINOM.INV(1,(1-(Satokasvi!$H$15*(1+G$41))),F78)) -> 2392.1305 | BG78: =IF(H$11="x",0,_xlfn.NORM.INV(G78,Satokasvi!$H$8,Satokasvi!$I$8)*IF(H$8="x",(1+Toimenpiteet!$C$7),1)*IF(H$9="x",(1+Toimenpiteet!$C$34),1)*(1+H$30)*_xlfn.BINOM.INV(1,(1-(Satokasvi!$H$15*(1+H$41))),G78)) -> 2506.4606 | BH78: =IF(I$11="x",0,_xlfn.NORM.INV(H78,Satokasvi!$H$8,Satokasvi!$I$8)*IF(I$8="x",(1+Toimenpiteet!$C$7),1)*IF(I$9="x",(1+Toimenpiteet!$C$34),1)*(1+I$30)*_xlfn.BINOM.INV(1,(1-(Satokasvi!$H$15*(1+I$41))),H78)) -> 2915.2482 | BI78: =IF(J$11="x",0,_xlfn.NORM.INV(I78,Satokasvi!$H$8,Satokasvi!$I$8)*IF(J$8="x",(1+Toimenpiteet!$C$7),1)*IF(J$9="x",(1+Toimenpiteet!$C$34),1)*(1+J$30)*_xlfn.BINOM.INV(1,(1-(Satokasvi!$H$15*(1+J$41))),I78)) -> 2539.4486 | ... BZ78: =IF(AA$11="x",0,_xlfn.NORM.INV(Z78,Satokasvi!$H$8,Satokasvi!$I$8)*IF(AA$8="x",(1+Toimenpiteet!$C$7),1)*IF(AA$9="x",(1+Toimenpiteet!$C$34),1)*(1+AA$30)*_xlfn.BINOM.INV(1,(1-(Satokasvi!$H$15*(1+AA$41))),Z78)) -> 3139.003 | CB78: =_xlfn.NORM.INV(RAND(),Satokasvi!$H$13,Satokasvi!$I$13) -> 155.96113 | CC78: =_xlfn.NORM.INV(RAND(),Satokasvi!$H$13,Satokasvi!$I$13) -> 346.52533 | CD78: =_xlfn.NORM.INV(RAND(),Satokasvi!$H$13,Satokasvi!$I$13) -> 279.92128 | CE78: =_xlfn.NORM.INV(RAND(),Satokasvi!$H$13,Satokasvi!$I$13) -> 145.13433 | CF78: =_xlfn.NORM.INV(RAND(),Satokasvi!$H$13,Satokasvi!$I$13) -> 177.18688 | CG78: =_xlfn.NORM.INV(RAND(),Satokasvi!$H$13,Satokasvi!$I$13) -> 179.5576 | CH78: =_xlfn.NORM.INV(RAND(),Satokasvi!$H$13,Satokasvi!$I$13) -> 148.99782 | CI78: =_xlfn.NORM.INV(RAND(),Satokasvi!$H$13,Satokasvi!$I$13) -> 180.84714 | ... CZ78: =_xlfn.NORM.INV(RAND(),Satokasvi!$H$13,Satokasvi!$I$13) -> 208.00314 | DB78: =(AB78*(CB78/1000)+(Satokasvi!$E$28-Satokasvi!$E$7))/(1+$C$13)^DB$61 -> -257.28155 | DC78: =(AC78*(CC78/1000)+(Satokasvi!$E$28-Satokasvi!$E$7))/(1+$C$13)^DC$61 -> 515.21481 | DD78: =(AD78*(CD78/1000)+(Satokasvi!$E$28-Satokasvi!$E$7))/(1+$C$13)^DD$61 -> 465.55838 | DE78: =(AE78*(CE78/1000)+(Satokasvi!$E$28-Satokasvi!$E$7))/(1+$C$13)^DE$61 -> 115.89579 | DF78: =(AF78*(CF78/1000)+(Satokasvi!$E$28-Satokasvi!$E$7))/(1+$C$13)^DF$61 -> 137.02899 | DG78: =(AG78*(CG78/1000)+(Satokasvi!$E$28-Satokasvi!$E$7))/(1+$C$13)^DG$61 -> 154.97986 | DH78: =(AH78*(CH78/1000)+(Satokasvi!$E$28-Satokasvi!$E$7))/(1+$C$13)^DH$61 -> 137.70974 | DI78: =(AI78*(CI78/1000)+(Satokasvi!$E$28-Satokasvi!$E$7))/(1+$C$13)^DI$61 -> 153.34434 | ... DZ78: =(AZ78*(CZ78/1000)+(Satokasvi!$E$28-Satokasvi!$E$7))/(1+$C$13)^DZ$61 -> 185.27393 | EB78: =IF(C$11="x",Toimenpiteet!$E$115,BB78*(CB78/1000)+(Satokasvi!$E$28-Satokasvi!$E$7)+IF(C$8="x",Toimenpiteet!$E$29,0)+IF(C$9="x",Toimenpiteet!$E$60,0)+IF(C$10="x",Toimenpiteet!$E$88,0))/(1+$C$13)^EB$61 -> -257.28155 | EC78: =IF(D$11="x",Toimenpiteet!$E$115,BC78*(CC78/1000)+(Satokasvi!$E$28-Satokasvi!$E$7)+IF(D$8="x",Toimenpiteet!$E$29,0)+IF(D$9="x",Toimenpiteet!$E$60,0)+IF(D$10="x",Toimenpiteet!$E$88,0))/(1+$C$13)^EC$61 -> 515.21481 | ED78: =IF(E$11="x",Toimenpiteet!$E$115,BD78*(CD78/1000)+(Satokasvi!$E$28-Satokasvi!$E$7)+IF(E$8="x",Toimenpiteet!$E$29,0)+IF(E$9="x",Toimenpiteet!$E$60,0)+IF(E$10="x",Toimenpiteet!$E$88,0))/(1+$C$13)^ED$61 -> 465.55838 | EE78: =IF(F$11="x",Toimenpiteet!$E$115,BE78*(CE78/1000)+(Satokasvi!$E$28-Satokasvi!$E$7)+IF(F$8="x",Toimenpiteet!$E$29,0)+IF(F$9="x",Toimenpiteet!$E$60,0)+IF(F$10="x",Toimenpiteet!$E$88,0))/(1+$C$13)^EE$61 -> 115.89579 | EF78: =IF(G$11="x",Toimenpiteet!$E$115,BF78*(CF78/1000)+(Satokasvi!$E$28-Satokasvi!$E$7)+IF(G$8="x",Toimenpiteet!$E$29,0)+IF(G$9="x",Toimenpiteet!$E$60,0)+IF(G$10="x",Toimenpiteet!$E$88,0))/(1+$C$13)^EF$61 -> 137.02899 | EG78: =IF(H$11="x",Toimenpiteet!$E$115,BG78*(CG78/1000)+(Satokasvi!$E$28-Satokasvi!$E$7)+IF(H$8="x",Toimenpiteet!$E$29,0)+IF(H$9="x",Toimenpiteet!$E$60,0)+IF(H$10="x",Toimenpiteet!$E$88,0))/(1+$C$13)^EG$61 -> 154.97986 | EH78: =IF(I$11="x",Toimenpiteet!$E$115,BH78*(CH78/1000)+(Satokasvi!$E$28-Satokasvi!$E$7)+IF(I$8="x",Toimenpiteet!$E$29,0)+IF(I$9="x",Toimenpiteet!$E$60,0)+IF(I$10="x",Toimenpiteet!$E$88,0))/(1+$C$13)^EH$61 -> 137.70974 | EI78: =IF(J$11="x",Toimenpiteet!$E$115,BI78*(CI78/1000)+(Satokasvi!$E$28-Satokasvi!$E$7)+IF(J$8="x",Toimenpiteet!$E$29,0)+IF(J$9="x",Toimenpiteet!$E$60,0)+IF(J$10="x",Toimenpiteet!$E$88,0))/(1+$C$13)^EI$61 -> 153.34434 | ... EZ78: =IF(AA$11="x",Toimenpiteet!$E$115,BZ78*(CZ78/1000)+(Satokasvi!$E$28-Satokasvi!$E$7)+IF(AA$8="x",Toimenpiteet!$E$29,0)+IF(AA$9="x",Toimenpiteet!$E$60,0)+IF(AA$10="x",Toimenpiteet!$E$88,0))/(1+$C$13)^EZ$61 -> 185.27393 | FB78: =DB78 -> -257.28155 | FC78: =FB78+DC78 -> 257.93326 | FD78: =FC78+DD78 -> 723.49164 | FE78: =FD78+DE78 -> 839.38743 | FF78: =FE78+DF78 -> 976.41641 | FG78: =FF78+DG78 -> 1131.3963 | FH78: =FG78+DH78 -> 1269.106 | FI78: =FH78+DI78 -> 1422.4504 | FJ78: =FI78+DJ78 -> 1794.6127 | ... FZ78: =FY78+DZ78 -> 3253.7007 | GB78: =EB78 -> -257.28155 | GC78: =GB78+EC78 -> 257.93326 | GD78: =GC78+ED78 -> 723.49164 | GE78: =GD78+EE78 -> 839.38743 | GF78: =GE78+EF78 -> 976.41641 | GG78: =GF78+EG78 -> 1131.3963 | GH78: =GG78+EH78 -> 1269.106 | GI78: =GH78+EI78 -> 1422.4504 | GJ78: =GI78+EJ78 -> 1794.6127 | ... GZ78: =GY78+EZ78 -> 3253.7007 | HB78: =_xlfn.XLOOKUP($BE$18,$FB$61:$FZ$61,FB78:FZ78) -> 976.41641 | HC78: =_xlfn.XLOOKUP($BE$18,$GB$61:$GZ$61,GB78:GZ78) -> 976.41641 | HD78: =IF(HC78>HB78,1,0) -> 0 | HF78: Satotaso eri kertoimien arvoilla (toimenpiteitä tehty)
B79: =RAND() -> 0.68651608 | C79: =RAND() -> 0.62933727 | D79: =RAND() -> 0.55330052 | E79: =RAND() -> 0.55020853 | F79: =RAND() -> 0.040333578 | G79: =RAND() -> 0.31829371 | H79: =RAND() -> 0.48606305 | I79: =RAND() -> 0.12252785 | ... Z79: =RAND() -> 0.43347429 | AB79: =_xlfn.NORM.INV(B79,Satokasvi!$H$8,Satokasvi!$I$8)*_xlfn.BINOM.INV(1,(1-Satokasvi!$H$15),B79) -> 2621.4998 | AC79: =_xlfn.NORM.INV(C79,Satokasvi!$H$8,Satokasvi!$I$8)*_xlfn.BINOM.INV(1,(1-Satokasvi!$H$15),C79) -> 2582.5246 | AD79: =_xlfn.NORM.INV(D79,Satokasvi!$H$8,Satokasvi!$I$8)*_xlfn.BINOM.INV(1,(1-Satokasvi!$H$15),D79) -> 2533.5011 | AE79: =_xlfn.NORM.INV(E79,Satokasvi!$H$8,Satokasvi!$I$8)*_xlfn.BINOM.INV(1,(1-Satokasvi!$H$15),E79) -> 2531.5471 | AF79: =_xlfn.NORM.INV(F79,Satokasvi!$H$8,Satokasvi!$I$8)*_xlfn.BINOM.INV(1,(1-Satokasvi!$H$15),F79) -> 0 | AG79: =_xlfn.NORM.INV(G79,Satokasvi!$H$8,Satokasvi!$I$8)*_xlfn.BINOM.INV(1,(1-Satokasvi!$H$15),G79) -> 2381.8811 | AH79: =_xlfn.NORM.INV(H79,Satokasvi!$H$8,Satokasvi!$I$8)*_xlfn.BINOM.INV(1,(1-Satokasvi!$H$15),H79) -> 2491.2645 | AI79: =_xlfn.NORM.INV(I79,Satokasvi!$H$8,Satokasvi!$I$8)*_xlfn.BINOM.INV(1,(1-Satokasvi!$H$15),I79) -> 0 | ... AZ79: =_xlfn.NORM.INV(Z79,Satokasvi!$H$8,Satokasvi!$I$8)*_xlfn.BINOM.INV(1,(1-Satokasvi!$H$15),Z79) -> 2458.1161 | BB79: =IF(C$11="x",0,_xlfn.NORM.INV(B79,Satokasvi!$H$8,Satokasvi!$I$8)*IF(C$8="x",(1+Toimenpiteet!$C$7),1)*IF(C$9="x",(1+Toimenpiteet!$C$34),1)*(1+C$30)*_xlfn.BINOM.INV(1,(1-(Satokasvi!$H$15*(1+C$41))),B79)) -> 2621.4998 | BC79: =IF(D$11="x",0,_xlfn.NORM.INV(C79,Satokasvi!$H$8,Satokasvi!$I$8)*IF(D$8="x",(1+Toimenpiteet!$C$7),1)*IF(D$9="x",(1+Toimenpiteet!$C$34),1)*(1+D$30)*_xlfn.BINOM.INV(1,(1-(Satokasvi!$H$15*(1+D$41))),C79)) -> 2582.5246 | BD79: =IF(E$11="x",0,_xlfn.NORM.INV(D79,Satokasvi!$H$8,Satokasvi!$I$8)*IF(E$8="x",(1+Toimenpiteet!$C$7),1)*IF(E$9="x",(1+Toimenpiteet!$C$34),1)*(1+E$30)*_xlfn.BINOM.INV(1,(1-(Satokasvi!$H$15*(1+E$41))),D79)) -> 2533.5011 | BE79: =IF(F$11="x",0,_xlfn.NORM.INV(E79,Satokasvi!$H$8,Satokasvi!$I$8)*IF(F$8="x",(1+Toimenpiteet!$C$7),1)*IF(F$9="x",(1+Toimenpiteet!$C$34),1)*(1+F$30)*_xlfn.BINOM.INV(1,(1-(Satokasvi!$H$15*(1+F$41))),E79)) -> 2531.5471 | BF79: =IF(G$11="x",0,_xlfn.NORM.INV(F79,Satokasvi!$H$8,Satokasvi!$I$8)*IF(G$8="x",(1+Toimenpiteet!$C$7),1)*IF(G$9="x",(1+Toimenpiteet!$C$34),1)*(1+G$30)*_xlfn.BINOM.INV(1,(1-(Satokasvi!$H$15*(1+G$41))),F79)) -> 0 | BG79: =IF(H$11="x",0,_xlfn.NORM.INV(G79,Satokasvi!$H$8,Satokasvi!$I$8)*IF(H$8="x",(1+Toimenpiteet!$C$7),1)*IF(H$9="x",(1+Toimenpiteet!$C$34),1)*(1+H$30)*_xlfn.BINOM.INV(1,(1-(Satokasvi!$H$15*(1+H$41))),G79)) -> 2381.8811 | BH79: =IF(I$11="x",0,_xlfn.NORM.INV(H79,Satokasvi!$H$8,Satokasvi!$I$8)*IF(I$8="x",(1+Toimenpiteet!$C$7),1)*IF(I$9="x",(1+Toimenpiteet!$C$34),1)*(1+I$30)*_xlfn.BINOM.INV(1,(1-(Satokasvi!$H$15*(1+I$41))),H79)) -> 2491.2645 | BI79: =IF(J$11="x",0,_xlfn.NORM.INV(I79,Satokasvi!$H$8,Satokasvi!$I$8)*IF(J$8="x",(1+Toimenpiteet!$C$7),1)*IF(J$9="x",(1+Toimenpiteet!$C$34),1)*(1+J$30)*_xlfn.BINOM.INV(1,(1-(Satokasvi!$H$15*(1+J$41))),I79)) -> 0 | ... BZ79: =IF(AA$11="x",0,_xlfn.NORM.INV(Z79,Satokasvi!$H$8,Satokasvi!$I$8)*IF(AA$8="x",(1+Toimenpiteet!$C$7),1)*IF(AA$9="x",(1+Toimenpiteet!$C$34),1)*(1+AA$30)*_xlfn.BINOM.INV(1,(1-(Satokasvi!$H$15*(1+AA$41))),Z79)) -> 2458.1161 | CB79: =_xlfn.NORM.INV(RAND(),Satokasvi!$H$13,Satokasvi!$I$13) -> 219.70056 | CC79: =_xlfn.NORM.INV(RAND(),Satokasvi!$H$13,Satokasvi!$I$13) -> 219.36206 | CD79: =_xlfn.NORM.INV(RAND(),Satokasvi!$H$13,Satokasvi!$I$13) -> 192.94195 | CE79: =_xlfn.NORM.INV(RAND(),Satokasvi!$H$13,Satokasvi!$I$13) -> 178.83578 | CF79: =_xlfn.NORM.INV(RAND(),Satokasvi!$H$13,Satokasvi!$I$13) -> 157.16215 | CG79: =_xlfn.NORM.INV(RAND(),Satokasvi!$H$13,Satokasvi!$I$13) -> 155.19725 | CH79: =_xlfn.NORM.INV(RAND(),Satokasvi!$H$13,Satokasvi!$I$13) -> 294.31269 | CI79: =_xlfn.NORM.INV(RAND(),Satokasvi!$H$13,Satokasvi!$I$13) -> 165.57739 | ... CZ79: =_xlfn.NORM.INV(RAND(),Satokasvi!$H$13,Satokasvi!$I$13) -> 270.41255 | DB79: =(AB79*(CB79/1000)+(Satokasvi!$E$28-Satokasvi!$E$7))/(1+$C$13)^DB$61 -> 301.88831 | DC79: =(AC79*(CC79/1000)+(Satokasvi!$E$28-Satokasvi!$E$7))/(1+$C$13)^DC$61 -> 284.20014 | DD79: =(AD79*(CD79/1000)+(Satokasvi!$E$28-Satokasvi!$E$7))/(1+$C$13)^DD$61 -> 204.82577 | DE79: =(AE79*(CE79/1000)+(Satokasvi!$E$28-Satokasvi!$E$7))/(1+$C$13)^DE$61 -> 166.79674 | DF79: =(AF79*(CF79/1000)+(Satokasvi!$E$28-Satokasvi!$E$7))/(1+$C$13)^DF$61 -> -228.59133 | DG79: =(AG79*(CG79/1000)+(Satokasvi!$E$28-Satokasvi!$E$7))/(1+$C$13)^DG$61 -> 87.652269 | DH79: =(AH79*(CH79/1000)+(Satokasvi!$E$28-Satokasvi!$E$7))/(1+$C$13)^DH$61 -> 380.69821 | DI79: =(AI79*(CI79/1000)+(Satokasvi!$E$28-Satokasvi!$E$7))/(1+$C$13)^DI$61 -> -209.19345 | ... DZ79: =(AZ79*(CZ79/1000)+(Satokasvi!$E$28-Satokasvi!$E$7))/(1+$C$13)^DZ$61 -> 190.90154 | EB79: =IF(C$11="x",Toimenpiteet!$E$115,BB79*(CB79/1000)+(Satokasvi!$E$28-Satokasvi!$E$7)+IF(C$8="x",Toimenpiteet!$E$29,0)+IF(C$9="x",Toimenpiteet!$E$60,0)+IF(C$10="x",Toimenpiteet!$E$88,0))/(1+$C$13)^EB$61 -> 301.88831 | EC79: =IF(D$11="x",Toimenpiteet!$E$115,BC79*(CC79/1000)+(Satokasvi!$E$28-Satokasvi!$E$7)+IF(D$8="x",Toimenpiteet!$E$29,0)+IF(D$9="x",Toimenpiteet!$E$60,0)+IF(D$10="x",Toimenpiteet!$E$88,0))/(1+$C$13)^EC$61 -> 284.20014 | ED79: =IF(E$11="x",Toimenpiteet!$E$115,BD79*(CD79/1000)+(Satokasvi!$E$28-Satokasvi!$E$7)+IF(E$8="x",Toimenpiteet!$E$29,0)+IF(E$9="x",Toimenpiteet!$E$60,0)+IF(E$10="x",Toimenpiteet!$E$88,0))/(1+$C$13)^ED$61 -> 204.82577 | EE79: =IF(F$11="x",Toimenpiteet!$E$115,BE79*(CE79/1000)+(Satokasvi!$E$28-Satokasvi!$E$7)+IF(F$8="x",Toimenpiteet!$E$29,0)+IF(F$9="x",Toimenpiteet!$E$60,0)+IF(F$10="x",Toimenpiteet!$E$88,0))/(1+$C$13)^EE$61 -> 166.79674 | EF79: =IF(G$11="x",Toimenpiteet!$E$115,BF79*(CF79/1000)+(Satokasvi!$E$28-Satokasvi!$E$7)+IF(G$8="x",Toimenpiteet!$E$29,0)+IF(G$9="x",Toimenpiteet!$E$60,0)+IF(G$10="x",Toimenpiteet!$E$88,0))/(1+$C$13)^EF$61 -> -228.59133 | EG79: =IF(H$11="x",Toimenpiteet!$E$115,BG79*(CG79/1000)+(Satokasvi!$E$28-Satokasvi!$E$7)+IF(H$8="x",Toimenpiteet!$E$29,0)+IF(H$9="x",Toimenpiteet!$E$60,0)+IF(H$10="x",Toimenpiteet!$E$88,0))/(1+$C$13)^EG$61 -> 87.652269 | EH79: =IF(I$11="x",Toimenpiteet!$E$115,BH79*(CH79/1000)+(Satokasvi!$E$28-Satokasvi!$E$7)+IF(I$8="x",Toimenpiteet!$E$29,0)+IF(I$9="x",Toimenpiteet!$E$60,0)+IF(I$10="x",Toimenpiteet!$E$88,0))/(1+$C$13)^EH$61 -> 380.69821 | EI79: =IF(J$11="x",Toimenpiteet!$E$115,BI79*(CI79/1000)+(Satokasvi!$E$28-Satokasvi!$E$7)+IF(J$8="x",Toimenpiteet!$E$29,0)+IF(J$9="x",Toimenpiteet!$E$60,0)+IF(J$10="x",Toimenpiteet!$E$88,0))/(1+$C$13)^EI$61 -> -209.19345 | ... EZ79: =IF(AA$11="x",Toimenpiteet!$E$115,BZ79*(CZ79/1000)+(Satokasvi!$E$28-Satokasvi!$E$7)+IF(AA$8="x",Toimenpiteet!$E$29,0)+IF(AA$9="x",Toimenpiteet!$E$60,0)+IF(AA$10="x",Toimenpiteet!$E$88,0))/(1+$C$13)^EZ$61 -> 190.90154 | FB79: =DB79 -> 301.88831 | FC79: =FB79+DC79 -> 586.08845 | FD79: =FC79+DD79 -> 790.91422 | FE79: =FD79+DE79 -> 957.71097 | FF79: =FE79+DF79 -> 729.11964 | FG79: =FF79+DG79 -> 816.77191 | FH79: =FG79+DH79 -> 1197.4701 | FI79: =FH79+DI79 -> 988.27667 | FJ79: =FI79+DJ79 -> 868.02752 | ... FZ79: =FY79+DZ79 -> 2573.9606 | GB79: =EB79 -> 301.88831 | GC79: =GB79+EC79 -> 586.08845 | GD79: =GC79+ED79 -> 790.91422 | GE79: =GD79+EE79 -> 957.71097 | GF79: =GE79+EF79 -> 729.11964 | GG79: =GF79+EG79 -> 816.77191 | GH79: =GG79+EH79 -> 1197.4701 | GI79: =GH79+EI79 -> 988.27667 | GJ79: =GI79+EJ79 -> 868.02752 | ... GZ79: =GY79+EZ79 -> 2573.9606 | HB79: =_xlfn.XLOOKUP($BE$18,$FB$61:$FZ$61,FB79:FZ79) -> 729.11964 | HC79: =_xlfn.XLOOKUP($BE$18,$GB$61:$GZ$61,GB79:GZ79) -> 729.11964 | HD79: =IF(HC79>HB79,1,0) -> 0
B80: =RAND() -> 0.76025859 | C80: =RAND() -> 0.90463802 | D80: =RAND() -> 0.39466747 | E80: =RAND() -> 0.8214657 | F80: =RAND() -> 0.31419054 | G80: =RAND() -> 0.43453798 | H80: =RAND() -> 0.16478443 | I80: =RAND() -> 0.40345786 | ... Z80: =RAND() -> 0.95349245 | AB80: =_xlfn.NORM.INV(B80,Satokasvi!$H$8,Satokasvi!$I$8)*_xlfn.BINOM.INV(1,(1-Satokasvi!$H$15),B80) -> 2676.7837 | AC80: =_xlfn.NORM.INV(C80,Satokasvi!$H$8,Satokasvi!$I$8)*_xlfn.BINOM.INV(1,(1-Satokasvi!$H$15),C80) -> 2827.1101 | AD80: =_xlfn.NORM.INV(D80,Satokasvi!$H$8,Satokasvi!$I$8)*_xlfn.BINOM.INV(1,(1-Satokasvi!$H$15),D80) -> 2433.2064 | AE80: =_xlfn.NORM.INV(E80,Satokasvi!$H$8,Satokasvi!$I$8)*_xlfn.BINOM.INV(1,(1-Satokasvi!$H$15),E80) -> 2730.2413 | AF80: =_xlfn.NORM.INV(F80,Satokasvi!$H$8,Satokasvi!$I$8)*_xlfn.BINOM.INV(1,(1-Satokasvi!$H$15),F80) -> 2378.9983 | AG80: =_xlfn.NORM.INV(G80,Satokasvi!$H$8,Satokasvi!$I$8)*_xlfn.BINOM.INV(1,(1-Satokasvi!$H$15),G80) -> 2458.7919 | AH80: =_xlfn.NORM.INV(H80,Satokasvi!$H$8,Satokasvi!$I$8)*_xlfn.BINOM.INV(1,(1-Satokasvi!$H$15),H80) -> 0 | AI80: =_xlfn.NORM.INV(I80,Satokasvi!$H$8,Satokasvi!$I$8)*_xlfn.BINOM.INV(1,(1-Satokasvi!$H$15),I80) -> 2438.8983 | ... AZ80: =_xlfn.NORM.INV(Z80,Satokasvi!$H$8,Satokasvi!$I$8)*_xlfn.BINOM.INV(1,(1-Satokasvi!$H$15),Z80) -> 2919.9258 | BB80: =IF(C$11="x",0,_xlfn.NORM.INV(B80,Satokasvi!$H$8,Satokasvi!$I$8)*IF(C$8="x",(1+Toimenpiteet!$C$7),1)*IF(C$9="x",(1+Toimenpiteet!$C$34),1)*(1+C$30)*_xlfn.BINOM.INV(1,(1-(Satokasvi!$H$15*(1+C$41))),B80)) -> 2676.7837 | BC80: =IF(D$11="x",0,_xlfn.NORM.INV(C80,Satokasvi!$H$8,Satokasvi!$I$8)*IF(D$8="x",(1+Toimenpiteet!$C$7),1)*IF(D$9="x",(1+Toimenpiteet!$C$34),1)*(1+D$30)*_xlfn.BINOM.INV(1,(1-(Satokasvi!$H$15*(1+D$41))),C80)) -> 2827.1101 | BD80: =IF(E$11="x",0,_xlfn.NORM.INV(D80,Satokasvi!$H$8,Satokasvi!$I$8)*IF(E$8="x",(1+Toimenpiteet!$C$7),1)*IF(E$9="x",(1+Toimenpiteet!$C$34),1)*(1+E$30)*_xlfn.BINOM.INV(1,(1-(Satokasvi!$H$15*(1+E$41))),D80)) -> 2433.2064 | BE80: =IF(F$11="x",0,_xlfn.NORM.INV(E80,Satokasvi!$H$8,Satokasvi!$I$8)*IF(F$8="x",(1+Toimenpiteet!$C$7),1)*IF(F$9="x",(1+Toimenpiteet!$C$34),1)*(1+F$30)*_xlfn.BINOM.INV(1,(1-(Satokasvi!$H$15*(1+F$41))),E80)) -> 2730.2413 | BF80: =IF(G$11="x",0,_xlfn.NORM.INV(F80,Satokasvi!$H$8,Satokasvi!$I$8)*IF(G$8="x",(1+Toimenpiteet!$C$7),1)*IF(G$9="x",(1+Toimenpiteet!$C$34),1)*(1+G$30)*_xlfn.BINOM.INV(1,(1-(Satokasvi!$H$15*(1+G$41))),F80)) -> 2378.9983 | BG80: =IF(H$11="x",0,_xlfn.NORM.INV(G80,Satokasvi!$H$8,Satokasvi!$I$8)*IF(H$8="x",(1+Toimenpiteet!$C$7),1)*IF(H$9="x",(1+Toimenpiteet!$C$34),1)*(1+H$30)*_xlfn.BINOM.INV(1,(1-(Satokasvi!$H$15*(1+H$41))),G80)) -> 2458.7919 | BH80: =IF(I$11="x",0,_xlfn.NORM.INV(H80,Satokasvi!$H$8,Satokasvi!$I$8)*IF(I$8="x",(1+Toimenpiteet!$C$7),1)*IF(I$9="x",(1+Toimenpiteet!$C$34),1)*(1+I$30)*_xlfn.BINOM.INV(1,(1-(Satokasvi!$H$15*(1+I$41))),H80)) -> 0 | BI80: =IF(J$11="x",0,_xlfn.NORM.INV(I80,Satokasvi!$H$8,Satokasvi!$I$8)*IF(J$8="x",(1+Toimenpiteet!$C$7),1)*IF(J$9="x",(1+Toimenpiteet!$C$34),1)*(1+J$30)*_xlfn.BINOM.INV(1,(1-(Satokasvi!$H$15*(1+J$41))),I80)) -> 2438.8983 | ... BZ80: =IF(AA$11="x",0,_xlfn.NORM.INV(Z80,Satokasvi!$H$8,Satokasvi!$I$8)*IF(AA$8="x",(1+Toimenpiteet!$C$7),1)*IF(AA$9="x",(1+Toimenpiteet!$C$34),1)*(1+AA$30)*_xlfn.BINOM.INV(1,(1-(Satokasvi!$H$15*(1+AA$41))),Z80)) -> 2919.9258 | CB80: =_xlfn.NORM.INV(RAND(),Satokasvi!$H$13,Satokasvi!$I$13) -> 191.83993 | CC80: =_xlfn.NORM.INV(RAND(),Satokasvi!$H$13,Satokasvi!$I$13) -> 233.72216 | CD80: =_xlfn.NORM.INV(RAND(),Satokasvi!$H$13,Satokasvi!$I$13) -> 196.05521 | CE80: =_xlfn.NORM.INV(RAND(),Satokasvi!$H$13,Satokasvi!$I$13) -> 197.72266 | CF80: =_xlfn.NORM.INV(RAND(),Satokasvi!$H$13,Satokasvi!$I$13) -> 218.06828 | CG80: =_xlfn.NORM.INV(RAND(),Satokasvi!$H$13,Satokasvi!$I$13) -> 182.96753 | CH80: =_xlfn.NORM.INV(RAND(),Satokasvi!$H$13,Satokasvi!$I$13) -> 135.18005 | CI80: =_xlfn.NORM.INV(RAND(),Satokasvi!$H$13,Satokasvi!$I$13) -> 149.60892 | ... CZ80: =_xlfn.NORM.INV(RAND(),Satokasvi!$H$13,Satokasvi!$I$13) -> 238.67554 | DB80: =(AB80*(CB80/1000)+(Satokasvi!$E$28-Satokasvi!$E$7))/(1+$C$13)^DB$61 -> 241.27573 | DC80: =(AC80*(CC80/1000)+(Satokasvi!$E$28-Satokasvi!$E$7))/(1+$C$13)^DC$61 -> 373.04014 | DD80: =(AD80*(CD80/1000)+(Satokasvi!$E$28-Satokasvi!$E$7))/(1+$C$13)^DD$61 -> 194.04919 | DE80: =(AE80*(CE80/1000)+(Satokasvi!$E$28-Satokasvi!$E$7))/(1+$C$13)^DE$61 -> 244.1834 | DF80: =(AF80*(CF80/1000)+(Satokasvi!$E$28-Satokasvi!$E$7))/(1+$C$13)^DF$61 -> 218.91637 | DG80: =(AG80*(CG80/1000)+(Satokasvi!$E$28-Satokasvi!$E$7))/(1+$C$13)^DG$61 -> 154.83333 | DH80: =(AH80*(CH80/1000)+(Satokasvi!$E$28-Satokasvi!$E$7))/(1+$C$13)^DH$61 -> -215.46925 | DI80: =(AI80*(CI80/1000)+(Satokasvi!$E$28-Satokasvi!$E$7))/(1+$C$13)^DI$61 -> 78.846939 | ... DZ80: =(AZ80*(CZ80/1000)+(Satokasvi!$E$28-Satokasvi!$E$7))/(1+$C$13)^DZ$61 -> 206.28494 | EB80: =IF(C$11="x",Toimenpiteet!$E$115,BB80*(CB80/1000)+(Satokasvi!$E$28-Satokasvi!$E$7)+IF(C$8="x",Toimenpiteet!$E$29,0)+IF(C$9="x",Toimenpiteet!$E$60,0)+IF(C$10="x",Toimenpiteet!$E$88,0))/(1+$C$13)^EB$61 -> 241.27573 | EC80: =IF(D$11="x",Toimenpiteet!$E$115,BC80*(CC80/1000)+(Satokasvi!$E$28-Satokasvi!$E$7)+IF(D$8="x",Toimenpiteet!$E$29,0)+IF(D$9="x",Toimenpiteet!$E$60,0)+IF(D$10="x",Toimenpiteet!$E$88,0))/(1+$C$13)^EC$61 -> 373.04014 | ED80: =IF(E$11="x",Toimenpiteet!$E$115,BD80*(CD80/1000)+(Satokasvi!$E$28-Satokasvi!$E$7)+IF(E$8="x",Toimenpiteet!$E$29,0)+IF(E$9="x",Toimenpiteet!$E$60,0)+IF(E$10="x",Toimenpiteet!$E$88,0))/(1+$C$13)^ED$61 -> 194.04919 | EE80: =IF(F$11="x",Toimenpiteet!$E$115,BE80*(CE80/1000)+(Satokasvi!$E$28-Satokasvi!$E$7)+IF(F$8="x",Toimenpiteet!$E$29,0)+IF(F$9="x",Toimenpiteet!$E$60,0)+IF(F$10="x",Toimenpiteet!$E$88,0))/(1+$C$13)^EE$61 -> 244.1834 | EF80: =IF(G$11="x",Toimenpiteet!$E$115,BF80*(CF80/1000)+(Satokasvi!$E$28-Satokasvi!$E$7)+IF(G$8="x",Toimenpiteet!$E$29,0)+IF(G$9="x",Toimenpiteet!$E$60,0)+IF(G$10="x",Toimenpiteet!$E$88,0))/(1+$C$13)^EF$61 -> 218.91637 | EG80: =IF(H$11="x",Toimenpiteet!$E$115,BG80*(CG80/1000)+(Satokasvi!$E$28-Satokasvi!$E$7)+IF(H$8="x",Toimenpiteet!$E$29,0)+IF(H$9="x",Toimenpiteet!$E$60,0)+IF(H$10="x",Toimenpiteet!$E$88,0))/(1+$C$13)^EG$61 -> 154.83333 | EH80: =IF(I$11="x",Toimenpiteet!$E$115,BH80*(CH80/1000)+(Satokasvi!$E$28-Satokasvi!$E$7)+IF(I$8="x",Toimenpiteet!$E$29,0)+IF(I$9="x",Toimenpiteet!$E$60,0)+IF(I$10="x",Toimenpiteet!$E$88,0))/(1+$C$13)^EH$61 -> -215.46925 | EI80: =IF(J$11="x",Toimenpiteet!$E$115,BI80*(CI80/1000)+(Satokasvi!$E$28-Satokasvi!$E$7)+IF(J$8="x",Toimenpiteet!$E$29,0)+IF(J$9="x",Toimenpiteet!$E$60,0)+IF(J$10="x",Toimenpiteet!$E$88,0))/(1+$C$13)^EI$61 -> 78.846939 | ... EZ80: =IF(AA$11="x",Toimenpiteet!$E$115,BZ80*(CZ80/1000)+(Satokasvi!$E$28-Satokasvi!$E$7)+IF(AA$8="x",Toimenpiteet!$E$29,0)+IF(AA$9="x",Toimenpiteet!$E$60,0)+IF(AA$10="x",Toimenpiteet!$E$88,0))/(1+$C$13)^EZ$61 -> 206.28494 | FB80: =DB80 -> 241.27573 | FC80: =FB80+DC80 -> 614.31587 | FD80: =FC80+DD80 -> 808.36506 | FE80: =FD80+DE80 -> 1052.5485 | FF80: =FE80+DF80 -> 1271.4648 | FG80: =FF80+DG80 -> 1426.2982 | FH80: =FG80+DH80 -> 1210.8289 | FI80: =FH80+DI80 -> 1289.6759 | FJ80: =FI80+DJ80 -> 1086.5754 | ... FZ80: =FY80+DZ80 -> 2512.9773 | GB80: =EB80 -> 241.27573 | GC80: =GB80+EC80 -> 614.31587 | GD80: =GC80+ED80 -> 808.36506 | GE80: =GD80+EE80 -> 1052.5485 | GF80: =GE80+EF80 -> 1271.4648 | GG80: =GF80+EG80 -> 1426.2982 | GH80: =GG80+EH80 -> 1210.8289 | GI80: =GH80+EI80 -> 1289.6759 | GJ80: =GI80+EJ80 -> 1086.5754 | ... GZ80: =GY80+EZ80 -> 2512.9773 | HB80: =_xlfn.XLOOKUP($BE$18,$FB$61:$FZ$61,FB80:FZ80) -> 1271.4648 | HC80: =_xlfn.XLOOKUP($BE$18,$GB$61:$GZ$61,GB80:GZ80) -> 1271.4648 | HD80: =IF(HC80>HB80,1,0) -> 0 | HF80: =$BI$5 -> -0.5 | HG80: =$HG$67 -> -0.1 | HH80: =IF(C$11="x",0,Satokasvi!$H$6*(1+$HF80)*(1+_xlfn.XLOOKUP($HG80,$HG$67:$HG$76,HH$67:HH$76))) -> 1237.5 | HI80: =IF(D$11="x",0,Satokasvi!$H$6*(1+$HF80)*(1+_xlfn.XLOOKUP($HG80,$HG$67:$HG$76,HI$67:HI$76))) -> 1225 | HJ80: =IF(E$11="x",0,Satokasvi!$H$6*(1+$HF80)*(1+_xlfn.XLOOKUP($HG80,$HG$67:$HG$76,HJ$67:HJ$76))) -> 1212.5 | HK80: =IF(F$11="x",0,Satokasvi!$H$6*(1+$HF80)*(1+_xlfn.XLOOKUP($HG80,$HG$67:$HG$76,HK$67:HK$76))) -> 1200 | HL80: =IF(G$11="x",0,Satokasvi!$H$6*(1+$HF80)*(1+_xlfn.XLOOKUP($HG80,$HG$67:$HG$76,HL$67:HL$76))) -> 1187.5 | HM80: =IF(H$11="x",0,Satokasvi!$H$6*(1+$HF80)*(1+_xlfn.XLOOKUP($HG80,$HG$67:$HG$76,HM$67:HM$76))) -> 1175 | HN80: =IF(I$11="x",0,Satokasvi!$H$6*(1+$HF80)*(1+_xlfn.XLOOKUP($HG80,$HG$67:$HG$76,HN$67:HN$76))) -> 1162.5 | HO80: =IF(J$11="x",0,Satokasvi!$H$6*(1+$HF80)*(1+_xlfn.XLOOKUP($HG80,$HG$67:$HG$76,HO$67:HO$76))) -> 1150 | ... IF80: =IF(AA$11="x",0,Satokasvi!$H$6*(1+$HF80)*(1+_xlfn.XLOOKUP($HG80,$HG$67:$HG$76,IF$67:IF$76))) -> 1125
